Workbook

Sheet LOTE A TODO
A2: DENOMINACION | B2: DESCRIPCIÓN | C2: ESPECIFICACIONES | D2: UD | E2: UNIDADES | F2: PRECIO | G2: PRECIO TOTAL
A3: Centro Operaciones | G3: =G5 -> 203534.9
D5: mes | E5: 12 | F5: 16961.242 | G5: =E5*F5 -> 203534.9
A6: Mano de obra | G6: =SUM(G8:G15) -> 637110.75
A8: ENGARGADO | D8: H | E8: 1790 | F8: 28.215648 | G8: =E8*F8 -> 50506.01
A9: ENCARGADO HORA EXTRA | D9: H | E9: 50 | F9: 33.858778 | G9: =E9*F9 -> 1692.9389
A10: OFICIAL 1ª | D10: H | E10: 5370 | F10: 25.394083 | G10: =E10*F10 -> 136366.23
A11: OFICIAL 1ª HORA EXTRA | D11: H | E11: 367 | F11: 28.215648 | G11: =E11*F11 -> 10355.143
A12: OFICIAL 2ª | D12: H | E12: 17900 | F12: 21.552518 | G12: =E12*F12 -> 385790.08
A13: OFICIAL 2ª HORA EXTRA | D13: H | E13: 820 | F13: 23.354083 | G13: =E13*F13 -> 19150.348
A14: RETEN DIA LABORABLE | D14: H | E14: 460 | F14: 20 | G14: =E14*F14 -> 9200
A15: RETEN DIA FESTIVO | D15: H | E15: 370 | F15: 65 | G15: =E15*F15 -> 24050
A16: MAQUINARIA | G16: =SUM(G18:G56) -> 316158.6
A18: CAMIÓN VOLQUETE 2 EJES 10 TM O 6 M3 | B18: CAMIÓN VOLQUETE 2 EJES 10 TM O 6 M3,incluye conductor. | D18: H | E18: 20 | F18: 30 | G18: =E18*F18 -> 600
A19: CAMION DOS EJES DE 2.8 A 4.5 TM. TIPO NISSAN CABSTAR O SIMILAR | D19: H | E19: 1336 | F19: 9 | G19: =E19*F19 -> 12024
A20: CAMIÓN GÓNDOLA PARA TRANSPORTE DE MAQUINARIA | B20: CAMIÓN GÓNDOLA PARA TRANSPORTE DE MAQUINARIA,incluye conductor. | D20: Km | E20: 3000 | F20: 1.5 | G20: =E20*F20 -> 4500
A21: VEHÍCULO 4 X 4 TIPO PICK-UP EQUIPADA (NISSAN PICK-UP) | D21: H | E21: 1700 | F21: 7 | G21: =E21*F21 -> 11900
A22: FURGONETA MEDIA EQUIPADA(TIPO BERLINGO. KANGOO. ETC) | D22: H | E22: 9727 | F22: 5 | G22: =E22*F22 -> 48635
A23: DUMPER 1500 KG CON CAPACIDAD SUPERIOR A 0.60 M3 | D23: H | E23: 12 | F23: 9 | G23: =E23*F23 -> 108
A24: DUMPER 6000KG | D24: H | E24: 4 | F24: 17 | G24: =E24*F24 -> 68
A25: HORMIGONERA DE 250 LITROS | D25: H | E25: 685 | F25: 2 | G25: =E25*F25 -> 1370
A26: HORMIGONERA ELECTRICA 80 LITROS | D26: H | E26: 5 | F26: 15 | G26: =E26*F26 -> 75
A27: MÁQUINA PARA CORTAR ASFALTO O BALDOSA O ROTAFLEX | D27: H | E27: 607 | F27: 3 | G27: =E27*F27 -> 1821
A28: TALADRO ELECTRICO PERCUSION, ATORNILLADOR ETC | D28: H | E28: 20 | F28: 1.08 | G28: =E28*F28 -> 21.6
A29: EQUIPO DE ILUMINACIÓN | D29: H | E29: 95 | F29: 3 | G29: =E29*F29 -> 285
A30: PAREJA DE SEMÁFOROS Y BATERÍAS | D30: DIA | E30: 49 | F30: 30 | G30: =E30*F30 -> 1470
A31: MINIRETROEXCAVADORA DE HASTA 4000 KG CON CAZO Y MARTILLO HIDRAULICO Y CAMION DE TRASPORTE | B31: MINIRETROEXCAVADORA DE HASTA 4000 KG CON CAZO Y MARTILLO HIDRAULICO Y CAMION DE TRASPORTE. Incluido conductor | D31: H | E31: 4450 | F31: 40 | G31: =E31*F31 -> 178000
A32: RETROEXCAVADORA DE ORUGAS DE 6 TN-S O SIMILAR, CON CAZO Y MARTILLO HIDRAULICO | B32: RETROEXCAVADORA DE ORUGAS DE 6 TN-S O SIMILAR, CON CAZO Y MARTILLO HIDRAULICO inlcuido conductor NO incluye transporte | D32: H | E32: 8 | F32: 60 | G32: =E32*F32 -> 480
A33: RETROEXCAVADORA DE 8000 KG CON CAZO Y MARTILLO HIDRAULICO | B33: RETROEXCAVADORA DE 8000 KG CON CAZO Y MARTILLO HIDRAULICO. inlcuido conductor NO incluye transporte | D33: H | E33: 20 | F33: 75 | G33: =E33*F33 -> 1500
A34: RETROEXCAVADORA DE 12000KG CON CAZO Y MARTILLO HIDRAULICO | B34: RETROEXCAVADORA DE 12000KG CON CAZO Y MARTILLO HIDRAULICO inlcuido conductor NO incluye transporte | D34: H | E34: 70 | F34: 85 | G34: =E34*F34 -> 5950
A35: RETROEXCAVADORA DE ORUGAS DE 14 TN CAZO Y MARTILLO HIDRAULICO | B35: RETROEXCAVADORA DE ORUGAS DE 14 TN CAZO Y MARTILLO HIDRAULICO. inlcuido conductor NO incluye transporte | D35: H | E35: 8 | F35: 95 | G35: =E35*F35 -> 760
A36: RODILLO COMPACTADOR RANA | D36: H | E36: 80 | F36: 8 | G36: =E36*F36 -> 640
A37: RODILLO VIBRATORIO COMPACTADOR 1800 KG | D37: H | E37: 20 | F37: 10 | G37: =E37*F37 -> 200
A38: RODILLO TAMDEM 3500KG | D38: H | E38: 20 | F38: 25 | G38: =E38*F38 -> 500
A39: PISÓN PARA COMPACTACIÓN DE ÁRIDOS) | D39: H | E39: 100 | F39: 2.5 | G39: =E39*F39 -> 250
A40: GENERADOR DE ELECTRICIDAD | D40: H | E40: 2998 | F40: 9 | G40: =E40*F40 -> 26982
A41: BOMBA DE ACHIQUE SUMERGIBLE | D41: H | E41: 852 | F41: 5 | G41: =E41*F41 -> 4260
A42: MARTILLO ELÉCTRICO | D42: H | E42: 750 | F42: 5 | G42: =E42*F42 -> 3750
A43: MAQUINA PARA EJECUCIÓN DE ELECTROSOLDADURAS EN PE | D43: H | E43: 12.5 | F43: 5 | G43: =E43*F43 -> 62.5
A44: DESBROZADORA | D44: H | E44: 342 | F44: 2 | G44: =E44*F44 -> 684
A45: MOTOSIERRA | D45: H | E45: 25 | F45: 1.5 | G45: =E45*F45 -> 37.5
A46: HIDROLIMPIADORA | D46: H | E46: 10 | F46: 1.2 | G46: =E46*F46 -> 12
A47: MAQUINA DE TOMA EN CARGA UNIVERSAL PARA DN 25MM HASTA DN 63MM | D47: H | E47: 25 | F47: 25 | G47: =E47*F47 -> 625
... A50: BOMBA DE ACHIQUE TRIFÁSICA 10KW CON ARRANQUE DIRECTO Y 30 M DE TUBERÍA 6" | D50: H | E50: 8 | F50: 5 | G50: =E50*F50 -> 40
A51: CAMIÓN GRÚA | B51: CAMIÓN GRÚA, incluye conductor | D51: H | E51: 8 | F51: 50 | G51: =E51*F51 -> 400
A52: CAMION CISTERNA | B52: CAMION CISTERNA, incluye conductor | D52: H | E52: 8 | F52: 80 | G52: =E52*F52 -> 640
A53: EQUIPO DE LIMPIEZA CON AGUA A ALTA PRESIÓN (CAMIÓN CHUPON) | B53: EQUIPO DE LIMPIEZA CON AGUA A ALTA PRESIÓN (CAMIÓN CHUPON), incluye conductor y ayudante. | D53: H | E53: 1 | F53: 140 | G53: =E53*F53 -> 140
A54: PLATAFORMA ANDAMIO 2MTS CON ACCESORIOS PARA MONTAJE | D54: DIA | E54: 1 | F54: 8 | G54: =E54*F54 -> 8
A55: EQUIPO DE SOLDADURA ELECTRICA CON SOLDADDOR INCLUIDO | D55: H | E55: 22 | F55: 35 | G55: =E55*F55 -> 770
A56: CONTENEDOR 6M3 | D56: DIA | E56: 30 | F56: 200 | G56: =E56*F56 -> 6000
A57: MATERIALES | G57: =SUM(G60:G1109) -> 281313.31
A60: TUBERÍA DN 20 PE 100 SDR 11 | B60: Tubo de polietileno PE 100, de color negro con bandas de color azul, de 20 mm de diámetro exterior y 2 mm de espesor, SDR11, PN=16 atm, incluyendo pruebas de presión y estanqueidad, según UNE-EN 12201-2. | C60: MASA_ Tuberia-PE-100 o equivalente | D60: ml | E60: 200 | F60: 0.351 | G60: =E60*F60 -> 70.2
A61: TUBERÍA DN 25 PE 100 SDR 11 | B61: Tubo de polietileno PE 100, de color negro con bandas de color azul, de 25 mm de diámetro exterior y 2,3 mm de espesor, SDR11, PN=16 atm, incluyendo pruebas de presión y estanqueidad, según UNE-EN 12201-2. | C61: MASA_ Tuberia-PE-100 o equivalente | D61: ml | E61: 150 | F61: 0.441 | G61: =E61*F61 -> 66.15
A62: TUBERÍA DN 32 PE 100 SDR 11 | B62: Tubo de polietileno PE 100, de color negro con bandas de color azul, de 32 mm de diámetro exterior y 3 mm de espesor, SDR11, PN=16 atm, incluyendo pruebas de presión y estanqueidad, según UNE-EN 12201-2. | C62: MASA_ Tuberia-PE-100 o equivalente | D62: ml | E62: 150 | F62: 0.657 | G62: =E62*F62 -> 98.55
A63: TUBERÍA DN 40 PE 100 SDR 11 | B63: Tubo de polietileno PE 100, de color negro con bandas de color azul, de 40 mm de diámetro exterior y 3,7 mm de espesor, SDR11, PN=16 atm, incluyendo pruebas de presión y estanqueidad, según UNE-EN 12201-2. | C63: MASA_ Tuberia-PE-100 o equivalente | D63: ml | E63: 120 | F63: 1.098 | G63: =E63*F63 -> 131.76
A64: TUBERÍA DN 50 PE 100 SDR 11 | B64: Tubo de polietileno PE 100, de color negro con bandas de color azul, de 50 mm de diámetro exterior y 4,6 mm de espesor, SDR11, PN=16 atm, incluyendo pruebas de presión y estanqueidad, según UNE-EN 12201-2. | C64: MASA_ Tuberia-PE-100 o equivalente | D64: ml | E64: 131 | F64: 1.701 | G64: =E64*F64 -> 222.831
A65: TUBERÍA DN 63 PE 100 SDR 11 | B65: Tubo de polietileno PE 100, de color negro con bandas de color azul, de 63 mm de diámetro exterior y 5,8 mm de espesor, SDR11, PN=16 atm, incluyendo pruebas de presión y estanqueidad, según UNE-EN 12201-2. | C65: MASA_ Tuberia-PE-100 o equivalente | D65: ml | E65: 250 | F65: 2.574 | G65: =E65*F65 -> 643.5
A66: TUBERÍA DN 80 PE 100 SDR 11 | B66: Tubo de polietileno PE 100, de color negro con bandas de color azul, de 80 mm de diámetro exterior y 75 mm de espesor, SDR11, PN=16 atm, incluyendo pruebas de presión y estanqueidad, según UNE-EN 12201-2. | C66: MASA_ Tuberia-PE-100 o equivalente | D66: ml | E66: 50 | F66: 3.519 | G66: =E66*F66 -> 175.95
A67: TUBERÍA DN 110 PE 100 SDR 11 | B67: Tubo de polietileno PE 100, de color negro con bandas de color azul, de 110 mm de diámetro exterior y 10 mm de espesor, SDR11, PN=16 atm, incluyendo pruebas de presión y estanqueidad, según UNE-EN 12201-2. | C67: MASA_ Tuberia-PE-100 o equivalente | D67: ml | E67: 20 | F67: 7.335 | G67: =E67*F67 -> 146.7
A68: TUBERÍA DN 125 PE 100 SDR 11 | B68: Tubo de polietileno PE 100, de color negro con bandas de color azul, de 125 mm de diámetro exterior y 11,4 mm de espesor, SDR11, PN=16 atm, incluyendo pruebas de presión y estanqueidad, según UNE-EN 12201-2. | C68: MASA_ Tuberia-PE-100 o equivalente | D68: ml | E68: 10 | F68: 9.225 | G68: =E68*F68 -> 92.25
A69: TUBERÍA DN 150 PE 100 SDR 11 | B69: Tubo de polietileno PE 100, de color negro con bandas de color azul, de 150 mm de diámetro exterior y 13,4 mm de espesor, SDR11, PN=16 atm, incluyendo pruebas de presión y estanqueidad, según UNE-EN 12201-2. | C69: MASA_ Tuberia-PE-100 o equivalente | D69: ml | E69: 10 | F69: 15.138 | G69: =E69*F69 -> 151.38
A70: TUBERÍA DN 200 PE 100 SDR 11 | B70: Tubo de polietileno PE 100, de color negro con bandas de color azul, de 200 mm de diámetro exterior y 18,2 mm de espesor, SDR11, PN=16 atm, incluyendo pruebas de presión y estanqueidad, según UNE-EN 12201-2. | C70: MASA_ Tuberia-PE-100 o equivalente | D70: ml | E70: 10 | F70: 23.616 | G70: =E70*F70 -> 236.16
A71: TUBERÍA DN 250 PE 100 SDR 11 | B71: Tubo de polietileno PE 100, de color negro con bandas de color azul, de 250 mm de diámetro exterior y 22,7 mm de espesor, SDR11, PN=16 atm, incluyendo pruebas de presión y estanqueidad, según UNE-EN 12201-2. | C71: MASA_ Tuberia-PE-100 o equivalente | D71: ml | E71: 1 | F71: 37.186 | G71: =E71*F71 -> 37.186
... A74: TUBERÍA DN 400 PE 100 SDR 11 | B74: Tubo de polietileno PE 100, de color negro con bandas de color azul, de 400 mm de diámetro exterior y 36,4 mm de espesor, SDR11, PN=16 atm, incluyendo pruebas de presión y estanqueidad, según UNE-EN 12201-2. | C74: MASA_ Tuberia-PE-100 o equivalente | D74: ml | E74: 1 | F74: 93.879 | G74: =E74*F74 -> 93.879
A77: CODOS 90º, DN-25, PN-16, PE 100 | B77: Codo 90° de polietileno, para unión a compresión, de 25 mm de diámetro nominal, SDR11, PN=16 atm, incluyendo pruebas de presión y estanqueidad, según UNE-EN 12201-3. | D77: ud | E77: 3 | F77: 3.618 | G77: =E77*F77 -> 10.854
A78: CODOS 90º, DN-32, PN-16, PE 100 | B78: Codo 90° de polietileno, para unión a compresión, de 32 mm de diámetro nominal, SDR11, PN=16 atm, incluyendo pruebas de presión y estanqueidad, según UNE-EN 12201-3. | D78: ud | E78: 2 | F78: 3.942 | G78: =E78*F78 -> 7.884
A79: CODOS 90º, DN-40. PN-16, PE 100 | B79: Codo 90° de polietileno, para unión a compresión, de 40 mm de diámetro nominal, SDR11, PN=16 atm, incluyendo pruebas de presión y estanqueidad, según UNE-EN 12201-3. | D79: ud | E79: 2 | F79: 5.004 | G79: =E79*F79 -> 10.008
A80: CODOS 90º, DN-50, PN-16, PE 100 | B80: Codo 90° de polietileno, para unión a compresión, de 50 mm de diámetro nominal, SDR11, PN=16 atm, incluyendo pruebas de presión y estanqueidad, según UNE-EN 12201-3. | D80: ud | E80: 2 | F80: 6.633 | G80: =E80*F80 -> 13.266
A81: CODOS 90º, DN-65, PN-16, PE 100 | B81: Codo 90° de polietileno, para unión a compresión, de 65 mm de diámetro nominal, SDR11, PN=16 atm, incluyendo pruebas de presión y estanqueidad, según UNE-EN 12201-3. | D81: ud | E81: 3 | F81: 12.042 | G81: =E81*F81 -> 36.126
A82: CODOS 90º, DN-80, PN-16, PE 100 | B82: Codo 90° de polietileno, para unión a compresión, de 80 mm de diámetro nominal, SDR11, PN=16 atm, incluyendo pruebas de presión y estanqueidad, según UNE-EN 12201-3. | D82: ud | E82: 2 | F82: 15.876 | G82: =E82*F82 -> 31.752
A83: CODOS 90º, DN-100, PN-16, PE 100 | B83: Codo 90° de polietileno, para unión a compresión, de 110 mm de diámetro nominal, SDR11, PN=16 atm, incluyendo pruebas de presión y estanqueidad, según UNE-EN 12201-3. | D83: ud | E83: 2 | F83: 18.387 | G83: =E83*F83 -> 36.774
A84: CODOS 90º, DN-125, PN-16, PE 100 | B84: Codo 90° de polietileno, para unión a compresión, de 125 mm de diámetro nominal, SDR11, PN=16 atm, incluyendo pruebas de presión y estanqueidad, según UNE-EN 12201-3. | D84: ud | E84: 2 | F84: 42.84 | G84: =E84*F84 -> 85.68
A85: CODOS 90º, DN-150, PN-16, PE 100 | B85: Codo 90° de polietileno, para unión a compresión, de 150 mm de diámetro nominal, SDR11, PN=16 atm, incluyendo pruebas de presión y estanqueidad, según UNE-EN 12201-3. | D85: ud | E85: 1 | F85: 50.472 | G85: =E85*F85 -> 50.472
A86: CODOS 90º, DN-200, PN-16, PE 100 | B86: Codo 90° de polietileno, para unión a compresión, de 200 mm de diámetro nominal, SDR11, PN=16 atm, incluyendo pruebas de presión y estanqueidad, según UNE-EN 12201-3. | D86: ud | E86: 1 | F86: 89.784 | G86: =E86*F86 -> 89.784
A87: CODOS 90º, DN-250, PN-16, PE 100 | B87: Codo 90° de polietileno, para unión a compresión, de 250 mm de diámetro nominal, SDR11, PN=16 atm, incluyendo pruebas de presión y estanqueidad, según UNE-EN 12201-3. | D87: ud | E87: 1 | F87: 191.385 | G87: =E87*F87 -> 191.385
A88: CODOS 90º, DN-300, PN-16, PE 100 | B88: Codo 90° de polietileno, para unión a compresión, de 300 mm de diámetro nominal, SDR11, PN=16 atm, incluyendo pruebas de presión y estanqueidad, según UNE-EN 12201-3. | D88: ud | E88: 1 | F88: 405.963 | G88: =E88*F88 -> 405.963
... A171: REDUCCIÓN CONCÉNTRICA DN 400x350 PE 100 SDR 11 | B171: Enlace con reducción, de polietileno, para unión a compresión, DN 400x350 PE 100, PN=16 atm, incluyendo pruebas de presión y estanqueidad, según UNE-EN 12201-3. | D171: ud | E171: 1 | F171: 510.363 | G171: =E171*F171 -> 510.363
A174: TUBERÍA DN 20 PE 100 RC SDR 11 | B174: Tubo de polietileno PE 100 RC, de color negro con bandas de color azul, de 20 mm de diámetro exterior y 2 mm de espesor, SDR11, PN=16 atm, incluyendo pruebas de presión y estanqueidad, según UNE-EN 12201-2. | C174: MASA_ Tuberia-PE-100-RC o equivalente | D174: ml | E174: 5 | F174: 0.4995 | G174: =E174*F174 -> 2.4975
A175: TUBERÍA DN 25 PE 100 RC SDR 11 | B175: Tubo de polietileno PE 100 RC, de color negro con bandas de color azul, de 25 mm de diámetro exterior y 2,3 mm de espesor, SDR11, PN=16 atm, incluyendo pruebas de presión y estanqueidad, según UNE-EN 12201-2. | C175: MASA_ Tuberia-PE-100-RC o equivalente | D175: ml | E175: 5 | F175: 0.6615 | G175: =E175*F175 -> 3.3075
A176: TUBERÍA DN 32 PE 100 RC SDR 11 | B176: Tubo de polietileno PE 100 RC, de color negro con bandas de color azul, de 32 mm de diámetro exterior y 3 mm de espesor, SDR11, PN=16 atm, incluyendo pruebas de presión y estanqueidad, según UNE-EN 12201-2. | C176: MASA_ Tuberia-PE-100-RC o equivalente | D176: ml | E176: 15 | F176: 0.9855 | G176: =E176*F176 -> 14.7825
A177: TUBERÍA DN 40 PE 100 RC SDR 11 | B177: Tubo de polietileno PE 100 RC, de color negro con bandas de color azul, de 40 mm de diámetro exterior y 3,7 mm de espesor, SDR11, PN=16 atm, incluyendo pruebas de presión y estanqueidad, según UNE-EN 12201-2. | C177: MASA_ Tuberia-PE-100-RC o equivalente | D177: ml | E177: 5 | F177: 1.6335 | G177: =E177*F177 -> 8.1675
A178: TUBERÍA DN 50 PE 100 RC SDR 11 | B178: Tubo de polietileno PE 100 RC, de color negro con bandas de color azul, de 50 mm de diámetro exterior y 4,6 mm de espesor, SDR11, PN=16 atm, incluyendo pruebas de presión y estanqueidad, según UNE-EN 12201-2. | C178: MASA_ Tuberia-PE-100-RC o equivalente | D178: ml | E178: 5 | F178: 2.5515 | G178: =E178*F178 -> 12.7575
A179: TUBERÍA DN 63 PE 100 RC SDR 11 | B179: Tubo de polietileno PE 100 RC, de color negro con bandas de color azul, de 63 mm de diámetro exterior y 5,8 mm de espesor, SDR11, PN=16 atm, incluyendo pruebas de presión y estanqueidad, según UNE-EN 12201-2. | C179: MASA_ Tuberia-PE-100-RC o equivalente | D179: ml | E179: 25 | F179: 3.861 | G179: =E179*F179 -> 96.525
A180: TUBERÍA DN 80 PE 100 RC SDR 11 | B180: Tubo de polietileno PE 100 RC, de color negro con bandas de color azul, de 80 mm de diámetro exterior y 75 mm de espesor, SDR11, PN=16 atm, incluyendo pruebas de presión y estanqueidad, según UNE-EN 12201-2. | C180: MASA_ Tuberia-PE-100-RC o equivalente | D180: ml | E180: 5 | F180: 5.2785 | G180: =E180*F180 -> 26.3925
A181: TUBERÍA DN 110 PE 100 RC SDR 11 | B181: Tubo de polietileno PE 100 RC, de color negro con bandas de color azul, de 110 mm de diámetro exterior y 10 mm de espesor, SDR11, PN=16 atm, incluyendo pruebas de presión y estanqueidad, según UNE-EN 12201-2. | C181: MASA_ Tuberia-PE-100-RC o equivalente | D181: ml | E181: 35 | F181: 11.0025 | G181: =E181*F181 -> 385.0875
A182: TUBERÍA DN 125 PE 100 RC SDR 11 | B182: Tubo de polietileno PE 100 RC, de color negro con bandas de color azul, de 125 mm de diámetro exterior y 11,4 mm de espesor, SDR11, PN=16 atm, incluyendo pruebas de presión y estanqueidad, según UNE-EN 12201-2. | C182: MASA_ Tuberia-PE-100-RC o equivalente | D182: ml | E182: 5 | F182: 13.8375 | G182: =E182*F182 -> 69.1875
A183: TUBERÍA DN 150 PE 100 RC SDR 11 | B183: Tubo de polietileno PE 100 RC, de color negro con bandas de color azul, de 150 mm de diámetro exterior y 13,4 mm de espesor, SDR11, PN=16 atm, incluyendo pruebas de presión y estanqueidad, según UNE-EN 12201-2. | C183: MASA_ Tuberia-PE-100-RC o equivalente | D183: ml | E183: 5 | F183: 22.707 | G183: =E183*F183 -> 113.535
A184: TUBERÍA DN 200 PE 100 RC SDR 11 | B184: Tubo de polietileno PE 100 RC, de color negro con bandas de color azul, de 200 mm de diámetro exterior y 18,2 mm de espesor, SDR11, PN=16 atm, incluyendo pruebas de presión y estanqueidad, según UNE-EN 12201-2. | C184: MASA_ Tuberia-PE-100-RC o equivalente | D184: ml | E184: 5 | F184: 35.424 | G184: =E184*F184 -> 177.12
A185: TUBERÍA DN 250 PE 100 RC SDR 11 | B185: Tubo de polietileno PE 100 RC, de color negro con bandas de color azul, de 250 mm de diámetro exterior y 22,7 mm de espesor, SDR11, PN=16 atm, incluyendo pruebas de presión y estanqueidad, según UNE-EN 12201-2. | C185: MASA_ Tuberia-PE-100-RC o equivalente | D185: ml | E185: 1 | F185: 55.539 | G185: =E185*F185 -> 55.539
... A251: TE DN 400 FD SDR 11 | B251: Te de fundición dúctil con tres bridas, de 400 mm de diámetro nominal, con junta elastomérica estándar, con revestimiento interior y exterior de epoxy acorde al terreno y montaje, PN16, incluye pruebas de presión y estanqueidad, según UNE-EN 545. | C251: PAM_Te FD o equivalente | D251: ud | E251: 1 | F251: 1252.062 | G251: =E251*F251 -> 1252.062
A254: REDUCCIÓN CONCÉNTRICA DN 80x65 FD SDR 11 | B254: Cono de reducción concéntrico de fundición dúctil con dos bridas, SDR 11, de 80x65 mm de diámetro nominal, con junta elastomérica estándar, con revestimiento interior y exterior de epoxy acorde al terreno y montaje, PN16, incluye pruebas de presión y estanqueidad, según UNE-EN 545. | D254: ud | E254: 1 | F254: 39.015 | G254: =E254*F254 -> 39.015
A255: REDUCCIÓN CONCÉNTRICA DN 100x50 FD SDR 11 | B255: Cono de reducción concéntrico de fundición dúctil con dos bridas, SDR 11, de 100x50 mm de diámetro nominal, con junta elastomérica estándar, con revestimiento interior y exterior de epoxy acorde al terreno y montaje, PN16, incluye pruebas de presión y estanqueidad, según UNE-EN 545. | D255: ud | E255: 1 | F255: 43.119 | G255: =E255*F255 -> 43.119
A256: REDUCCIÓN CONCÉNTRICA DN 100x65 FD SDR 11 | B256: Cono de reducción concéntrico de fundición dúctil con dos bridas, SDR 11, de 100x65 mm de diámetro nominal, con junta elastomérica estándar, con revestimiento interior y exterior de epoxy acorde al terreno y montaje, PN16, incluye pruebas de presión y estanqueidad, según UNE-EN 545. | D256: ud | E256: 1 | F256: 43.119 | G256: =E256*F256 -> 43.119
A257: REDUCCIÓN CONCÉNTRICA DN 100x80 FD SDR 11 | B257: Cono de reducción concéntrico de fundición dúctil con dos bridas, SDR 11, de 100x80 mm de diámetro nominal, con junta elastomérica estándar, con revestimiento interior y exterior de epoxy acorde al terreno y montaje, PN16, incluye pruebas de presión y estanqueidad, según UNE-EN 545. | D257: ud | E257: 1 | F257: 43.119 | G257: =E257*F257 -> 43.119
A258: REDUCCIÓN CONCÉNTRICA DN 125x50 FD SDR 11 | B258: Cono de reducción concéntrico de fundición dúctil con dos bridas, SDR 11, de 125x50 mm de diámetro nominal, con junta elastomérica estándar, con revestimiento interior y exterior de epoxy acorde al terreno y montaje, PN16, incluye pruebas de presión y estanqueidad, según UNE-EN 545. | D258: ud | E258: 1 | F258: 59.751 | G258: =E258*F258 -> 59.751
A259: REDUCCIÓN CONCÉNTRICA DN 125x65 FD SDR 11 | B259: Cono de reducción concéntrico de fundición dúctil con dos bridas, SDR 11, de 125x65 mm de diámetro nominal, con junta elastomérica estándar, con revestimiento interior y exterior de epoxy acorde al terreno y montaje, PN16, incluye pruebas de presión y estanqueidad, según UNE-EN 545. | D259: ud | E259: 1 | F259: 59.751 | G259: =E259*F259 -> 59.751
A260: REDUCCIÓN CONCÉNTRICA DN 125x80 FD SDR 11 | B260: Cono de reducción concéntrico de fundición dúctil con dos bridas, SDR 11, de 125x80 mm de diámetro nominal, con junta elastomérica estándar, con revestimiento interior y exterior de epoxy acorde al terreno y montaje, PN16, incluye pruebas de presión y estanqueidad, según UNE-EN 545. | D260: ud | E260: 1 | F260: 59.751 | G260: =E260*F260 -> 59.751
A261: REDUCCIÓN CONCÉNTRICA DN 125x100 FD SDR 11 | B261: Cono de reducción concéntrico de fundición dúctil con dos bridas, SDR 11, de 125x100 mm de diámetro nominal, con junta elastomérica estándar, con revestimiento interior y exterior de epoxy acorde al terreno y montaje, PN16, incluye pruebas de presión y estanqueidad, según UNE-EN 545. | D261: ud | E261: 1 | F261: 59.751 | G261: =E261*F261 -> 59.751
A262: REDUCCIÓN CONCÉNTRICA DN 150x50 FD SDR 11 | B262: Cono de reducción concéntrico de fundición dúctil con dos bridas, SDR 11, de 150x50 mm de diámetro nominal, con junta elastomérica estándar, con revestimiento interior y exterior de epoxy acorde al terreno y montaje, PN16, incluye pruebas de presión y estanqueidad, según UNE-EN 545. | D262: ud | E262: 1 | F262: 76.545 | G262: =E262*F262 -> 76.545
A263: REDUCCIÓN CONCÉNTRICA DN 150x65 FD SDR 11 | B263: Cono de reducción concéntrico de fundición dúctil con dos bridas, SDR 11, de 150x65 mm de diámetro nominal, con junta elastomérica estándar, con revestimiento interior y exterior de epoxy acorde al terreno y montaje, PN16, incluye pruebas de presión y estanqueidad, según UNE-EN 545. | D263: ud | E263: 1 | F263: 76.545 | G263: =E263*F263 -> 76.545
...

Sheet LOTE A UNIDADES
A2: DENOMINACION | B2: DESCRIPCIÓN | C2: ESPECIFICACIONES | D2: UD | E2: UNIDADES
A3: Centro Operaciones
D5: mes | E5: 12
A6: Mano de obra
A8: ENGARGADO | D8: H | E8: 1790
A9: ENCARGADO HORA EXTRA | D9: H | E9: 50
A10: OFICIAL 1ª | D10: H | E10: 5370
A11: OFICIAL 1ª HORA EXTRA | D11: H | E11: 367
A12: OFICIAL 2ª | D12: H | E12: 17900
A13: OFICIAL 2ª HORA EXTRA | D13: H | E13: 820
A14: RETEN DIA LABORABLE | D14: H | E14: 460
A15: RETEN DIA FESTIVO | D15: H | E15: 370
A16: MAQUINARIA
A18: CAMIÓN VOLQUETE 2 EJES 10 TM O 6 M3 | B18: CAMIÓN VOLQUETE 2 EJES 10 TM O 6 M3,incluye conductor. | D18: H | E18: 20
A19: CAMION DOS EJES DE 2.8 A 4.5 TM. TIPO NISSAN CABSTAR O SIMILAR | D19: H | E19: 1336
A20: CAMIÓN GÓNDOLA PARA TRANSPORTE DE MAQUINARIA | B20: CAMIÓN GÓNDOLA PARA TRANSPORTE DE MAQUINARIA,incluye conductor. | D20: Km | E20: 3000
A21: VEHÍCULO 4 X 4 TIPO PICK-UP EQUIPADA (NISSAN PICK-UP) | D21: H | E21: 1700
A22: FURGONETA MEDIA EQUIPADA(TIPO BERLINGO. KANGOO. ETC) | D22: H | E22: 9727
A23: DUMPER 1500 KG CON CAPACIDAD SUPERIOR A 0.60 M3 | D23: H | E23: 12
A24: DUMPER 6000KG | D24: H | E24: 4
A25: HORMIGONERA DE 250 LITROS | D25: H | E25: 685
A26: HORMIGONERA ELECTRICA 80 LITROS | D26: H | E26: 5
A27: MÁQUINA PARA CORTAR ASFALTO O BALDOSA O ROTAFLEX | D27: H | E27: 607
A28: TALADRO ELECTRICO PERCUSION, ATORNILLADOR ETC | D28: H | E28: 20
A29: EQUIPO DE ILUMINACIÓN | D29: H | E29: 95
A30: PAREJA DE SEMÁFOROS Y BATERÍAS | D30: DIA | E30: 49
A31: MINIRETROEXCAVADORA DE HASTA 4000 KG CON CAZO Y MARTILLO HIDRAULICO Y CAMION DE TRASPORTE | B31: MINIRETROEXCAVADORA DE HASTA 4000 KG CON CAZO Y MARTILLO HIDRAULICO Y CAMION DE TRASPORTE. Incluido conductor | D31: H | E31: 4450
A32: RETROEXCAVADORA DE ORUGAS DE 6 TN-S O SIMILAR, CON CAZO Y MARTILLO HIDRAULICO | B32: RETROEXCAVADORA DE ORUGAS DE 6 TN-S O SIMILAR, CON CAZO Y MARTILLO HIDRAULICO inlcuido conductor NO incluye transporte | D32: H | E32: 8
A33: RETROEXCAVADORA DE 8000 KG CON CAZO Y MARTILLO HIDRAULICO | B33: RETROEXCAVADORA DE 8000 KG CON CAZO Y MARTILLO HIDRAULICO. inlcuido conductor NO incluye transporte | D33: H | E33: 20
A34: RETROEXCAVADORA DE 12000KG CON CAZO Y MARTILLO HIDRAULICO | B34: RETROEXCAVADORA DE 12000KG CON CAZO Y MARTILLO HIDRAULICO inlcuido conductor NO incluye transporte | D34: H | E34: 70
A35: RETROEXCAVADORA DE ORUGAS DE 14 TN CAZO Y MARTILLO HIDRAULICO | B35: RETROEXCAVADORA DE ORUGAS DE 14 TN CAZO Y MARTILLO HIDRAULICO. inlcuido conductor NO incluye transporte | D35: H | E35: 8
A36: RODILLO COMPACTADOR RANA | D36: H | E36: 80
A37: RODILLO VIBRATORIO COMPACTADOR 1800 KG | D37: H | E37: 20
A38: RODILLO TAMDEM 3500KG | D38: H | E38: 20
A39: PISÓN PARA COMPACTACIÓN DE ÁRIDOS) | D39: H | E39: 100
A40: GENERADOR DE ELECTRICIDAD | D40: H | E40: 2998
A41: BOMBA DE ACHIQUE SUMERGIBLE | D41: H | E41: 852
A42: MARTILLO ELÉCTRICO | D42: H | E42: 750
A43: MAQUINA PARA EJECUCIÓN DE ELECTROSOLDADURAS EN PE | D43: H | E43: 12.5
A44: DESBROZADORA | D44: H | E44: 342
A45: MOTOSIERRA | D45: H | E45: 25
A46: HIDROLIMPIADORA | D46: H | E46: 10
A47: MAQUINA DE TOMA EN CARGA UNIVERSAL PARA DN 25MM HASTA DN 63MM | D47: H | E47: 25
... A50: BOMBA DE ACHIQUE TRIFÁSICA 10KW CON ARRANQUE DIRECTO Y 30 M DE TUBERÍA 6" | D50: H | E50: 8
A51: CAMIÓN GRÚA | B51: CAMIÓN GRÚA, incluye conductor | D51: H | E51: 8
A52: CAMION CISTERNA | B52: CAMION CISTERNA, incluye conductor | D52: H | E52: 8
A53: EQUIPO DE LIMPIEZA CON AGUA A ALTA PRESIÓN (CAMIÓN CHUPON) | B53: EQUIPO DE LIMPIEZA CON AGUA A ALTA PRESIÓN (CAMIÓN CHUPON), incluye conductor y ayudante. | D53: H | E53: 1
A54: PLATAFORMA ANDAMIO 2MTS CON ACCESORIOS PARA MONTAJE | D54: DIA | E54: 1
A55: EQUIPO DE SOLDADURA ELECTRICA CON SOLDADDOR INCLUIDO | D55: H | E55: 22
A56: CONTENEDOR 6M3 | D56: DIA | E56: 30
A57: MATERIALES
A60: TUBERÍA DN 20 PE 100 SDR 11 | B60: Tubo de polietileno PE 100, de color negro con bandas de color azul, de 20 mm de diámetro exterior y 2 mm de espesor, SDR11, PN=16 atm, incluyendo pruebas de presión y estanqueidad, según UNE-EN 12201-2. | C60: MASA_ Tuberia-PE-100 o equivalente | D60: ml | E60: 200
A61: TUBERÍA DN 25 PE 100 SDR 11 | B61: Tubo de polietileno PE 100, de color negro con bandas de color azul, de 25 mm de diámetro exterior y 2,3 mm de espesor, SDR11, PN=16 atm, incluyendo pruebas de presión y estanqueidad, según UNE-EN 12201-2. | C61: MASA_ Tuberia-PE-100 o equivalente | D61: ml | E61: 150
A62: TUBERÍA DN 32 PE 100 SDR 11 | B62: Tubo de polietileno PE 100, de color negro con bandas de color azul, de 32 mm de diámetro exterior y 3 mm de espesor, SDR11, PN=16 atm, incluyendo pruebas de presión y estanqueidad, según UNE-EN 12201-2. | C62: MASA_ Tuberia-PE-100 o equivalente | D62: ml | E62: 150
A63: TUBERÍA DN 40 PE 100 SDR 11 | B63: Tubo de polietileno PE 100, de color negro con bandas de color azul, de 40 mm de diámetro exterior y 3,7 mm de espesor, SDR11, PN=16 atm, incluyendo pruebas de presión y estanqueidad, según UNE-EN 12201-2. | C63: MASA_ Tuberia-PE-100 o equivalente | D63: ml | E63: 120
A64: TUBERÍA DN 50 PE 100 SDR 11 | B64: Tubo de polietileno PE 100, de color negro con bandas de color azul, de 50 mm de diámetro exterior y 4,6 mm de espesor, SDR11, PN=16 atm, incluyendo pruebas de presión y estanqueidad, según UNE-EN 12201-2. | C64: MASA_ Tuberia-PE-100 o equivalente | D64: ml | E64: 131
A65: TUBERÍA DN 63 PE 100 SDR 11 | B65: Tubo de polietileno PE 100, de color negro con bandas de color azul, de 63 mm de diámetro exterior y 5,8 mm de espesor, SDR11, PN=16 atm, incluyendo pruebas de presión y estanqueidad, según UNE-EN 12201-2. | C65: MASA_ Tuberia-PE-100 o equivalente | D65: ml | E65: 250
A66: TUBERÍA DN 80 PE 100 SDR 11 | B66: Tubo de polietileno PE 100, de color negro con bandas de color azul, de 80 mm de diámetro exterior y 75 mm de espesor, SDR11, PN=16 atm, incluyendo pruebas de presión y estanqueidad, según UNE-EN 12201-2. | C66: MASA_ Tuberia-PE-100 o equivalente | D66: ml | E66: 50
A67: TUBERÍA DN 110 PE 100 SDR 11 | B67: Tubo de polietileno PE 100, de color negro con bandas de color azul, de 110 mm de diámetro exterior y 10 mm de espesor, SDR11, PN=16 atm, incluyendo pruebas de presión y estanqueidad, según UNE-EN 12201-2. | C67: MASA_ Tuberia-PE-100 o equivalente | D67: ml | E67: 20
A68: TUBERÍA DN 125 PE 100 SDR 11 | B68: Tubo de polietileno PE 100, de color negro con bandas de color azul, de 125 mm de diámetro exterior y 11,4 mm de espesor, SDR11, PN=16 atm, incluyendo pruebas de presión y estanqueidad, según UNE-EN 12201-2. | C68: MASA_ Tuberia-PE-100 o equivalente | D68: ml | E68: 10
A69: TUBERÍA DN 150 PE 100 SDR 11 | B69: Tubo de polietileno PE 100, de color negro con bandas de color azul, de 150 mm de diámetro exterior y 13,4 mm de espesor, SDR11, PN=16 atm, incluyendo pruebas de presión y estanqueidad, según UNE-EN 12201-2. | C69: MASA_ Tuberia-PE-100 o equivalente | D69: ml | E69: 10
A70: TUBERÍA DN 200 PE 100 SDR 11 | B70: Tubo de polietileno PE 100, de color negro con bandas de color azul, de 200 mm de diámetro exterior y 18,2 mm de espesor, SDR11, PN=16 atm, incluyendo pruebas de presión y estanqueidad, según UNE-EN 12201-2. | C70: MASA_ Tuberia-PE-100 o equivalente | D70: ml | E70: 10
A71: TUBERÍA DN 250 PE 100 SDR 11 | B71: Tubo de polietileno PE 100, de color negro con bandas de color azul, de 250 mm de diámetro exterior y 22,7 mm de espesor, SDR11, PN=16 atm, incluyendo pruebas de presión y estanqueidad, según UNE-EN 12201-2. | C71: MASA_ Tuberia-PE-100 o equivalente | D71: ml | E71: 1
... A74: TUBERÍA DN 400 PE 100 SDR 11 | B74: Tubo de polietileno PE 100, de color negro con bandas de color azul, de 400 mm de diámetro exterior y 36,4 mm de espesor, SDR11, PN=16 atm, incluyendo pruebas de presión y estanqueidad, según UNE-EN 12201-2. | C74: MASA_ Tuberia-PE-100 o equivalente | D74: ml | E74: 1
A77: CODOS 90º, DN-25, PN-16, PE 100 | B77: Codo 90° de polietileno, para unión a compresión, de 25 mm de diámetro nominal, SDR11, PN=16 atm, incluyendo pruebas de presión y estanqueidad, según UNE-EN 12201-3. | D77: ud | E77: 3
A78: CODOS 90º, DN-32, PN-16, PE 100 | B78: Codo 90° de polietileno, para unión a compresión, de 32 mm de diámetro nominal, SDR11, PN=16 atm, incluyendo pruebas de presión y estanqueidad, según UNE-EN 12201-3. | D78: ud | E78: 2
A79: CODOS 90º, DN-40. PN-16, PE 100 | B79: Codo 90° de polietileno, para unión a compresión, de 40 mm de diámetro nominal, SDR11, PN=16 atm, incluyendo pruebas de presión y estanqueidad, según UNE-EN 12201-3. | D79: ud | E79: 2
A80: CODOS 90º, DN-50, PN-16, PE 100 | B80: Codo 90° de polietileno, para unión a compresión, de 50 mm de diámetro nominal, SDR11, PN=16 atm, incluyendo pruebas de presión y estanqueidad, según UNE-EN 12201-3. | D80: ud | E80: 2
A81: CODOS 90º, DN-65, PN-16, PE 100 | B81: Codo 90° de polietileno, para unión a compresión, de 65 mm de diámetro nominal, SDR11, PN=16 atm, incluyendo pruebas de presión y estanqueidad, según UNE-EN 12201-3. | D81: ud | E81: 3
A82: CODOS 90º, DN-80, PN-16, PE 100 | B82: Codo 90° de polietileno, para unión a compresión, de 80 mm de diámetro nominal, SDR11, PN=16 atm, incluyendo pruebas de presión y estanqueidad, según UNE-EN 12201-3. | D82: ud | E82: 2
A83: CODOS 90º, DN-100, PN-16, PE 100 | B83: Codo 90° de polietileno, para unión a compresión, de 110 mm de diámetro nominal, SDR11, PN=16 atm, incluyendo pruebas de presión y estanqueidad, según UNE-EN 12201-3. | D83: ud | E83: 2
A84: CODOS 90º, DN-125, PN-16, PE 100 | B84: Codo 90° de polietileno, para unión a compresión, de 125 mm de diámetro nominal, SDR11, PN=16 atm, incluyendo pruebas de presión y estanqueidad, según UNE-EN 12201-3. | D84: ud | E84: 2
A85: CODOS 90º, DN-150, PN-16, PE 100 | B85: Codo 90° de polietileno, para unión a compresión, de 150 mm de diámetro nominal, SDR11, PN=16 atm, incluyendo pruebas de presión y estanqueidad, según UNE-EN 12201-3. | D85: ud | E85: 1
A86: CODOS 90º, DN-200, PN-16, PE 100 | B86: Codo 90° de polietileno, para unión a compresión, de 200 mm de diámetro nominal, SDR11, PN=16 atm, incluyendo pruebas de presión y estanqueidad, según UNE-EN 12201-3. | D86: ud | E86: 1
A87: CODOS 90º, DN-250, PN-16, PE 100 | B87: Codo 90° de polietileno, para unión a compresión, de 250 mm de diámetro nominal, SDR11, PN=16 atm, incluyendo pruebas de presión y estanqueidad, según UNE-EN 12201-3. | D87: ud | E87: 1
A88: CODOS 90º, DN-300, PN-16, PE 100 | B88: Codo 90° de polietileno, para unión a compresión, de 300 mm de diámetro nominal, SDR11, PN=16 atm, incluyendo pruebas de presión y estanqueidad, según UNE-EN 12201-3. | D88: ud | E88: 1
... A171: REDUCCIÓN CONCÉNTRICA DN 400x350 PE 100 SDR 11 | B171: Enlace con reducción, de polietileno, para unión a compresión, DN 400x350 PE 100, PN=16 atm, incluyendo pruebas de presión y estanqueidad, según UNE-EN 12201-3. | D171: ud | E171: 1
A174: TUBERÍA DN 20 PE 100 RC SDR 11 | B174: Tubo de polietileno PE 100 RC, de color negro con bandas de color azul, de 20 mm de diámetro exterior y 2 mm de espesor, SDR11, PN=16 atm, incluyendo pruebas de presión y estanqueidad, según UNE-EN 12201-2. | C174: MASA_ Tuberia-PE-100-RC o equivalente | D174: ml | E174: 5
A175: TUBERÍA DN 25 PE 100 RC SDR 11 | B175: Tubo de polietileno PE 100 RC, de color negro con bandas de color azul, de 25 mm de diámetro exterior y 2,3 mm de espesor, SDR11, PN=16 atm, incluyendo pruebas de presión y estanqueidad, según UNE-EN 12201-2. | C175: MASA_ Tuberia-PE-100-RC o equivalente | D175: ml | E175: 5
A176: TUBERÍA DN 32 PE 100 RC SDR 11 | B176: Tubo de polietileno PE 100 RC, de color negro con bandas de color azul, de 32 mm de diámetro exterior y 3 mm de espesor, SDR11, PN=16 atm, incluyendo pruebas de presión y estanqueidad, según UNE-EN 12201-2. | C176: MASA_ Tuberia-PE-100-RC o equivalente | D176: ml | E176: 15
A177: TUBERÍA DN 40 PE 100 RC SDR 11 | B177: Tubo de polietileno PE 100 RC, de color negro con bandas de color azul, de 40 mm de diámetro exterior y 3,7 mm de espesor, SDR11, PN=16 atm, incluyendo pruebas de presión y estanqueidad, según UNE-EN 12201-2. | C177: MASA_ Tuberia-PE-100-RC o equivalente | D177: ml | E177: 5
A178: TUBERÍA DN 50 PE 100 RC SDR 11 | B178: Tubo de polietileno PE 100 RC, de color negro con bandas de color azul, de 50 mm de diámetro exterior y 4,6 mm de espesor, SDR11, PN=16 atm, incluyendo pruebas de presión y estanqueidad, según UNE-EN 12201-2. | C178: MASA_ Tuberia-PE-100-RC o equivalente | D178: ml | E178: 5
A179: TUBERÍA DN 63 PE 100 RC SDR 11 | B179: Tubo de polietileno PE 100 RC, de color negro con bandas de color azul, de 63 mm de diámetro exterior y 5,8 mm de espesor, SDR11, PN=16 atm, incluyendo pruebas de presión y estanqueidad, según UNE-EN 12201-2. | C179: MASA_ Tuberia-PE-100-RC o equivalente | D179: ml | E179: 25
A180: TUBERÍA DN 80 PE 100 RC SDR 11 | B180: Tubo de polietileno PE 100 RC, de color negro con bandas de color azul, de 80 mm de diámetro exterior y 75 mm de espesor, SDR11, PN=16 atm, incluyendo pruebas de presión y estanqueidad, según UNE-EN 12201-2. | C180: MASA_ Tuberia-PE-100-RC o equivalente | D180: ml | E180: 5
A181: TUBERÍA DN 110 PE 100 RC SDR 11 | B181: Tubo de polietileno PE 100 RC, de color negro con bandas de color azul, de 110 mm de diámetro exterior y 10 mm de espesor, SDR11, PN=16 atm, incluyendo pruebas de presión y estanqueidad, según UNE-EN 12201-2. | C181: MASA_ Tuberia-PE-100-RC o equivalente | D181: ml | E181: 35
A182: TUBERÍA DN 125 PE 100 RC SDR 11 | B182: Tubo de polietileno PE 100 RC, de color negro con bandas de color azul, de 125 mm de diámetro exterior y 11,4 mm de espesor, SDR11, PN=16 atm, incluyendo pruebas de presión y estanqueidad, según UNE-EN 12201-2. | C182: MASA_ Tuberia-PE-100-RC o equivalente | D182: ml | E182: 5
A183: TUBERÍA DN 150 PE 100 RC SDR 11 | B183: Tubo de polietileno PE 100 RC, de color negro con bandas de color azul, de 150 mm de diámetro exterior y 13,4 mm de espesor, SDR11, PN=16 atm, incluyendo pruebas de presión y estanqueidad, según UNE-EN 12201-2. | C183: MASA_ Tuberia-PE-100-RC o equivalente | D183: ml | E183: 5
A184: TUBERÍA DN 200 PE 100 RC SDR 11 | B184: Tubo de polietileno PE 100 RC, de color negro con bandas de color azul, de 200 mm de diámetro exterior y 18,2 mm de espesor, SDR11, PN=16 atm, incluyendo pruebas de presión y estanqueidad, según UNE-EN 12201-2. | C184: MASA_ Tuberia-PE-100-RC o equivalente | D184: ml | E184: 5
A185: TUBERÍA DN 250 PE 100 RC SDR 11 | B185: Tubo de polietileno PE 100 RC, de color negro con bandas de color azul, de 250 mm de diámetro exterior y 22,7 mm de espesor, SDR11, PN=16 atm, incluyendo pruebas de presión y estanqueidad, según UNE-EN 12201-2. | C185: MASA_ Tuberia-PE-100-RC o equivalente | D185: ml | E185: 1
... A251: TE DN 400 FD SDR 11 | B251: Te de fundición dúctil con tres bridas, de 400 mm de diámetro nominal, con junta elastomérica estándar, con revestimiento interior y exterior de epoxy acorde al terreno y montaje, PN16, incluye pruebas de presión y estanqueidad, según UNE-EN 545. | C251: PAM_Te FD o equivalente | D251: ud | E251: 1
A254: REDUCCIÓN CONCÉNTRICA DN 80x65 FD SDR 11 | B254: Cono de reducción concéntrico de fundición dúctil con dos bridas, SDR 11, de 80x65 mm de diámetro nominal, con junta elastomérica estándar, con revestimiento interior y exterior de epoxy acorde al terreno y montaje, PN16, incluye pruebas de presión y estanqueidad, según UNE-EN 545. | D254: ud | E254: 1
A255: REDUCCIÓN CONCÉNTRICA DN 100x50 FD SDR 11 | B255: Cono de reducción concéntrico de fundición dúctil con dos bridas, SDR 11, de 100x50 mm de diámetro nominal, con junta elastomérica estándar, con revestimiento interior y exterior de epoxy acorde al terreno y montaje, PN16, incluye pruebas de presión y estanqueidad, según UNE-EN 545. | D255: ud | E255: 1
A256: REDUCCIÓN CONCÉNTRICA DN 100x65 FD SDR 11 | B256: Cono de reducción concéntrico de fundición dúctil con dos bridas, SDR 11, de 100x65 mm de diámetro nominal, con junta elastomérica estándar, con revestimiento interior y exterior de epoxy acorde al terreno y montaje, PN16, incluye pruebas de presión y estanqueidad, según UNE-EN 545. | D256: ud | E256: 1
A257: REDUCCIÓN CONCÉNTRICA DN 100x80 FD SDR 11 | B257: Cono de reducción concéntrico de fundición dúctil con dos bridas, SDR 11, de 100x80 mm de diámetro nominal, con junta elastomérica estándar, con revestimiento interior y exterior de epoxy acorde al terreno y montaje, PN16, incluye pruebas de presión y estanqueidad, según UNE-EN 545. | D257: ud | E257: 1
A258: REDUCCIÓN CONCÉNTRICA DN 125x50 FD SDR 11 | B258: Cono de reducción concéntrico de fundición dúctil con dos bridas, SDR 11, de 125x50 mm de diámetro nominal, con junta elastomérica estándar, con revestimiento interior y exterior de epoxy acorde al terreno y montaje, PN16, incluye pruebas de presión y estanqueidad, según UNE-EN 545. | D258: ud | E258: 1
A259: REDUCCIÓN CONCÉNTRICA DN 125x65 FD SDR 11 | B259: Cono de reducción concéntrico de fundición dúctil con dos bridas, SDR 11, de 125x65 mm de diámetro nominal, con junta elastomérica estándar, con revestimiento interior y exterior de epoxy acorde al terreno y montaje, PN16, incluye pruebas de presión y estanqueidad, según UNE-EN 545. | D259: ud | E259: 1
A260: REDUCCIÓN CONCÉNTRICA DN 125x80 FD SDR 11 | B260: Cono de reducción concéntrico de fundición dúctil con dos bridas, SDR 11, de 125x80 mm de diámetro nominal, con junta elastomérica estándar, con revestimiento interior y exterior de epoxy acorde al terreno y montaje, PN16, incluye pruebas de presión y estanqueidad, según UNE-EN 545. | D260: ud | E260: 1
A261: REDUCCIÓN CONCÉNTRICA DN 125x100 FD SDR 11 | B261: Cono de reducción concéntrico de fundición dúctil con dos bridas, SDR 11, de 125x100 mm de diámetro nominal, con junta elastomérica estándar, con revestimiento interior y exterior de epoxy acorde al terreno y montaje, PN16, incluye pruebas de presión y estanqueidad, según UNE-EN 545. | D261: ud | E261: 1
A262: REDUCCIÓN CONCÉNTRICA DN 150x50 FD SDR 11 | B262: Cono de reducción concéntrico de fundición dúctil con dos bridas, SDR 11, de 150x50 mm de diámetro nominal, con junta elastomérica estándar, con revestimiento interior y exterior de epoxy acorde al terreno y montaje, PN16, incluye pruebas de presión y estanqueidad, según UNE-EN 545. | D262: ud | E262: 1
A263: REDUCCIÓN CONCÉNTRICA DN 150x65 FD SDR 11 | B263: Cono de reducción concéntrico de fundición dúctil con dos bridas, SDR 11, de 150x65 mm de diámetro nominal, con junta elastomérica estándar, con revestimiento interior y exterior de epoxy acorde al terreno y montaje, PN16, incluye pruebas de presión y estanqueidad, según UNE-EN 545. | D263: ud | E263: 1
...

Sheet LOTE A OFERTA
A2: DENOMINACION | B2: DESCRIPCIÓN | C2: ESPECIFICACIONES | D2: UD | E2: UNIDADES | F2: PRECIO (EUROS)
A3: Centro Operaciones
D5: mes | E5: 12
A6: Mano de obra
A8: ENGARGADO | D8: H | E8: 1790
A9: ENCARGADO HORA EXTRA | D9: H | E9: 50
A10: OFICIAL 1ª | D10: H | E10: 5370
A11: OFICIAL 1ª HORA EXTRA | D11: H | E11: 367
A12: OFICIAL 2ª | D12: H | E12: 17900
A13: OFICIAL 2ª HORA EXTRA | D13: H | E13: 820
A14: RETEN DIA LABORABLE | D14: H | E14: 460
A15: RETEN DIA FESTIVO | D15: H | E15: 370
A16: MAQUINARIA
A18: CAMIÓN VOLQUETE 2 EJES 10 TM O 6 M3 | B18: CAMIÓN VOLQUETE 2 EJES 10 TM O 6 M3,incluye conductor. | D18: H | E18: 20
A19: CAMION DOS EJES DE 2.8 A 4.5 TM. TIPO NISSAN CABSTAR O SIMILAR | D19: H | E19: 1336
A20: CAMIÓN GÓNDOLA PARA TRANSPORTE DE MAQUINARIA | B20: CAMIÓN GÓNDOLA PARA TRANSPORTE DE MAQUINARIA,incluye conductor. | D20: Km | E20: 3000
A21: VEHÍCULO 4 X 4 TIPO PICK-UP EQUIPADA (NISSAN PICK-UP) | D21: H | E21: 1700
A22: FURGONETA MEDIA EQUIPADA(TIPO BERLINGO. KANGOO. ETC) | D22: H | E22: 9727
A23: DUMPER 1500 KG CON CAPACIDAD SUPERIOR A 0.60 M3 | D23: H | E23: 12
A24: DUMPER 6000KG | D24: H | E24: 4
A25: HORMIGONERA DE 250 LITROS | D25: H | E25: 685
A26: HORMIGONERA ELECTRICA 80 LITROS | D26: H | E26: 5
A27: MÁQUINA PARA CORTAR ASFALTO O BALDOSA O ROTAFLEX | D27: H | E27: 607
A28: TALADRO ELECTRICO PERCUSION, ATORNILLADOR ETC | D28: H | E28: 20
A29: EQUIPO DE ILUMINACIÓN | D29: H | E29: 95
A30: PAREJA DE SEMÁFOROS Y BATERÍAS | D30: DIA | E30: 49
A31: MINIRETROEXCAVADORA DE HASTA 4000 KG CON CAZO Y MARTILLO HIDRAULICO Y CAMION DE TRASPORTE | B31: MINIRETROEXCAVADORA DE HASTA 4000 KG CON CAZO Y MARTILLO HIDRAULICO Y CAMION DE TRASPORTE. Incluido conductor | D31: H | E31: 4450
A32: RETROEXCAVADORA DE ORUGAS DE 6 TN-S O SIMILAR, CON CAZO Y MARTILLO HIDRAULICO | B32: RETROEXCAVADORA DE ORUGAS DE 6 TN-S O SIMILAR, CON CAZO Y MARTILLO HIDRAULICO inlcuido conductor NO incluye transporte | D32: H | E32: 8
A33: RETROEXCAVADORA DE 8000 KG CON CAZO Y MARTILLO HIDRAULICO | B33: RETROEXCAVADORA DE 8000 KG CON CAZO Y MARTILLO HIDRAULICO. inlcuido conductor NO incluye transporte | D33: H | E33: 20
A34: RETROEXCAVADORA DE 12000KG CON CAZO Y MARTILLO HIDRAULICO | B34: RETROEXCAVADORA DE 12000KG CON CAZO Y MARTILLO HIDRAULICO inlcuido conductor NO incluye transporte | D34: H | E34: 70
A35: RETROEXCAVADORA DE ORUGAS DE 14 TN CAZO Y MARTILLO HIDRAULICO | B35: RETROEXCAVADORA DE ORUGAS DE 14 TN CAZO Y MARTILLO HIDRAULICO. inlcuido conductor NO incluye transporte | D35: H | E35: 8
A36: RODILLO COMPACTADOR RANA | D36: H | E36: 80
A37: RODILLO VIBRATORIO COMPACTADOR 1800 KG | D37: H | E37: 20
A38: RODILLO TAMDEM 3500KG | D38: H | E38: 20
A39: PISÓN PARA COMPACTACIÓN DE ÁRIDOS) | D39: H | E39: 100
A40: GENERADOR DE ELECTRICIDAD | D40: H | E40: 2998
A41: BOMBA DE ACHIQUE SUMERGIBLE | D41: H | E41: 852
A42: MARTILLO ELÉCTRICO | D42: H | E42: 750
A43: MAQUINA PARA EJECUCIÓN DE ELECTROSOLDADURAS EN PE | D43: H | E43: 12.5
A44: DESBROZADORA | D44: H | E44: 342
A45: MOTOSIERRA | D45: H | E45: 25
A46: HIDROLIMPIADORA | D46: H | E46: 10
A47: MAQUINA DE TOMA EN CARGA UNIVERSAL PARA DN 25MM HASTA DN 63MM | D47: H | E47: 25
... A50: BOMBA DE ACHIQUE TRIFÁSICA 10KW CON ARRANQUE DIRECTO Y 30 M DE TUBERÍA 6" | D50: H | E50: 8
A51: CAMIÓN GRÚA | B51: CAMIÓN GRÚA, incluye conductor | D51: H | E51: 8
A52: CAMION CISTERNA | B52: CAMION CISTERNA, incluye conductor | D52: H | E52: 8
A53: EQUIPO DE LIMPIEZA CON AGUA A ALTA PRESIÓN (CAMIÓN CHUPON) | B53: EQUIPO DE LIMPIEZA CON AGUA A ALTA PRESIÓN (CAMIÓN CHUPON), incluye conductor y ayudante. | D53: H | E53: 1
A54: PLATAFORMA ANDAMIO 2MTS CON ACCESORIOS PARA MONTAJE | D54: DIA | E54: 1
A55: EQUIPO DE SOLDADURA ELECTRICA CON SOLDADDOR INCLUIDO | D55: H | E55: 22
A56: CONTENEDOR 6M3 | D56: DIA | E56: 30
A57: MATERIALES
A60: TUBERÍA DN 20 PE 100 SDR 11 | B60: Tubo de polietileno PE 100, de color negro con bandas de color azul, de 20 mm de diámetro exterior y 2 mm de espesor, SDR11, PN=16 atm, incluyendo pruebas de presión y estanqueidad, según UNE-EN 12201-2. | C60: MASA_ Tuberia-PE-100 o equivalente | D60: ml | E60: 200
A61: TUBERÍA DN 25 PE 100 SDR 11 | B61: Tubo de polietileno PE 100, de color negro con bandas de color azul, de 25 mm de diámetro exterior y 2,3 mm de espesor, SDR11, PN=16 atm, incluyendo pruebas de presión y estanqueidad, según UNE-EN 12201-2. | C61: MASA_ Tuberia-PE-100 o equivalente | D61: ml | E61: 150
A62: TUBERÍA DN 32 PE 100 SDR 11 | B62: Tubo de polietileno PE 100, de color negro con bandas de color azul, de 32 mm de diámetro exterior y 3 mm de espesor, SDR11, PN=16 atm, incluyendo pruebas de presión y estanqueidad, según UNE-EN 12201-2. | C62: MASA_ Tuberia-PE-100 o equivalente | D62: ml | E62: 150
A63: TUBERÍA DN 40 PE 100 SDR 11 | B63: Tubo de polietileno PE 100, de color negro con bandas de color azul, de 40 mm de diámetro exterior y 3,7 mm de espesor, SDR11, PN=16 atm, incluyendo pruebas de presión y estanqueidad, según UNE-EN 12201-2. | C63: MASA_ Tuberia-PE-100 o equivalente | D63: ml | E63: 120
A64: TUBERÍA DN 50 PE 100 SDR 11 | B64: Tubo de polietileno PE 100, de color negro con bandas de color azul, de 50 mm de diámetro exterior y 4,6 mm de espesor, SDR11, PN=16 atm, incluyendo pruebas de presión y estanqueidad, según UNE-EN 12201-2. | C64: MASA_ Tuberia-PE-100 o equivalente | D64: ml | E64: 131
A65: TUBERÍA DN 63 PE 100 SDR 11 | B65: Tubo de polietileno PE 100, de color negro con bandas de color azul, de 63 mm de diámetro exterior y 5,8 mm de espesor, SDR11, PN=16 atm, incluyendo pruebas de presión y estanqueidad, según UNE-EN 12201-2. | C65: MASA_ Tuberia-PE-100 o equivalente | D65: ml | E65: 250
A66: TUBERÍA DN 80 PE 100 SDR 11 | B66: Tubo de polietileno PE 100, de color negro con bandas de color azul, de 80 mm de diámetro exterior y 75 mm de espesor, SDR11, PN=16 atm, incluyendo pruebas de presión y estanqueidad, según UNE-EN 12201-2. | C66: MASA_ Tuberia-PE-100 o equivalente | D66: ml | E66: 50
A67: TUBERÍA DN 110 PE 100 SDR 11 | B67: Tubo de polietileno PE 100, de color negro con bandas de color azul, de 110 mm de diámetro exterior y 10 mm de espesor, SDR11, PN=16 atm, incluyendo pruebas de presión y estanqueidad, según UNE-EN 12201-2. | C67: MASA_ Tuberia-PE-100 o equivalente | D67: ml | E67: 20
A68: TUBERÍA DN 125 PE 100 SDR 11 | B68: Tubo de polietileno PE 100, de color negro con bandas de color azul, de 125 mm de diámetro exterior y 11,4 mm de espesor, SDR11, PN=16 atm, incluyendo pruebas de presión y estanqueidad, según UNE-EN 12201-2. | C68: MASA_ Tuberia-PE-100 o equivalente | D68: ml | E68: 10
A69: TUBERÍA DN 150 PE 100 SDR 11 | B69: Tubo de polietileno PE 100, de color negro con bandas de color azul, de 150 mm de diámetro exterior y 13,4 mm de espesor, SDR11, PN=16 atm, incluyendo pruebas de presión y estanqueidad, según UNE-EN 12201-2. | C69: MASA_ Tuberia-PE-100 o equivalente | D69: ml | E69: 10
A70: TUBERÍA DN 200 PE 100 SDR 11 | B70: Tubo de polietileno PE 100, de color negro con bandas de color azul, de 200 mm de diámetro exterior y 18,2 mm de espesor, SDR11, PN=16 atm, incluyendo pruebas de presión y estanqueidad, según UNE-EN 12201-2. | C70: MASA_ Tuberia-PE-100 o equivalente | D70: ml | E70: 10
A71: TUBERÍA DN 250 PE 100 SDR 11 | B71: Tubo de polietileno PE 100, de color negro con bandas de color azul, de 250 mm de diámetro exterior y 22,7 mm de espesor, SDR11, PN=16 atm, incluyendo pruebas de presión y estanqueidad, según UNE-EN 12201-2. | C71: MASA_ Tuberia-PE-100 o equivalente | D71: ml | E71: 1
... A74: TUBERÍA DN 400 PE 100 SDR 11 | B74: Tubo de polietileno PE 100, de color negro con bandas de color azul, de 400 mm de diámetro exterior y 36,4 mm de espesor, SDR11, PN=16 atm, incluyendo pruebas de presión y estanqueidad, según UNE-EN 12201-2. | C74: MASA_ Tuberia-PE-100 o equivalente | D74: ml | E74: 1
A77: CODOS 90º, DN-25, PN-16, PE 100 | B77: Codo 90° de polietileno, para unión a compresión, de 25 mm de diámetro nominal, SDR11, PN=16 atm, incluyendo pruebas de presión y estanqueidad, según UNE-EN 12201-3. | D77: ud | E77: 3
A78: CODOS 90º, DN-32, PN-16, PE 100 | B78: Codo 90° de polietileno, para unión a compresión, de 32 mm de diámetro nominal, SDR11, PN=16 atm, incluyendo pruebas de presión y estanqueidad, según UNE-EN 12201-3. | D78: ud | E78: 2
A79: CODOS 90º, DN-40. PN-16, PE 100 | B79: Codo 90° de polietileno, para unión a compresión, de 40 mm de diámetro nominal, SDR11, PN=16 atm, incluyendo pruebas de presión y estanqueidad, según UNE-EN 12201-3. | D79: ud | E79: 2
A80: CODOS 90º, DN-50, PN-16, PE 100 | B80: Codo 90° de polietileno, para unión a compresión, de 50 mm de diámetro nominal, SDR11, PN=16 atm, incluyendo pruebas de presión y estanqueidad, según UNE-EN 12201-3. | D80: ud | E80: 2
A81: CODOS 90º, DN-65, PN-16, PE 100 | B81: Codo 90° de polietileno, para unión a compresión, de 65 mm de diámetro nominal, SDR11, PN=16 atm, incluyendo pruebas de presión y estanqueidad, según UNE-EN 12201-3. | D81: ud | E81: 3
A82: CODOS 90º, DN-80, PN-16, PE 100 | B82: Codo 90° de polietileno, para unión a compresión, de 80 mm de diámetro nominal, SDR11, PN=16 atm, incluyendo pruebas de presión y estanqueidad, según UNE-EN 12201-3. | D82: ud | E82: 2
A83: CODOS 90º, DN-100, PN-16, PE 100 | B83: Codo 90° de polietileno, para unión a compresión, de 110 mm de diámetro nominal, SDR11, PN=16 atm, incluyendo pruebas de presión y estanqueidad, según UNE-EN 12201-3. | D83: ud | E83: 2
A84: CODOS 90º, DN-125, PN-16, PE 100 | B84: Codo 90° de polietileno, para unión a compresión, de 125 mm de diámetro nominal, SDR11, PN=16 atm, incluyendo pruebas de presión y estanqueidad, según UNE-EN 12201-3. | D84: ud | E84: 2
A85: CODOS 90º, DN-150, PN-16, PE 100 | B85: Codo 90° de polietileno, para unión a compresión, de 150 mm de diámetro nominal, SDR11, PN=16 atm, incluyendo pruebas de presión y estanqueidad, según UNE-EN 12201-3. | D85: ud | E85: 1
A86: CODOS 90º, DN-200, PN-16, PE 100 | B86: Codo 90° de polietileno, para unión a compresión, de 200 mm de diámetro nominal, SDR11, PN=16 atm, incluyendo pruebas de presión y estanqueidad, según UNE-EN 12201-3. | D86: ud | E86: 1
A87: CODOS 90º, DN-250, PN-16, PE 100 | B87: Codo 90° de polietileno, para unión a compresión, de 250 mm de diámetro nominal, SDR11, PN=16 atm, incluyendo pruebas de presión y estanqueidad, según UNE-EN 12201-3. | D87: ud | E87: 1
A88: CODOS 90º, DN-300, PN-16, PE 100 | B88: Codo 90° de polietileno, para unión a compresión, de 300 mm de diámetro nominal, SDR11, PN=16 atm, incluyendo pruebas de presión y estanqueidad, según UNE-EN 12201-3. | D88: ud | E88: 1
... A171: REDUCCIÓN CONCÉNTRICA DN 400x350 PE 100 SDR 11 | B171: Enlace con reducción, de polietileno, para unión a compresión, DN 400x350 PE 100, PN=16 atm, incluyendo pruebas de presión y estanqueidad, según UNE-EN 12201-3. | D171: ud | E171: 1
A174: TUBERÍA DN 20 PE 100 RC SDR 11 | B174: Tubo de polietileno PE 100 RC, de color negro con bandas de color azul, de 20 mm de diámetro exterior y 2 mm de espesor, SDR11, PN=16 atm, incluyendo pruebas de presión y estanqueidad, según UNE-EN 12201-2. | C174: MASA_ Tuberia-PE-100-RC o equivalente | D174: ml | E174: 5
A175: TUBERÍA DN 25 PE 100 RC SDR 11 | B175: Tubo de polietileno PE 100 RC, de color negro con bandas de color azul, de 25 mm de diámetro exterior y 2,3 mm de espesor, SDR11, PN=16 atm, incluyendo pruebas de presión y estanqueidad, según UNE-EN 12201-2. | C175: MASA_ Tuberia-PE-100-RC o equivalente | D175: ml | E175: 5
A176: TUBERÍA DN 32 PE 100 RC SDR 11 | B176: Tubo de polietileno PE 100 RC, de color negro con bandas de color azul, de 32 mm de diámetro exterior y 3 mm de espesor, SDR11, PN=16 atm, incluyendo pruebas de presión y estanqueidad, según UNE-EN 12201-2. | C176: MASA_ Tuberia-PE-100-RC o equivalente | D176: ml | E176: 15
A177: TUBERÍA DN 40 PE 100 RC SDR 11 | B177: Tubo de polietileno PE 100 RC, de color negro con bandas de color azul, de 40 mm de diámetro exterior y 3,7 mm de espesor, SDR11, PN=16 atm, incluyendo pruebas de presión y estanqueidad, según UNE-EN 12201-2. | C177: MASA_ Tuberia-PE-100-RC o equivalente | D177: ml | E177: 5
A178: TUBERÍA DN 50 PE 100 RC SDR 11 | B178: Tubo de polietileno PE 100 RC, de color negro con bandas de color azul, de 50 mm de diámetro exterior y 4,6 mm de espesor, SDR11, PN=16 atm, incluyendo pruebas de presión y estanqueidad, según UNE-EN 12201-2. | C178: MASA_ Tuberia-PE-100-RC o equivalente | D178: ml | E178: 5
A179: TUBERÍA DN 63 PE 100 RC SDR 11 | B179: Tubo de polietileno PE 100 RC, de color negro con bandas de color azul, de 63 mm de diámetro exterior y 5,8 mm de espesor, SDR11, PN=16 atm, incluyendo pruebas de presión y estanqueidad, según UNE-EN 12201-2. | C179: MASA_ Tuberia-PE-100-RC o equivalente | D179: ml | E179: 25
A180: TUBERÍA DN 80 PE 100 RC SDR 11 | B180: Tubo de polietileno PE 100 RC, de color negro con bandas de color azul, de 80 mm de diámetro exterior y 75 mm de espesor, SDR11, PN=16 atm, incluyendo pruebas de presión y estanqueidad, según UNE-EN 12201-2. | C180: MASA_ Tuberia-PE-100-RC o equivalente | D180: ml | E180: 5
A181: TUBERÍA DN 110 PE 100 RC SDR 11 | B181: Tubo de polietileno PE 100 RC, de color negro con bandas de color azul, de 110 mm de diámetro exterior y 10 mm de espesor, SDR11, PN=16 atm, incluyendo pruebas de presión y estanqueidad, según UNE-EN 12201-2. | C181: MASA_ Tuberia-PE-100-RC o equivalente | D181: ml | E181: 35
A182: TUBERÍA DN 125 PE 100 RC SDR 11 | B182: Tubo de polietileno PE 100 RC, de color negro con bandas de color azul, de 125 mm de diámetro exterior y 11,4 mm de espesor, SDR11, PN=16 atm, incluyendo pruebas de presión y estanqueidad, según UNE-EN 12201-2. | C182: MASA_ Tuberia-PE-100-RC o equivalente | D182: ml | E182: 5
A183: TUBERÍA DN 150 PE 100 RC SDR 11 | B183: Tubo de polietileno PE 100 RC, de color negro con bandas de color azul, de 150 mm de diámetro exterior y 13,4 mm de espesor, SDR11, PN=16 atm, incluyendo pruebas de presión y estanqueidad, según UNE-EN 12201-2. | C183: MASA_ Tuberia-PE-100-RC o equivalente | D183: ml | E183: 5
A184: TUBERÍA DN 200 PE 100 RC SDR 11 | B184: Tubo de polietileno PE 100 RC, de color negro con bandas de color azul, de 200 mm de diámetro exterior y 18,2 mm de espesor, SDR11, PN=16 atm, incluyendo pruebas de presión y estanqueidad, según UNE-EN 12201-2. | C184: MASA_ Tuberia-PE-100-RC o equivalente | D184: ml | E184: 5
A185: TUBERÍA DN 250 PE 100 RC SDR 11 | B185: Tubo de polietileno PE 100 RC, de color negro con bandas de color azul, de 250 mm de diámetro exterior y 22,7 mm de espesor, SDR11, PN=16 atm, incluyendo pruebas de presión y estanqueidad, según UNE-EN 12201-2. | C185: MASA_ Tuberia-PE-100-RC o equivalente | D185: ml | E185: 1
... A251: TE DN 400 FD SDR 11 | B251: Te de fundición dúctil con tres bridas, de 400 mm de diámetro nominal, con junta elastomérica estándar, con revestimiento interior y exterior de epoxy acorde al terreno y montaje, PN16, incluye pruebas de presión y estanqueidad, según UNE-EN 545. | C251: PAM_Te FD o equivalente | D251: ud | E251: 1
A254: REDUCCIÓN CONCÉNTRICA DN 80x65 FD SDR 11 | B254: Cono de reducción concéntrico de fundición dúctil con dos bridas, SDR 11, de 80x65 mm de diámetro nominal, con junta elastomérica estándar, con revestimiento interior y exterior de epoxy acorde al terreno y montaje, PN16, incluye pruebas de presión y estanqueidad, según UNE-EN 545. | D254: ud | E254: 1
A255: REDUCCIÓN CONCÉNTRICA DN 100x50 FD SDR 11 | B255: Cono de reducción concéntrico de fundición dúctil con dos bridas, SDR 11, de 100x50 mm de diámetro nominal, con junta elastomérica estándar, con revestimiento interior y exterior de epoxy acorde al terreno y montaje, PN16, incluye pruebas de presión y estanqueidad, según UNE-EN 545. | D255: ud | E255: 1
A256: REDUCCIÓN CONCÉNTRICA DN 100x65 FD SDR 11 | B256: Cono de reducción concéntrico de fundición dúctil con dos bridas, SDR 11, de 100x65 mm de diámetro nominal, con junta elastomérica estándar, con revestimiento interior y exterior de epoxy acorde al terreno y montaje, PN16, incluye pruebas de presión y estanqueidad, según UNE-EN 545. | D256: ud | E256: 1
A257: REDUCCIÓN CONCÉNTRICA DN 100x80 FD SDR 11 | B257: Cono de reducción concéntrico de fundición dúctil con dos bridas, SDR 11, de 100x80 mm de diámetro nominal, con junta elastomérica estándar, con revestimiento interior y exterior de epoxy acorde al terreno y montaje, PN16, incluye pruebas de presión y estanqueidad, según UNE-EN 545. | D257: ud | E257: 1
A258: REDUCCIÓN CONCÉNTRICA DN 125x50 FD SDR 11 | B258: Cono de reducción concéntrico de fundición dúctil con dos bridas, SDR 11, de 125x50 mm de diámetro nominal, con junta elastomérica estándar, con revestimiento interior y exterior de epoxy acorde al terreno y montaje, PN16, incluye pruebas de presión y estanqueidad, según UNE-EN 545. | D258: ud | E258: 1
A259: REDUCCIÓN CONCÉNTRICA DN 125x65 FD SDR 11 | B259: Cono de reducción concéntrico de fundición dúctil con dos bridas, SDR 11, de 125x65 mm de diámetro nominal, con junta elastomérica estándar, con revestimiento interior y exterior de epoxy acorde al terreno y montaje, PN16, incluye pruebas de presión y estanqueidad, según UNE-EN 545. | D259: ud | E259: 1
A260: REDUCCIÓN CONCÉNTRICA DN 125x80 FD SDR 11 | B260: Cono de reducción concéntrico de fundición dúctil con dos bridas, SDR 11, de 125x80 mm de diámetro nominal, con junta elastomérica estándar, con revestimiento interior y exterior de epoxy acorde al terreno y montaje, PN16, incluye pruebas de presión y estanqueidad, según UNE-EN 545. | D260: ud | E260: 1
A261: REDUCCIÓN CONCÉNTRICA DN 125x100 FD SDR 11 | B261: Cono de reducción concéntrico de fundición dúctil con dos bridas, SDR 11, de 125x100 mm de diámetro nominal, con junta elastomérica estándar, con revestimiento interior y exterior de epoxy acorde al terreno y montaje, PN16, incluye pruebas de presión y estanqueidad, según UNE-EN 545. | D261: ud | E261: 1
A262: REDUCCIÓN CONCÉNTRICA DN 150x50 FD SDR 11 | B262: Cono de reducción concéntrico de fundición dúctil con dos bridas, SDR 11, de 150x50 mm de diámetro nominal, con junta elastomérica estándar, con revestimiento interior y exterior de epoxy acorde al terreno y montaje, PN16, incluye pruebas de presión y estanqueidad, según UNE-EN 545. | D262: ud | E262: 1
A263: REDUCCIÓN CONCÉNTRICA DN 150x65 FD SDR 11 | B263: Cono de reducción concéntrico de fundición dúctil con dos bridas, SDR 11, de 150x65 mm de diámetro nominal, con junta elastomérica estándar, con revestimiento interior y exterior de epoxy acorde al terreno y montaje, PN16, incluye pruebas de presión y estanqueidad, según UNE-EN 545. | D263: ud | E263: 1
...

Sheet RESUMEN
B2: PRECIO TOTAL
A3: Centro Operaciones | B3: ='LOTE A TODO'!$G$3 -> 203534.9
A4: Mano de obra | B4: ='LOTE A TODO'!$G$6 -> 637110.75
A5: MAQUINARIA | B5: ='LOTE A TODO'!$G$16 -> 316158.6
A6: MATERIALES | B6: ='LOTE A TODO'!$G$57 -> 281313.31
A7: TRABAJOS PROGRAMADOS | B7: ='LOTE A TODO'!$G$1110 -> 69350
B9: =SUM(B3:B8) -> 1507467.6

Sheet RESUMEN (2)
B2: PRECIO TOTAL
A3: Centro Operaciones
A4: Mano de obra
A5: MAQUINARIA
A6: MATERIALES
A7: TRABAJOS PROGRAMADOS
B9: =SUM(B3:B8) -> 0
