Workbook

Sheet LOTE A TODO
A2: DENOMINACION | B2: DESCRIPCIÓN | C2: ESPECIFICACIONES | D2: UD | E2: UNIDADES | F2: PRECIO | G2: PRECIO TOTAL
A3: Centro Operaciones | G3: =G5 -> 203534.9
D5: mes | E5: 12 | F5: 16961.242 | G5: =E5*F5 -> 203534.9
A6: Mano de obra | G6: =SUM(G8:G15) -> 637110.75
A8: ENGARGADO | D8: H | E8: 1790 | F8: 28.215648 | G8: =E8*F8 -> 50506.01
A9: ENCARGADO HORA EXTRA | D9: H | E9: 50 | F9: 33.858778 | G9: =E9*F9 -> 1692.9389
A10: OFICIAL 1ª | D10: H | E10: 5370 | F10: 25.394083 | G10: =E10*F10 -> 136366.23
A11: OFICIAL 1ª HORA EXTRA | D11: H | E11: 367 | F11: 28.215648 | G11: =E11*F11 -> 10355.143
A12: OFICIAL 2ª | D12: H | E12: 17900 | F12: 21.552518 | G12: =E12*F12 -> 385790.08
A13: OFICIAL 2ª HORA EXTRA | D13: H | E13: 820 | F13: 23.354083 | G13: =E13*F13 -> 19150.348
A14: RETEN DIA LABORABLE | D14: H | E14: 460 | F14: 20 | G14: =E14*F14 -> 9200
A15: RETEN DIA FESTIVO | D15: H | E15: 370 | F15: 65 | G15: =E15*F15 -> 24050
A16: MAQUINARIA | G16: =SUM(G18:G56) -> 316158.6
A18: CAMIÓN VOLQUETE 2 EJES 10 TM O 6 M3 | B18: CAMIÓN VOLQUETE 2 EJES 10 TM O 6 M3,incluye conductor. | D18: H | E18: 20 | F18: 30 | G18: =E18*F18 -> 600
A19: CAMION DOS EJES DE 2.8 A 4.5 TM. TIPO NISSAN CABSTAR O SIMILAR | D19: H | E19: 1336 | F19: 9 | G19: =E19*F19 -> 12024
A20: CAMIÓN GÓNDOLA PARA TRANSPORTE DE MAQUINARIA | B20: CAMIÓN GÓNDOLA PARA TRANSPORTE DE MAQUINARIA,incluye conductor. | D20: Km | E20: 3000 | F20: 1.5 | G20: =E20*F20 -> 4500
A21: VEHÍCULO 4 X 4 TIPO PICK-UP EQUIPADA (NISSAN PICK-UP) | D21: H | E21: 1700 | F21: 7 | G21: =E21*F21 -> 11900
A22: FURGONETA MEDIA EQUIPADA(TIPO BERLINGO. KANGOO. ETC) | D22: H | E22: 9727 | F22: 5 | G22: =E22*F22 -> 48635
A23: DUMPER 1500 KG CON CAPACIDAD SUPERIOR A 0.60 M3 | D23: H | E23: 12 | F23: 9 | G23: =E23*F23 -> 108
A24: DUMPER 6000KG | D24: H | E24: 4 | F24: 17 | G24: =E24*F24 -> 68
A25: HORMIGONERA DE 250 LITROS | D25: H | E25: 685 | F25: 2 | G25: =E25*F25 -> 1370
A26: HORMIGONERA ELECTRICA 80 LITROS | D26: H | E26: 5 | F26: 15 | G26: =E26*F26 -> 75
A27: MÁQUINA PARA CORTAR ASFALTO O BALDOSA O ROTAFLEX | D27: H | E27: 607 | F27: 3 | G27: =E27*F27 -> 1821
A28: TALADRO ELECTRICO PERCUSION, ATORNILLADOR ETC | D28: H | E28: 20 | F28: 1.08 | G28: =E28*F28 -> 21.6
A29: EQUIPO DE ILUMINACIÓN | D29: H | E29: 95 | F29: 3 | G29: =E29*F29 -> 285
A30: PAREJA DE SEMÁFOROS Y BATERÍAS | D30: DIA | E30: 49 | F30: 30 | G30: =E30*F30 -> 1470
A31: MINIRETROEXCAVADORA DE HASTA 4000 KG CON CAZO Y MARTILLO HIDRAULICO Y CAMION DE TRASPORTE | B31: MINIRETROEXCAVADORA DE HASTA 4000 KG CON CAZO Y MARTILLO HIDRAULICO Y CAMION DE TRASPORTE. Incluido conductor | D31: H | E31: 4450 | F31: 40 | G31: =E31*F31 -> 178000
A32: RETROEXCAVADORA DE ORUGAS DE 6 TN-S O SIMILAR, CON CAZO Y MARTILLO HIDRAULICO | B32: RETROEXCAVADORA DE ORUGAS DE 6 TN-S O SIMILAR, CON CAZO Y MARTILLO HIDRAULICO inlcuido conductor NO incluye transporte | D32: H | E32: 8 | F32: 60 | G32: =E32*F32 -> 480
A33: RETROEXCAVADORA DE 8000 KG CON CAZO Y MARTILLO HIDRAULICO | B33: RETROEXCAVADORA DE 8000 KG CON CAZO Y MARTILLO HIDRAULICO. inlcuido conductor NO incluye transporte | D33: H | E33: 20 | F33: 75 | G33: =E33*F33 -> 1500
A34: RETROEXCAVADORA DE 12000KG CON CAZO Y MARTILLO HIDRAULICO | B34: RETROEXCAVADORA DE 12000KG CON CAZO Y MARTILLO HIDRAULICO inlcuido conductor NO incluye transporte | D34: H | E34: 70 | F34: 85 | G34: =E34*F34 -> 5950
A35: RETROEXCAVADORA DE ORUGAS DE 14 TN CAZO Y MARTILLO HIDRAULICO | B35: RETROEXCAVADORA DE ORUGAS DE 14 TN CAZO Y MARTILLO HIDRAULICO. inlcuido conductor NO incluye transporte | D35: H | E35: 8 | F35: 95 | G35: =E35*F35 -> 760
A36: RODILLO COMPACTADOR RANA | D36: H | E36: 80 | F36: 8 | G36: =E36*F36 -> 640
A37: RODILLO VIBRATORIO COMPACTADOR 1800 KG | D37: H | E37: 20 | F37: 10 | G37: =E37*F37 -> 200
A38: RODILLO TAMDEM 3500KG | D38: H | E38: 20 | F38: 25 | G38: =E38*F38 -> 500
A39: PISÓN PARA COMPACTACIÓN DE ÁRIDOS) | D39: H | E39: 100 | F39: 2.5 | G39: =E39*F39 -> 250
A40: GENERADOR DE ELECTRICIDAD | D40: H | E40: 2998 | F40: 9 | G40: =E40*F40 -> 26982
A41: BOMBA DE ACHIQUE SUMERGIBLE | D41: H | E41: 852 | F41: 5 | G41: =E41*F41 -> 4260
A42: MARTILLO ELÉCTRICO | D42: H | E42: 750 | F42: 5 | G42: =E42*F42 -> 3750
A43: MAQUINA PARA EJECUCIÓN DE ELECTROSOLDADURAS EN PE | D43: H | E43: 12.5 | F43: 5 | G43: =E43*F43 -> 62.5
A44: DESBROZADORA | D44: H | E44: 342 | F44: 2 | G44: =E44*F44 -> 684
...

Sheet LOTE A UNIDADES
A2: DENOMINACION | B2: DESCRIPCIÓN | C2: ESPECIFICACIONES | D2: UD | E2: UNIDADES
A3: Centro Operaciones
D5: mes | E5: 12
A6: Mano de obra
A8: ENGARGADO | D8: H | E8: 1790
A9: ENCARGADO HORA EXTRA | D9: H | E9: 50
A10: OFICIAL 1ª | D10: H | E10: 5370
A11: OFICIAL 1ª HORA EXTRA | D11: H | E11: 367
A12: OFICIAL 2ª | D12: H | E12: 17900
A13: OFICIAL 2ª HORA EXTRA | D13: H | E13: 820
A14: RETEN DIA LABORABLE | D14: H | E14: 460
A15: RETEN DIA FESTIVO | D15: H | E15: 370
A16: MAQUINARIA
A18: CAMIÓN VOLQUETE 2 EJES 10 TM O 6 M3 | B18: CAMIÓN VOLQUETE 2 EJES 10 TM O 6 M3,incluye conductor. | D18: H | E18: 20
A19: CAMION DOS EJES DE 2.8 A 4.5 TM. TIPO NISSAN CABSTAR O SIMILAR | D19: H | E19: 1336
A20: CAMIÓN GÓNDOLA PARA TRANSPORTE DE MAQUINARIA | B20: CAMIÓN GÓNDOLA PARA TRANSPORTE DE MAQUINARIA,incluye conductor. | D20: Km | E20: 3000
A21: VEHÍCULO 4 X 4 TIPO PICK-UP EQUIPADA (NISSAN PICK-UP) | D21: H | E21: 1700
A22: FURGONETA MEDIA EQUIPADA(TIPO BERLINGO. KANGOO. ETC) | D22: H | E22: 9727
A23: DUMPER 1500 KG CON CAPACIDAD SUPERIOR A 0.60 M3 | D23: H | E23: 12
A24: DUMPER 6000KG | D24: H | E24: 4
A25: HORMIGONERA DE 250 LITROS | D25: H | E25: 685
A26: HORMIGONERA ELECTRICA 80 LITROS | D26: H | E26: 5
A27: MÁQUINA PARA CORTAR ASFALTO O BALDOSA O ROTAFLEX | D27: H | E27: 607
A28: TALADRO ELECTRICO PERCUSION, ATORNILLADOR ETC | D28: H | E28: 20
A29: EQUIPO DE ILUMINACIÓN | D29: H | E29: 95
A30: PAREJA DE SEMÁFOROS Y BATERÍAS | D30: DIA | E30: 49
A31: MINIRETROEXCAVADORA DE HASTA 4000 KG CON CAZO Y MARTILLO HIDRAULICO Y CAMION DE TRASPORTE | B31: MINIRETROEXCAVADORA DE HASTA 4000 KG CON CAZO Y MARTILLO HIDRAULICO Y CAMION DE TRASPORTE. Incluido conductor | D31: H | E31: 4450
A32: RETROEXCAVADORA DE ORUGAS DE 6 TN-S O SIMILAR, CON CAZO Y MARTILLO HIDRAULICO | B32: RETROEXCAVADORA DE ORUGAS DE 6 TN-S O SIMILAR, CON CAZO Y MARTILLO HIDRAULICO inlcuido conductor NO incluye transporte | D32: H | E32: 8
A33: RETROEXCAVADORA DE 8000 KG CON CAZO Y MARTILLO HIDRAULICO | B33: RETROEXCAVADORA DE 8000 KG CON CAZO Y MARTILLO HIDRAULICO. inlcuido conductor NO incluye transporte | D33: H | E33: 20
A34: RETROEXCAVADORA DE 12000KG CON CAZO Y MARTILLO HIDRAULICO | B34: RETROEXCAVADORA DE 12000KG CON CAZO Y MARTILLO HIDRAULICO inlcuido conductor NO incluye transporte | D34: H | E34: 70
A35: RETROEXCAVADORA DE ORUGAS DE 14 TN CAZO Y MARTILLO HIDRAULICO | B35: RETROEXCAVADORA DE ORUGAS DE 14 TN CAZO Y MARTILLO HIDRAULICO. inlcuido conductor NO incluye transporte | D35: H | E35: 8
A36: RODILLO COMPACTADOR RANA | D36: H | E36: 80
A37: RODILLO VIBRATORIO COMPACTADOR 1800 KG | D37: H | E37: 20
A38: RODILLO TAMDEM 3500KG | D38: H | E38: 20
A39: PISÓN PARA COMPACTACIÓN DE ÁRIDOS) | D39: H | E39: 100
A40: GENERADOR DE ELECTRICIDAD | D40: H | E40: 2998
A41: BOMBA DE ACHIQUE SUMERGIBLE | D41: H | E41: 852
A42: MARTILLO ELÉCTRICO | D42: H | E42: 750
A43: MAQUINA PARA EJECUCIÓN DE ELECTROSOLDADURAS EN PE | D43: H | E43: 12.5
A44: DESBROZADORA | D44: H | E44: 342
...

Sheet LOTE A OFERTA
A2: DENOMINACION | B2: DESCRIPCIÓN | C2: ESPECIFICACIONES | D2: UD | E2: UNIDADES | F2: PRECIO (EUROS)
A3: Centro Operaciones
D5: mes | E5: 12
A6: Mano de obra
A8: ENGARGADO | D8: H | E8: 1790
A9: ENCARGADO HORA EXTRA | D9: H | E9: 50
A10: OFICIAL 1ª | D10: H | E10: 5370
A11: OFICIAL 1ª HORA EXTRA | D11: H | E11: 367
A12: OFICIAL 2ª | D12: H | E12: 17900
A13: OFICIAL 2ª HORA EXTRA | D13: H | E13: 820
A14: RETEN DIA LABORABLE | D14: H | E14: 460
A15: RETEN DIA FESTIVO | D15: H | E15: 370
A16: MAQUINARIA
A18: CAMIÓN VOLQUETE 2 EJES 10 TM O 6 M3 | B18: CAMIÓN VOLQUETE 2 EJES 10 TM O 6 M3,incluye conductor. | D18: H | E18: 20
A19: CAMION DOS EJES DE 2.8 A 4.5 TM. TIPO NISSAN CABSTAR O SIMILAR | D19: H | E19: 1336
A20: CAMIÓN GÓNDOLA PARA TRANSPORTE DE MAQUINARIA | B20: CAMIÓN GÓNDOLA PARA TRANSPORTE DE MAQUINARIA,incluye conductor. | D20: Km | E20: 3000
A21: VEHÍCULO 4 X 4 TIPO PICK-UP EQUIPADA (NISSAN PICK-UP) | D21: H | E21: 1700
A22: FURGONETA MEDIA EQUIPADA(TIPO BERLINGO. KANGOO. ETC) | D22: H | E22: 9727
A23: DUMPER 1500 KG CON CAPACIDAD SUPERIOR A 0.60 M3 | D23: H | E23: 12
A24: DUMPER 6000KG | D24: H | E24: 4
A25: HORMIGONERA DE 250 LITROS | D25: H | E25: 685
A26: HORMIGONERA ELECTRICA 80 LITROS | D26: H | E26: 5
A27: MÁQUINA PARA CORTAR ASFALTO O BALDOSA O ROTAFLEX | D27: H | E27: 607
A28: TALADRO ELECTRICO PERCUSION, ATORNILLADOR ETC | D28: H | E28: 20
A29: EQUIPO DE ILUMINACIÓN | D29: H | E29: 95
A30: PAREJA DE SEMÁFOROS Y BATERÍAS | D30: DIA | E30: 49
A31: MINIRETROEXCAVADORA DE HASTA 4000 KG CON CAZO Y MARTILLO HIDRAULICO Y CAMION DE TRASPORTE | B31: MINIRETROEXCAVADORA DE HASTA 4000 KG CON CAZO Y MARTILLO HIDRAULICO Y CAMION DE TRASPORTE. Incluido conductor | D31: H | E31: 4450
A32: RETROEXCAVADORA DE ORUGAS DE 6 TN-S O SIMILAR, CON CAZO Y MARTILLO HIDRAULICO | B32: RETROEXCAVADORA DE ORUGAS DE 6 TN-S O SIMILAR, CON CAZO Y MARTILLO HIDRAULICO inlcuido conductor NO incluye transporte | D32: H | E32: 8
A33: RETROEXCAVADORA DE 8000 KG CON CAZO Y MARTILLO HIDRAULICO | B33: RETROEXCAVADORA DE 8000 KG CON CAZO Y MARTILLO HIDRAULICO. inlcuido conductor NO incluye transporte | D33: H | E33: 20
A34: RETROEXCAVADORA DE 12000KG CON CAZO Y MARTILLO HIDRAULICO | B34: RETROEXCAVADORA DE 12000KG CON CAZO Y MARTILLO HIDRAULICO inlcuido conductor NO incluye transporte | D34: H | E34: 70
A35: RETROEXCAVADORA DE ORUGAS DE 14 TN CAZO Y MARTILLO HIDRAULICO | B35: RETROEXCAVADORA DE ORUGAS DE 14 TN CAZO Y MARTILLO HIDRAULICO. inlcuido conductor NO incluye transporte | D35: H | E35: 8
A36: RODILLO COMPACTADOR RANA | D36: H | E36: 80
A37: RODILLO VIBRATORIO COMPACTADOR 1800 KG | D37: H | E37: 20
A38: RODILLO TAMDEM 3500KG | D38: H | E38: 20
A39: PISÓN PARA COMPACTACIÓN DE ÁRIDOS) | D39: H | E39: 100
A40: GENERADOR DE ELECTRICIDAD | D40: H | E40: 2998
A41: BOMBA DE ACHIQUE SUMERGIBLE | D41: H | E41: 852
A42: MARTILLO ELÉCTRICO | D42: H | E42: 750
A43: MAQUINA PARA EJECUCIÓN DE ELECTROSOLDADURAS EN PE | D43: H | E43: 12.5
A44: DESBROZADORA | D44: H | E44: 342
...

Sheet RESUMEN
B2: PRECIO TOTAL
A3: Centro Operaciones | B3: ='LOTE A TODO'!$G$3 -> 203534.9
A4: Mano de obra | B4: ='LOTE A TODO'!$G$6 -> 637110.75
A5: MAQUINARIA | B5: ='LOTE A TODO'!$G$16 -> 316158.6
A6: MATERIALES | B6: ='LOTE A TODO'!$G$57 -> 281313.31
A7: TRABAJOS PROGRAMADOS | B7: ='LOTE A TODO'!$G$1110 -> 69350
B9: =SUM(B3:B8) -> 1507467.6

Sheet RESUMEN (2)
B2: PRECIO TOTAL
A3: Centro Operaciones
A4: Mano de obra
A5: MAQUINARIA
A6: MATERIALES
A7: TRABAJOS PROGRAMADOS
B9: =SUM(B3:B8) -> 0
