Workbook

Sheet Analítica Proyecto Planta Pilot
A1: Parámetro analítico | C1: Clasificación | D1: Lugar medición | E1: Etapa proceso | G1: Etapa proceso (a salida) | I1: Etapa proceso (a salida) | K1: Etapa proceso (a salida) | M1: Etapa proceso (a salida) | O1: Etapa proceso (a salida) | Q1: Etapa proceso (a salida) | S1: RD 140/2003 | U1: Total | V1: Total | BZ1: Lugar medida | CB1: Frecuencia | CD1: Clasificación
A2: CONFIGURACIONES | B2: 24 | E2: Agua río | F2: Frecuencia | G2: Preoxidación | H2: Frecuencia | I2: Coagulac-Floc-Decanta | J2: Frecuencia | K2: Filtro arena | L2: Frecuencia | M2: Postoxidación | N2: Frecuencia | O2: Carbón Activo | P2: Frecuencia | Q2: Desinfección | R2: Frecuencia | S2: Agua tratada | T2: Frecuencia | U2: Analíticas/15d | V2: Analíticas/Año | BZ2: On line | CB2: on line | CD2: RD 140
A3: Temperatura | D3: On line | E3: x | F3: on line | I3: x | J3: on line | S3: x | T3: on line | U3: =Frecuencia!J3 -> On line | V3: =IF(U3="On line","On line",U3*$B$2) -> On line | BZ3: Laboratorio planta | CB3: 4/día | CD3: Sust. Prioritaria
A4: Conductividad | C4: RD 140 | D4: On line | E4: x | F4: on line | S4: x | T4: on line | U4: =Frecuencia!J4 -> On line | V4: =IF(U4="On line","On line",U4*$B$2) -> On line | BZ4: Venta Alta | CB4: 2/día | CD4: NCA
A5: pH | C5: RD 140 | D5: On line | E5: x | F5: on line | I5: x | J5: on line | S5: x | T5: on line | U5: =Frecuencia!J5 -> On line | V5: =IF(U5="On line","On line",U5*$B$2) -> On line | BZ5: Venta Alta Control | CB5: diaria | CD5: Lista Observación
A6: Turbidez | C6: RD 140 | D6: On line | E6: x | F6: on line | I6: x | J6: on line | K6: x | L6: on line | S6: x | T6: on line | U6: =Frecuencia!J6 -> On line | V6: =IF(U6="On line","On line",U6*$B$2) -> On line | BZ6: Venta Alta Completo | CB6: 2/sem | CD6: RD 140/S.Prior/NCA
A7: Oxígeno disuelto (OD) | D7: On line | E7: x | F7: on line | S7: x | T7: on line | U7: =Frecuencia!J7 -> On line | V7: =IF(U7="On line","On line",U7*$B$2) -> On line | BZ7: Labo Externo | CB7: 3/semana | CD7: S.Prior/NCA
A8: Carbono organico total (TOC) | C8: RD 140 | D8: On line | E8: x | F8: on line | I8: x | J8: on line | K8: x | L8: on line | S8: x | T8: on line | U8: =Frecuencia!J8 -> On line | V8: =IF(U8="On line","On line",U8*$B$2) -> On line | W8: El medidor TOC tiene 2 entradas de agua. Para controlar procesos concretos se puede jugar con estas 2 entradas y alimentar de donde convenga: tras filtro arena o filtro CA. | BZ8: Labo Externo CADAGUA | CB8: semanal | CD8: RD 140/NCA
A9: Carbono organico total (TOC) | C9: RD 140 | D9: Venta Alta Control | E9: x | F9: semanal | S9: x | T9: semanal | U9: =Frecuencia!J9 -> 4 | V9: =IF(U9="On line","On line",U9*$B$2) -> 96 | CB9: quincenal | CD9: RD 140/S.Prior
A10: pH | C10: RD 140 | D10: Laboratorio planta | E10: x | F10: 2/día | G10: x | H10: 2/día | I10: x | J10: 2/día | M10: x | N10: 2/día | S10: x | T10: 2/día | U10: =Frecuencia!J10 -> 100 | V10: =IF(U10="On line","On line",U10*$B$2) -> 2400 | CB10: mensual | CD10: Cont. Emergente
A11: pH (Control) | C11: RD 140 | D11: Venta Alta Control | E11: x | F11: 3/semana | S11: x | T11: 3/semana | U11: =Frecuencia!J11 -> 12 | V11: =IF(U11="On line","On line",U11*$B$2) -> 288 | CD11: Disrup. Endocrino
A12: Turbidez | C12: RD 140 | D12: Laboratorio planta | E12: x | F12: 2/día | I12: x | J12: 2/día | K12: x | L12: 2/día | S12: x | T12: 2/día | U12: =Frecuencia!J12 -> 80 | V12: =IF(U12="On line","On line",U12*$B$2) -> 1920
A13: Turbidez (control) | C13: RD 140 | D13: Venta Alta Control | E13: x | F13: 3/semana | S13: x | T13: 3/semana | U13: =Frecuencia!J13 -> 12 | V13: =IF(U13="On line","On line",U13*$B$2) -> 288
A14: Conductividad | C14: RD 140 | D14: Laboratorio planta | E14: x | F14: diaria | I14: x | J14: diaria | S14: x | T14: diaria | U14: =Frecuencia!J14 -> 30 | V14: =IF(U14="On line","On line",U14*$B$2) -> 720
A15: Conductividad (control) | C15: RD 140 | D15: Venta Alta Control | E15: x | F15: 3/semana | S15: x | T15: 3/semana | U15: =Frecuencia!J15 -> 12 | V15: =IF(U15="On line","On line",U15*$B$2) -> 288
A16: Color (control) | C16: RD 140 | D16: Venta Alta Control | E16: x | F16: 3/semana | M16: x | N16: semanal | S16: x | T16: 3/semana | U16: =Frecuencia!J16 -> 14 | V16: =IF(U16="On line","On line",U16*$B$2) -> 336
A17: Olor | C17: RD 140 | D17: Labo Externo | U17: =Frecuencia!J17 -> 0 | V17: =IF(U17="On line","On line",U17*$B$2) -> 0 | W17: Algo habrá que hacer… Pendiente ver que hacen en otros sitios
A18: Sabor | C18: RD 140 | D18: Labo Externo | U18: =Frecuencia!J18 -> 0 | V18: =IF(U18="On line","On line",U18*$B$2) -> 0 | W18: Algo habrá que hacer… Pendiente ver que hacen en otros sitios
A19: Sólidos en Suspensión | D19: Labo Externo | E19: x | F19: mensual | U19: =Frecuencia!J19 -> 0.5 | V19: =IF(U19="On line","On line",U19*$B$2) -> 12
A20: Ozono residual | D20: On line | G20: x (si O3) | H20: on line | M20: x (si O3) | N20: on line | U20: =Frecuencia!J20 -> On line | V20: =IF(U20="On line","On line",U20*$B$2) -> On line
A21: Alcalinidad total | D21: Venta Alta Completo | E21: x | F21: quincenal | S21: x | T21: quincenal | U21: =Frecuencia!J21 -> 2 | V21: =IF(U21="On line","On line",U21*$B$2) -> 48
A22: Carbonatos | D22: Venta Alta Completo | E22: x | F22: quincenal | S22: x | T22: quincenal | U22: =Frecuencia!J22 -> 2 | V22: =IF(U22="On line","On line",U22*$B$2) -> 48
A23: Bicarbonatos | D23: Venta Alta Completo | E23: x | F23: quincenal | S23: x | T23: quincenal | U23: =Frecuencia!J23 -> 2 | V23: =IF(U23="On line","On line",U23*$B$2) -> 48
A24: DQO (baja concentración) (siTurbidez Agua Bruta > 50 NTU) | D24: Laboratorio planta | E24: x | F24: diaria | I24: x | J24: diaria | S24: x | T24: diaria | U24: =Frecuencia!J24 -> 30 | V24: =IF(U24="On line","On line",U24*$B$2) -> 720
A25: Oxidabilidad a MnO4K | C25: RD 140 | D25: Venta Alta Control | E25: x | F25: 3/semana | S25: x | T25: 3/semana | U25: =Frecuencia!J25 -> 12 | V25: =IF(U25="On line","On line",U25*$B$2) -> 288
A26: Detergentes | D26: Labo Externo | E26: x | F26: mensual | U26: =Frecuencia!J26 -> 0.5 | V26: =IF(U26="On line","On line",U26*$B$2) -> 12 | W26: Maite investigará si se analizan, de qué tipo
A27: Fluoruros (control) | C27: RD 140 | D27: Venta Alta Control | E27: x | F27: 3/semana | S27: x | T27: 3/semana | U27: =Frecuencia!J27 -> 12 | V27: =IF(U27="On line","On line",U27*$B$2) -> 288
A28: Cloruros (Cl-) | C28: RD 140 | D28: Venta Alta Control | E28: x | F28: semanal | S28: x | T28: semanal | U28: =Frecuencia!J28 -> 4 | V28: =IF(U28="On line","On line",U28*$B$2) -> 96
A29: Cloro libre residual (in situ) | C29: RD 140 | D29: On line | G29: x | H29: on line | I29: x | J29: on line | K29: x | L29: on line | S29: x | T29: on line | U29: =Frecuencia!J29 -> On line | V29: =IF(U29="On line","On line",U29*$B$2) -> On line
A30: Cloro libre residual (in situ) | C30: RD 140 | D30: Laboratorio planta | I30: x | J30: diaria | K30: x | L30: diaria | S30: x | T30: diaria | U30: =Frecuencia!J30 -> 30 | V30: =IF(U30="On line","On line",U30*2*3+U30*2*4) -> 420
A31: Cloro libre residual (control) | C31: RD 140 | D31: Venta Alta Control | F31: 3/semana | S31: x | T31: 3/semana | U31: =Frecuencia!J31 -> 12 | V31: =IF(U31="On line","On line",U31*$B$2) -> 288
A32: Cloro combinado residual | C32: RD 140 | D32: Venta Alta Control | U32: =Frecuencia!J32 -> 0 | V32: =IF(U32="On line","On line",U32*$B$2) -> 0 | W32: Tiene interés? Ver dato amonio a entrada
A33: Dióxido de cloro (ClO2) | D33: On line | G33: x | H33: on line | I33: x | J33: on line | K33: x | L33: on line | S33: x | T33: on line | U33: =Frecuencia!J33 -> On line | V33: =IF(U33="On line","On line",U33*$B$2) -> On line
A34: Dióxido de cloro (ClO2) | D34: Laboratorio planta | I34: x (si ClO2) | J34: diaria | K34: x (si ClO2) | L34: diaria | O34: x (si ClO2) | P34: diaria | U34: =Frecuencia!J34 -> 30 | V34: =IF(U34="On line","On line",U34*$B$2/4) -> 180 | W34: Se realiza cuando se usa ClO2 en la preoxidación.
A35: Cloritos (ClO2-) | D35: Laboratorio planta | U35: =Frecuencia!J35 -> 0 | V35: =IF(U35="On line","On line",U35*$B$2/4) -> 0 | W35: Se realiza cuando se usa ClO2 en la preoxidación.
A36: Cloritos (ClO2-) (control) | D36: Venta Alta Control | E36: x (si ClO2) | F36: semanal | S36: x (si ClO2) | T36: semanal | U36: =Frecuencia!J36 -> 4 | V36: =IF(U36="On line","On line",U36*$B$2/4) -> 24
A37: Cloratos (ClO3-) | D37: Laboratorio planta | U37: =Frecuencia!J37 -> 0 | V37: =IF(U37="On line","On line",U37*$B$2/4) -> 0 | W37: Se realiza cuando se usa ClO2 en la preoxidación.
A38: Cloratos (ClO3-) (control) | D38: Venta Alta Control | E38: x (si ClO2) | F38: semanal | S38: x (si ClO2) | T38: semanal | U38: =Frecuencia!J38 -> 4 | V38: =IF(U38="On line","On line",U38*$B$2/4) -> 24
A39: Bromatos | C39: RD 140 | D39: Laboratorio planta | U39: =Frecuencia!J39 -> 0 | V39: =IF(U39="On line","On line",U39*6+(U39/2)*6*3) -> 0
A40: Bromatos (control) | C40: RD 140 | D40: Venta Alta Control | E40: x (si O3 en Pre) | F40: semanal | G40: x (si O3 en Pre) | H40: semanal | M40: x (si O3 en Pre) | N40: semanal | O40: x (si O3 en Pre) | P40: semanal | S40: x (si O3 en Pre) | T40: semanal | U40: =Frecuencia!J40 -> 10 | V40: =IF(U40="On line","On line",U40*$B$2/4) -> 60
...

Sheet Frecuencia
A1: Parámetro analítico | B1: Agua río | C1: Preoxidación | D1: Coagulac-Floc-Decanta | E1: Filtro arena | F1: Postoxidación | G1: Carbón Activo | H1: Desinfección | I1: Agua tratada RD 140/2003 | J1: Total | AZ1: Lugar medida | BB1: Frecuencia | BD1: Nº analiticas/quincena
B2: Frecuencia | C2: Frecuencia | D2: Frecuencia | E2: Frecuencia | F2: Frecuencia | G2: Frecuencia | H2: Frecuencia | I2: Frecuencia | J2: Analíticas/15d | AZ2: On line | BB2: on line | BD2: on line | BE2: online
A3: Temperatura | B3: =IF('Analítica Proyecto Planta Pilot'!F3="","",VLOOKUP('Analítica Proyecto Planta Pilot'!F3,Frecuencia!$BD$2:$BE$10,2,FALSE)) -> online | C3: =IF('Analítica Proyecto Planta Pilot'!H3="","",VLOOKUP('Analítica Proyecto Planta Pilot'!H3,Frecuencia!$BD$2:$BE$10,2,FALSE)) | D3: =IF('Analítica Proyecto Planta Pilot'!J3="","",VLOOKUP('Analítica Proyecto Planta Pilot'!J3,Frecuencia!$BD$2:$BE$10,2,FALSE)) -> online | E3: =IF('Analítica Proyecto Planta Pilot'!L3="","",VLOOKUP('Analítica Proyecto Planta Pilot'!L3,Frecuencia!$BD$2:$BE$10,2,FALSE)) | F3: =IF('Analítica Proyecto Planta Pilot'!N3="","",VLOOKUP('Analítica Proyecto Planta Pilot'!N3,Frecuencia!$BD$2:$BE$10,2,FALSE)) | G3: =IF('Analítica Proyecto Planta Pilot'!P3="","",VLOOKUP('Analítica Proyecto Planta Pilot'!P3,Frecuencia!$BD$2:$BE$10,2,FALSE)) | H3: =IF('Analítica Proyecto Planta Pilot'!R3="","",VLOOKUP('Analítica Proyecto Planta Pilot'!R3,Frecuencia!$BD$2:$BE$10,2,FALSE)) | I3: =IF('Analítica Proyecto Planta Pilot'!T3="","",VLOOKUP('Analítica Proyecto Planta Pilot'!T3,Frecuencia!$BD$2:$BE$10,2,FALSE)) -> online | J3: =IF('Analítica Proyecto Planta Pilot'!D3="On line","On line",SUM(B3:I3)) -> On line | AZ3: Laboratorio planta | BB3: 4/día | BD3: 4/día | BE3: 40
A4: Conductividad | B4: =IF('Analítica Proyecto Planta Pilot'!F4="","",VLOOKUP('Analítica Proyecto Planta Pilot'!F4,Frecuencia!$BD$2:$BE$10,2,FALSE)) -> online | C4: =IF('Analítica Proyecto Planta Pilot'!H4="","",VLOOKUP('Analítica Proyecto Planta Pilot'!H4,Frecuencia!$BD$2:$BE$10,2,FALSE)) | D4: =IF('Analítica Proyecto Planta Pilot'!J4="","",VLOOKUP('Analítica Proyecto Planta Pilot'!J4,Frecuencia!$BD$2:$BE$10,2,FALSE)) | E4: =IF('Analítica Proyecto Planta Pilot'!L4="","",VLOOKUP('Analítica Proyecto Planta Pilot'!L4,Frecuencia!$BD$2:$BE$10,2,FALSE)) | F4: =IF('Analítica Proyecto Planta Pilot'!N4="","",VLOOKUP('Analítica Proyecto Planta Pilot'!N4,Frecuencia!$BD$2:$BE$10,2,FALSE)) | G4: =IF('Analítica Proyecto Planta Pilot'!P4="","",VLOOKUP('Analítica Proyecto Planta Pilot'!P4,Frecuencia!$BD$2:$BE$10,2,FALSE)) | H4: =IF('Analítica Proyecto Planta Pilot'!R4="","",VLOOKUP('Analítica Proyecto Planta Pilot'!R4,Frecuencia!$BD$2:$BE$10,2,FALSE)) | I4: =IF('Analítica Proyecto Planta Pilot'!T4="","",VLOOKUP('Analítica Proyecto Planta Pilot'!T4,Frecuencia!$BD$2:$BE$10,2,FALSE)) -> online | J4: =IF('Analítica Proyecto Planta Pilot'!D4="On line","On line",SUM(B4:I4)) -> On line | AZ4: Venta Alta | BB4: 2/día | BD4: 2/día | BE4: 20
A5: pH | B5: =IF('Analítica Proyecto Planta Pilot'!F5="","",VLOOKUP('Analítica Proyecto Planta Pilot'!F5,Frecuencia!$BD$2:$BE$10,2,FALSE)) -> online | C5: =IF('Analítica Proyecto Planta Pilot'!H5="","",VLOOKUP('Analítica Proyecto Planta Pilot'!H5,Frecuencia!$BD$2:$BE$10,2,FALSE)) | D5: =IF('Analítica Proyecto Planta Pilot'!J5="","",VLOOKUP('Analítica Proyecto Planta Pilot'!J5,Frecuencia!$BD$2:$BE$10,2,FALSE)) -> online | E5: =IF('Analítica Proyecto Planta Pilot'!L5="","",VLOOKUP('Analítica Proyecto Planta Pilot'!L5,Frecuencia!$BD$2:$BE$10,2,FALSE)) | F5: =IF('Analítica Proyecto Planta Pilot'!N5="","",VLOOKUP('Analítica Proyecto Planta Pilot'!N5,Frecuencia!$BD$2:$BE$10,2,FALSE)) | G5: =IF('Analítica Proyecto Planta Pilot'!P5="","",VLOOKUP('Analítica Proyecto Planta Pilot'!P5,Frecuencia!$BD$2:$BE$10,2,FALSE)) | H5: =IF('Analítica Proyecto Planta Pilot'!R5="","",VLOOKUP('Analítica Proyecto Planta Pilot'!R5,Frecuencia!$BD$2:$BE$10,2,FALSE)) | I5: =IF('Analítica Proyecto Planta Pilot'!T5="","",VLOOKUP('Analítica Proyecto Planta Pilot'!T5,Frecuencia!$BD$2:$BE$10,2,FALSE)) -> online | J5: =IF('Analítica Proyecto Planta Pilot'!D5="On line","On line",SUM(B5:I5)) -> On line | AZ5: Venta Alta Control | BB5: diaria | BD5: diaria | BE5: 10
A6: Turbidez | B6: =IF('Analítica Proyecto Planta Pilot'!F6="","",VLOOKUP('Analítica Proyecto Planta Pilot'!F6,Frecuencia!$BD$2:$BE$10,2,FALSE)) -> online | C6: =IF('Analítica Proyecto Planta Pilot'!H6="","",VLOOKUP('Analítica Proyecto Planta Pilot'!H6,Frecuencia!$BD$2:$BE$10,2,FALSE)) | D6: =IF('Analítica Proyecto Planta Pilot'!J6="","",VLOOKUP('Analítica Proyecto Planta Pilot'!J6,Frecuencia!$BD$2:$BE$10,2,FALSE)) -> online | E6: =IF('Analítica Proyecto Planta Pilot'!L6="","",VLOOKUP('Analítica Proyecto Planta Pilot'!L6,Frecuencia!$BD$2:$BE$10,2,FALSE)) -> online | F6: =IF('Analítica Proyecto Planta Pilot'!N6="","",VLOOKUP('Analítica Proyecto Planta Pilot'!N6,Frecuencia!$BD$2:$BE$10,2,FALSE)) | G6: =IF('Analítica Proyecto Planta Pilot'!P6="","",VLOOKUP('Analítica Proyecto Planta Pilot'!P6,Frecuencia!$BD$2:$BE$10,2,FALSE)) | H6: =IF('Analítica Proyecto Planta Pilot'!R6="","",VLOOKUP('Analítica Proyecto Planta Pilot'!R6,Frecuencia!$BD$2:$BE$10,2,FALSE)) | I6: =IF('Analítica Proyecto Planta Pilot'!T6="","",VLOOKUP('Analítica Proyecto Planta Pilot'!T6,Frecuencia!$BD$2:$BE$10,2,FALSE)) -> online | J6: =IF('Analítica Proyecto Planta Pilot'!D6="On line","On line",SUM(B6:I6)) -> On line | AZ6: Venta Alta Completo | BB6: 2/sem | BD6: 2/sem | BE6: 4
A7: Oxígeno disuelto (OD) | B7: =IF('Analítica Proyecto Planta Pilot'!F7="","",VLOOKUP('Analítica Proyecto Planta Pilot'!F7,Frecuencia!$BD$2:$BE$10,2,FALSE)) -> online | C7: =IF('Analítica Proyecto Planta Pilot'!H7="","",VLOOKUP('Analítica Proyecto Planta Pilot'!H7,Frecuencia!$BD$2:$BE$10,2,FALSE)) | D7: =IF('Analítica Proyecto Planta Pilot'!J7="","",VLOOKUP('Analítica Proyecto Planta Pilot'!J7,Frecuencia!$BD$2:$BE$10,2,FALSE)) | E7: =IF('Analítica Proyecto Planta Pilot'!L7="","",VLOOKUP('Analítica Proyecto Planta Pilot'!L7,Frecuencia!$BD$2:$BE$10,2,FALSE)) | F7: =IF('Analítica Proyecto Planta Pilot'!N7="","",VLOOKUP('Analítica Proyecto Planta Pilot'!N7,Frecuencia!$BD$2:$BE$10,2,FALSE)) | G7: =IF('Analítica Proyecto Planta Pilot'!P7="","",VLOOKUP('Analítica Proyecto Planta Pilot'!P7,Frecuencia!$BD$2:$BE$10,2,FALSE)) | H7: =IF('Analítica Proyecto Planta Pilot'!R7="","",VLOOKUP('Analítica Proyecto Planta Pilot'!R7,Frecuencia!$BD$2:$BE$10,2,FALSE)) | I7: =IF('Analítica Proyecto Planta Pilot'!T7="","",VLOOKUP('Analítica Proyecto Planta Pilot'!T7,Frecuencia!$BD$2:$BE$10,2,FALSE)) -> online | J7: =IF('Analítica Proyecto Planta Pilot'!D7="On line","On line",SUM(B7:I7)) -> On line | AZ7: Labo Externo | BB7: 3/semana | BD7: 3/semana | BE7: 6
A8: Carbono organico total (TOC) | B8: =IF('Analítica Proyecto Planta Pilot'!F8="","",VLOOKUP('Analítica Proyecto Planta Pilot'!F8,Frecuencia!$BD$2:$BE$10,2,FALSE)) -> online | C8: =IF('Analítica Proyecto Planta Pilot'!H8="","",VLOOKUP('Analítica Proyecto Planta Pilot'!H8,Frecuencia!$BD$2:$BE$10,2,FALSE)) | D8: =IF('Analítica Proyecto Planta Pilot'!J8="","",VLOOKUP('Analítica Proyecto Planta Pilot'!J8,Frecuencia!$BD$2:$BE$10,2,FALSE)) -> online | E8: =IF('Analítica Proyecto Planta Pilot'!L8="","",VLOOKUP('Analítica Proyecto Planta Pilot'!L8,Frecuencia!$BD$2:$BE$10,2,FALSE)) -> online | F8: =IF('Analítica Proyecto Planta Pilot'!N8="","",VLOOKUP('Analítica Proyecto Planta Pilot'!N8,Frecuencia!$BD$2:$BE$10,2,FALSE)) | G8: =IF('Analítica Proyecto Planta Pilot'!P8="","",VLOOKUP('Analítica Proyecto Planta Pilot'!P8,Frecuencia!$BD$2:$BE$10,2,FALSE)) | H8: =IF('Analítica Proyecto Planta Pilot'!R8="","",VLOOKUP('Analítica Proyecto Planta Pilot'!R8,Frecuencia!$BD$2:$BE$10,2,FALSE)) | I8: =IF('Analítica Proyecto Planta Pilot'!T8="","",VLOOKUP('Analítica Proyecto Planta Pilot'!T8,Frecuencia!$BD$2:$BE$10,2,FALSE)) -> online | J8: =IF('Analítica Proyecto Planta Pilot'!D8="On line","On line",SUM(B8:I8)) -> On line | BB8: semanal | BD8: semanal | BE8: 2
A9: Carbono organico total (TOC) | B9: =IF('Analítica Proyecto Planta Pilot'!F9="","",VLOOKUP('Analítica Proyecto Planta Pilot'!F9,Frecuencia!$BD$2:$BE$10,2,FALSE)) -> 2 | C9: =IF('Analítica Proyecto Planta Pilot'!H9="","",VLOOKUP('Analítica Proyecto Planta Pilot'!H9,Frecuencia!$BD$2:$BE$10,2,FALSE)) | D9: =IF('Analítica Proyecto Planta Pilot'!J9="","",VLOOKUP('Analítica Proyecto Planta Pilot'!J9,Frecuencia!$BD$2:$BE$10,2,FALSE)) | E9: =IF('Analítica Proyecto Planta Pilot'!L9="","",VLOOKUP('Analítica Proyecto Planta Pilot'!L9,Frecuencia!$BD$2:$BE$10,2,FALSE)) | F9: =IF('Analítica Proyecto Planta Pilot'!N9="","",VLOOKUP('Analítica Proyecto Planta Pilot'!N9,Frecuencia!$BD$2:$BE$10,2,FALSE)) | G9: =IF('Analítica Proyecto Planta Pilot'!P9="","",VLOOKUP('Analítica Proyecto Planta Pilot'!P9,Frecuencia!$BD$2:$BE$10,2,FALSE)) | H9: =IF('Analítica Proyecto Planta Pilot'!R9="","",VLOOKUP('Analítica Proyecto Planta Pilot'!R9,Frecuencia!$BD$2:$BE$10,2,FALSE)) | I9: =IF('Analítica Proyecto Planta Pilot'!T9="","",VLOOKUP('Analítica Proyecto Planta Pilot'!T9,Frecuencia!$BD$2:$BE$10,2,FALSE)) -> 2 | J9: =IF('Analítica Proyecto Planta Pilot'!D9="On line","On line",SUM(B9:I9)) -> 4 | BB9: quincenal | BD9: quincenal | BE9: 1
A10: pH | B10: =IF('Analítica Proyecto Planta Pilot'!F10="","",VLOOKUP('Analítica Proyecto Planta Pilot'!F10,Frecuencia!$BD$2:$BE$10,2,FALSE)) -> 20 | C10: =IF('Analítica Proyecto Planta Pilot'!H10="","",VLOOKUP('Analítica Proyecto Planta Pilot'!H10,Frecuencia!$BD$2:$BE$10,2,FALSE)) -> 20 | D10: =IF('Analítica Proyecto Planta Pilot'!J10="","",VLOOKUP('Analítica Proyecto Planta Pilot'!J10,Frecuencia!$BD$2:$BE$10,2,FALSE)) -> 20 | E10: =IF('Analítica Proyecto Planta Pilot'!L10="","",VLOOKUP('Analítica Proyecto Planta Pilot'!L10,Frecuencia!$BD$2:$BE$10,2,FALSE)) | F10: =IF('Analítica Proyecto Planta Pilot'!N10="","",VLOOKUP('Analítica Proyecto Planta Pilot'!N10,Frecuencia!$BD$2:$BE$10,2,FALSE)) -> 20 | G10: =IF('Analítica Proyecto Planta Pilot'!P10="","",VLOOKUP('Analítica Proyecto Planta Pilot'!P10,Frecuencia!$BD$2:$BE$10,2,FALSE)) | H10: =IF('Analítica Proyecto Planta Pilot'!R10="","",VLOOKUP('Analítica Proyecto Planta Pilot'!R10,Frecuencia!$BD$2:$BE$10,2,FALSE)) | I10: =IF('Analítica Proyecto Planta Pilot'!T10="","",VLOOKUP('Analítica Proyecto Planta Pilot'!T10,Frecuencia!$BD$2:$BE$10,2,FALSE)) -> 20 | J10: =IF('Analítica Proyecto Planta Pilot'!D10="On line","On line",SUM(B10:I10)) -> 100 | BB10: mensual | BD10: mensual | BE10: 0.5
A11: pH (Control) | B11: =IF('Analítica Proyecto Planta Pilot'!F11="","",VLOOKUP('Analítica Proyecto Planta Pilot'!F11,Frecuencia!$BD$2:$BE$10,2,FALSE)) -> 6 | C11: =IF('Analítica Proyecto Planta Pilot'!H11="","",VLOOKUP('Analítica Proyecto Planta Pilot'!H11,Frecuencia!$BD$2:$BE$10,2,FALSE)) | D11: =IF('Analítica Proyecto Planta Pilot'!J11="","",VLOOKUP('Analítica Proyecto Planta Pilot'!J11,Frecuencia!$BD$2:$BE$10,2,FALSE)) | E11: =IF('Analítica Proyecto Planta Pilot'!L11="","",VLOOKUP('Analítica Proyecto Planta Pilot'!L11,Frecuencia!$BD$2:$BE$10,2,FALSE)) | F11: =IF('Analítica Proyecto Planta Pilot'!N11="","",VLOOKUP('Analítica Proyecto Planta Pilot'!N11,Frecuencia!$BD$2:$BE$10,2,FALSE)) | G11: =IF('Analítica Proyecto Planta Pilot'!P11="","",VLOOKUP('Analítica Proyecto Planta Pilot'!P11,Frecuencia!$BD$2:$BE$10,2,FALSE)) | H11: =IF('Analítica Proyecto Planta Pilot'!R11="","",VLOOKUP('Analítica Proyecto Planta Pilot'!R11,Frecuencia!$BD$2:$BE$10,2,FALSE)) | I11: =IF('Analítica Proyecto Planta Pilot'!T11="","",VLOOKUP('Analítica Proyecto Planta Pilot'!T11,Frecuencia!$BD$2:$BE$10,2,FALSE)) -> 6 | J11: =IF('Analítica Proyecto Planta Pilot'!D11="On line","On line",SUM(B11:I11)) -> 12
A12: Turbidez | B12: =IF('Analítica Proyecto Planta Pilot'!F12="","",VLOOKUP('Analítica Proyecto Planta Pilot'!F12,Frecuencia!$BD$2:$BE$10,2,FALSE)) -> 20 | C12: =IF('Analítica Proyecto Planta Pilot'!H12="","",VLOOKUP('Analítica Proyecto Planta Pilot'!H12,Frecuencia!$BD$2:$BE$10,2,FALSE)) | D12: =IF('Analítica Proyecto Planta Pilot'!J12="","",VLOOKUP('Analítica Proyecto Planta Pilot'!J12,Frecuencia!$BD$2:$BE$10,2,FALSE)) -> 20 | E12: =IF('Analítica Proyecto Planta Pilot'!L12="","",VLOOKUP('Analítica Proyecto Planta Pilot'!L12,Frecuencia!$BD$2:$BE$10,2,FALSE)) -> 20 | F12: =IF('Analítica Proyecto Planta Pilot'!N12="","",VLOOKUP('Analítica Proyecto Planta Pilot'!N12,Frecuencia!$BD$2:$BE$10,2,FALSE)) | G12: =IF('Analítica Proyecto Planta Pilot'!P12="","",VLOOKUP('Analítica Proyecto Planta Pilot'!P12,Frecuencia!$BD$2:$BE$10,2,FALSE)) | H12: =IF('Analítica Proyecto Planta Pilot'!R12="","",VLOOKUP('Analítica Proyecto Planta Pilot'!R12,Frecuencia!$BD$2:$BE$10,2,FALSE)) | I12: =IF('Analítica Proyecto Planta Pilot'!T12="","",VLOOKUP('Analítica Proyecto Planta Pilot'!T12,Frecuencia!$BD$2:$BE$10,2,FALSE)) -> 20 | J12: =IF('Analítica Proyecto Planta Pilot'!D12="On line","On line",SUM(B12:I12)) -> 80
A13: Turbidez (control) | B13: =IF('Analítica Proyecto Planta Pilot'!F13="","",VLOOKUP('Analítica Proyecto Planta Pilot'!F13,Frecuencia!$BD$2:$BE$10,2,FALSE)) -> 6 | C13: =IF('Analítica Proyecto Planta Pilot'!H13="","",VLOOKUP('Analítica Proyecto Planta Pilot'!H13,Frecuencia!$BD$2:$BE$10,2,FALSE)) | D13: =IF('Analítica Proyecto Planta Pilot'!J13="","",VLOOKUP('Analítica Proyecto Planta Pilot'!J13,Frecuencia!$BD$2:$BE$10,2,FALSE)) | E13: =IF('Analítica Proyecto Planta Pilot'!L13="","",VLOOKUP('Analítica Proyecto Planta Pilot'!L13,Frecuencia!$BD$2:$BE$10,2,FALSE)) | F13: =IF('Analítica Proyecto Planta Pilot'!N13="","",VLOOKUP('Analítica Proyecto Planta Pilot'!N13,Frecuencia!$BD$2:$BE$10,2,FALSE)) | G13: =IF('Analítica Proyecto Planta Pilot'!P13="","",VLOOKUP('Analítica Proyecto Planta Pilot'!P13,Frecuencia!$BD$2:$BE$10,2,FALSE)) | H13: =IF('Analítica Proyecto Planta Pilot'!R13="","",VLOOKUP('Analítica Proyecto Planta Pilot'!R13,Frecuencia!$BD$2:$BE$10,2,FALSE)) | I13: =IF('Analítica Proyecto Planta Pilot'!T13="","",VLOOKUP('Analítica Proyecto Planta Pilot'!T13,Frecuencia!$BD$2:$BE$10,2,FALSE)) -> 6 | J13: =IF('Analítica Proyecto Planta Pilot'!D13="On line","On line",SUM(B13:I13)) -> 12
A14: Conductividad | B14: =IF('Analítica Proyecto Planta Pilot'!F14="","",VLOOKUP('Analítica Proyecto Planta Pilot'!F14,Frecuencia!$BD$2:$BE$10,2,FALSE)) -> 10 | C14: =IF('Analítica Proyecto Planta Pilot'!H14="","",VLOOKUP('Analítica Proyecto Planta Pilot'!H14,Frecuencia!$BD$2:$BE$10,2,FALSE)) | D14: =IF('Analítica Proyecto Planta Pilot'!J14="","",VLOOKUP('Analítica Proyecto Planta Pilot'!J14,Frecuencia!$BD$2:$BE$10,2,FALSE)) -> 10 | E14: =IF('Analítica Proyecto Planta Pilot'!L14="","",VLOOKUP('Analítica Proyecto Planta Pilot'!L14,Frecuencia!$BD$2:$BE$10,2,FALSE)) | F14: =IF('Analítica Proyecto Planta Pilot'!N14="","",VLOOKUP('Analítica Proyecto Planta Pilot'!N14,Frecuencia!$BD$2:$BE$10,2,FALSE)) | G14: =IF('Analítica Proyecto Planta Pilot'!P14="","",VLOOKUP('Analítica Proyecto Planta Pilot'!P14,Frecuencia!$BD$2:$BE$10,2,FALSE)) | H14: =IF('Analítica Proyecto Planta Pilot'!R14="","",VLOOKUP('Analítica Proyecto Planta Pilot'!R14,Frecuencia!$BD$2:$BE$10,2,FALSE)) | I14: =IF('Analítica Proyecto Planta Pilot'!T14="","",VLOOKUP('Analítica Proyecto Planta Pilot'!T14,Frecuencia!$BD$2:$BE$10,2,FALSE)) -> 10 | J14: =IF('Analítica Proyecto Planta Pilot'!D14="On line","On line",SUM(B14:I14)) -> 30
A15: Conductividad (control) | B15: =IF('Analítica Proyecto Planta Pilot'!F15="","",VLOOKUP('Analítica Proyecto Planta Pilot'!F15,Frecuencia!$BD$2:$BE$10,2,FALSE)) -> 6 | C15: =IF('Analítica Proyecto Planta Pilot'!H15="","",VLOOKUP('Analítica Proyecto Planta Pilot'!H15,Frecuencia!$BD$2:$BE$10,2,FALSE)) | D15: =IF('Analítica Proyecto Planta Pilot'!J15="","",VLOOKUP('Analítica Proyecto Planta Pilot'!J15,Frecuencia!$BD$2:$BE$10,2,FALSE)) | E15: =IF('Analítica Proyecto Planta Pilot'!L15="","",VLOOKUP('Analítica Proyecto Planta Pilot'!L15,Frecuencia!$BD$2:$BE$10,2,FALSE)) | F15: =IF('Analítica Proyecto Planta Pilot'!N15="","",VLOOKUP('Analítica Proyecto Planta Pilot'!N15,Frecuencia!$BD$2:$BE$10,2,FALSE)) | G15: =IF('Analítica Proyecto Planta Pilot'!P15="","",VLOOKUP('Analítica Proyecto Planta Pilot'!P15,Frecuencia!$BD$2:$BE$10,2,FALSE)) | H15: =IF('Analítica Proyecto Planta Pilot'!R15="","",VLOOKUP('Analítica Proyecto Planta Pilot'!R15,Frecuencia!$BD$2:$BE$10,2,FALSE)) | I15: =IF('Analítica Proyecto Planta Pilot'!T15="","",VLOOKUP('Analítica Proyecto Planta Pilot'!T15,Frecuencia!$BD$2:$BE$10,2,FALSE)) -> 6 | J15: =IF('Analítica Proyecto Planta Pilot'!D15="On line","On line",SUM(B15:I15)) -> 12
A16: Color (control) | B16: =IF('Analítica Proyecto Planta Pilot'!F16="","",VLOOKUP('Analítica Proyecto Planta Pilot'!F16,Frecuencia!$BD$2:$BE$10,2,FALSE)) -> 6 | C16: =IF('Analítica Proyecto Planta Pilot'!H16="","",VLOOKUP('Analítica Proyecto Planta Pilot'!H16,Frecuencia!$BD$2:$BE$10,2,FALSE)) | D16: =IF('Analítica Proyecto Planta Pilot'!J16="","",VLOOKUP('Analítica Proyecto Planta Pilot'!J16,Frecuencia!$BD$2:$BE$10,2,FALSE)) | E16: =IF('Analítica Proyecto Planta Pilot'!L16="","",VLOOKUP('Analítica Proyecto Planta Pilot'!L16,Frecuencia!$BD$2:$BE$10,2,FALSE)) | F16: =IF('Analítica Proyecto Planta Pilot'!N16="","",VLOOKUP('Analítica Proyecto Planta Pilot'!N16,Frecuencia!$BD$2:$BE$10,2,FALSE)) -> 2 | G16: =IF('Analítica Proyecto Planta Pilot'!P16="","",VLOOKUP('Analítica Proyecto Planta Pilot'!P16,Frecuencia!$BD$2:$BE$10,2,FALSE)) | H16: =IF('Analítica Proyecto Planta Pilot'!R16="","",VLOOKUP('Analítica Proyecto Planta Pilot'!R16,Frecuencia!$BD$2:$BE$10,2,FALSE)) | I16: =IF('Analítica Proyecto Planta Pilot'!T16="","",VLOOKUP('Analítica Proyecto Planta Pilot'!T16,Frecuencia!$BD$2:$BE$10,2,FALSE)) -> 6 | J16: =IF('Analítica Proyecto Planta Pilot'!D16="On line","On line",SUM(B16:I16)) -> 14
A17: Olor | B17: =IF('Analítica Proyecto Planta Pilot'!F17="","",VLOOKUP('Analítica Proyecto Planta Pilot'!F17,Frecuencia!$BD$2:$BE$10,2,FALSE)) | C17: =IF('Analítica Proyecto Planta Pilot'!H17="","",VLOOKUP('Analítica Proyecto Planta Pilot'!H17,Frecuencia!$BD$2:$BE$10,2,FALSE)) | D17: =IF('Analítica Proyecto Planta Pilot'!J17="","",VLOOKUP('Analítica Proyecto Planta Pilot'!J17,Frecuencia!$BD$2:$BE$10,2,FALSE)) | E17: =IF('Analítica Proyecto Planta Pilot'!L17="","",VLOOKUP('Analítica Proyecto Planta Pilot'!L17,Frecuencia!$BD$2:$BE$10,2,FALSE)) | F17: =IF('Analítica Proyecto Planta Pilot'!N17="","",VLOOKUP('Analítica Proyecto Planta Pilot'!N17,Frecuencia!$BD$2:$BE$10,2,FALSE)) | G17: =IF('Analítica Proyecto Planta Pilot'!P17="","",VLOOKUP('Analítica Proyecto Planta Pilot'!P17,Frecuencia!$BD$2:$BE$10,2,FALSE)) | H17: =IF('Analítica Proyecto Planta Pilot'!R17="","",VLOOKUP('Analítica Proyecto Planta Pilot'!R17,Frecuencia!$BD$2:$BE$10,2,FALSE)) | I17: =IF('Analítica Proyecto Planta Pilot'!T17="","",VLOOKUP('Analítica Proyecto Planta Pilot'!T17,Frecuencia!$BD$2:$BE$10,2,FALSE)) | J17: =IF('Analítica Proyecto Planta Pilot'!D17="On line","On line",SUM(B17:I17)) -> 0
A18: Sabor | B18: =IF('Analítica Proyecto Planta Pilot'!F18="","",VLOOKUP('Analítica Proyecto Planta Pilot'!F18,Frecuencia!$BD$2:$BE$10,2,FALSE)) | C18: =IF('Analítica Proyecto Planta Pilot'!H18="","",VLOOKUP('Analítica Proyecto Planta Pilot'!H18,Frecuencia!$BD$2:$BE$10,2,FALSE)) | D18: =IF('Analítica Proyecto Planta Pilot'!J18="","",VLOOKUP('Analítica Proyecto Planta Pilot'!J18,Frecuencia!$BD$2:$BE$10,2,FALSE)) | E18: =IF('Analítica Proyecto Planta Pilot'!L18="","",VLOOKUP('Analítica Proyecto Planta Pilot'!L18,Frecuencia!$BD$2:$BE$10,2,FALSE)) | F18: =IF('Analítica Proyecto Planta Pilot'!N18="","",VLOOKUP('Analítica Proyecto Planta Pilot'!N18,Frecuencia!$BD$2:$BE$10,2,FALSE)) | G18: =IF('Analítica Proyecto Planta Pilot'!P18="","",VLOOKUP('Analítica Proyecto Planta Pilot'!P18,Frecuencia!$BD$2:$BE$10,2,FALSE)) | H18: =IF('Analítica Proyecto Planta Pilot'!R18="","",VLOOKUP('Analítica Proyecto Planta Pilot'!R18,Frecuencia!$BD$2:$BE$10,2,FALSE)) | I18: =IF('Analítica Proyecto Planta Pilot'!T18="","",VLOOKUP('Analítica Proyecto Planta Pilot'!T18,Frecuencia!$BD$2:$BE$10,2,FALSE)) | J18: =IF('Analítica Proyecto Planta Pilot'!D18="On line","On line",SUM(B18:I18)) -> 0
A19: Sólidos en Suspensión | B19: =IF('Analítica Proyecto Planta Pilot'!F19="","",VLOOKUP('Analítica Proyecto Planta Pilot'!F19,Frecuencia!$BD$2:$BE$10,2,FALSE)) -> 0.5 | C19: =IF('Analítica Proyecto Planta Pilot'!H19="","",VLOOKUP('Analítica Proyecto Planta Pilot'!H19,Frecuencia!$BD$2:$BE$10,2,FALSE)) | D19: =IF('Analítica Proyecto Planta Pilot'!J19="","",VLOOKUP('Analítica Proyecto Planta Pilot'!J19,Frecuencia!$BD$2:$BE$10,2,FALSE)) | E19: =IF('Analítica Proyecto Planta Pilot'!L19="","",VLOOKUP('Analítica Proyecto Planta Pilot'!L19,Frecuencia!$BD$2:$BE$10,2,FALSE)) | F19: =IF('Analítica Proyecto Planta Pilot'!N19="","",VLOOKUP('Analítica Proyecto Planta Pilot'!N19,Frecuencia!$BD$2:$BE$10,2,FALSE)) | G19: =IF('Analítica Proyecto Planta Pilot'!P19="","",VLOOKUP('Analítica Proyecto Planta Pilot'!P19,Frecuencia!$BD$2:$BE$10,2,FALSE)) | H19: =IF('Analítica Proyecto Planta Pilot'!R19="","",VLOOKUP('Analítica Proyecto Planta Pilot'!R19,Frecuencia!$BD$2:$BE$10,2,FALSE)) | I19: =IF('Analítica Proyecto Planta Pilot'!T19="","",VLOOKUP('Analítica Proyecto Planta Pilot'!T19,Frecuencia!$BD$2:$BE$10,2,FALSE)) | J19: =IF('Analítica Proyecto Planta Pilot'!D19="On line","On line",SUM(B19:I19)) -> 0.5
A20: Ozono residual (existe?) | B20: =IF('Analítica Proyecto Planta Pilot'!F20="","",VLOOKUP('Analítica Proyecto Planta Pilot'!F20,Frecuencia!$BD$2:$BE$10,2,FALSE)) | C20: =IF('Analítica Proyecto Planta Pilot'!H20="","",VLOOKUP('Analítica Proyecto Planta Pilot'!H20,Frecuencia!$BD$2:$BE$10,2,FALSE)) -> online | D20: =IF('Analítica Proyecto Planta Pilot'!J20="","",VLOOKUP('Analítica Proyecto Planta Pilot'!J20,Frecuencia!$BD$2:$BE$10,2,FALSE)) | E20: =IF('Analítica Proyecto Planta Pilot'!L20="","",VLOOKUP('Analítica Proyecto Planta Pilot'!L20,Frecuencia!$BD$2:$BE$10,2,FALSE)) | F20: =IF('Analítica Proyecto Planta Pilot'!N20="","",VLOOKUP('Analítica Proyecto Planta Pilot'!N20,Frecuencia!$BD$2:$BE$10,2,FALSE)) -> online | G20: =IF('Analítica Proyecto Planta Pilot'!P20="","",VLOOKUP('Analítica Proyecto Planta Pilot'!P20,Frecuencia!$BD$2:$BE$10,2,FALSE)) | H20: =IF('Analítica Proyecto Planta Pilot'!R20="","",VLOOKUP('Analítica Proyecto Planta Pilot'!R20,Frecuencia!$BD$2:$BE$10,2,FALSE)) | I20: =IF('Analítica Proyecto Planta Pilot'!T20="","",VLOOKUP('Analítica Proyecto Planta Pilot'!T20,Frecuencia!$BD$2:$BE$10,2,FALSE)) | J20: =IF('Analítica Proyecto Planta Pilot'!D20="On line","On line",SUM(B20:I20)) -> On line
A21: Alcalinidad total | B21: =IF('Analítica Proyecto Planta Pilot'!F21="","",VLOOKUP('Analítica Proyecto Planta Pilot'!F21,Frecuencia!$BD$2:$BE$10,2,FALSE)) -> 1 | C21: =IF('Analítica Proyecto Planta Pilot'!H21="","",VLOOKUP('Analítica Proyecto Planta Pilot'!H21,Frecuencia!$BD$2:$BE$10,2,FALSE)) | D21: =IF('Analítica Proyecto Planta Pilot'!J21="","",VLOOKUP('Analítica Proyecto Planta Pilot'!J21,Frecuencia!$BD$2:$BE$10,2,FALSE)) | E21: =IF('Analítica Proyecto Planta Pilot'!L21="","",VLOOKUP('Analítica Proyecto Planta Pilot'!L21,Frecuencia!$BD$2:$BE$10,2,FALSE)) | F21: =IF('Analítica Proyecto Planta Pilot'!N21="","",VLOOKUP('Analítica Proyecto Planta Pilot'!N21,Frecuencia!$BD$2:$BE$10,2,FALSE)) | G21: =IF('Analítica Proyecto Planta Pilot'!P21="","",VLOOKUP('Analítica Proyecto Planta Pilot'!P21,Frecuencia!$BD$2:$BE$10,2,FALSE)) | H21: =IF('Analítica Proyecto Planta Pilot'!R21="","",VLOOKUP('Analítica Proyecto Planta Pilot'!R21,Frecuencia!$BD$2:$BE$10,2,FALSE)) | I21: =IF('Analítica Proyecto Planta Pilot'!T21="","",VLOOKUP('Analítica Proyecto Planta Pilot'!T21,Frecuencia!$BD$2:$BE$10,2,FALSE)) -> 1 | J21: =IF('Analítica Proyecto Planta Pilot'!D21="On line","On line",SUM(B21:I21)) -> 2
A22: Carbonatos | B22: =IF('Analítica Proyecto Planta Pilot'!F22="","",VLOOKUP('Analítica Proyecto Planta Pilot'!F22,Frecuencia!$BD$2:$BE$10,2,FALSE)) -> 1 | C22: =IF('Analítica Proyecto Planta Pilot'!H22="","",VLOOKUP('Analítica Proyecto Planta Pilot'!H22,Frecuencia!$BD$2:$BE$10,2,FALSE)) | D22: =IF('Analítica Proyecto Planta Pilot'!J22="","",VLOOKUP('Analítica Proyecto Planta Pilot'!J22,Frecuencia!$BD$2:$BE$10,2,FALSE)) | E22: =IF('Analítica Proyecto Planta Pilot'!L22="","",VLOOKUP('Analítica Proyecto Planta Pilot'!L22,Frecuencia!$BD$2:$BE$10,2,FALSE)) | F22: =IF('Analítica Proyecto Planta Pilot'!N22="","",VLOOKUP('Analítica Proyecto Planta Pilot'!N22,Frecuencia!$BD$2:$BE$10,2,FALSE)) | G22: =IF('Analítica Proyecto Planta Pilot'!P22="","",VLOOKUP('Analítica Proyecto Planta Pilot'!P22,Frecuencia!$BD$2:$BE$10,2,FALSE)) | H22: =IF('Analítica Proyecto Planta Pilot'!R22="","",VLOOKUP('Analítica Proyecto Planta Pilot'!R22,Frecuencia!$BD$2:$BE$10,2,FALSE)) | I22: =IF('Analítica Proyecto Planta Pilot'!T22="","",VLOOKUP('Analítica Proyecto Planta Pilot'!T22,Frecuencia!$BD$2:$BE$10,2,FALSE)) -> 1 | J22: =IF('Analítica Proyecto Planta Pilot'!D22="On line","On line",SUM(B22:I22)) -> 2
... A51: Sulfatos (SO4=) (control) | B51: =IF('Analítica Proyecto Planta Pilot'!F51="","",VLOOKUP('Analítica Proyecto Planta Pilot'!F51,Frecuencia!$BD$2:$BE$10,2,FALSE)) -> 2 | C51: =IF('Analítica Proyecto Planta Pilot'!H51="","",VLOOKUP('Analítica Proyecto Planta Pilot'!H51,Frecuencia!$BD$2:$BE$10,2,FALSE)) | D51: =IF('Analítica Proyecto Planta Pilot'!J51="","",VLOOKUP('Analítica Proyecto Planta Pilot'!J51,Frecuencia!$BD$2:$BE$10,2,FALSE)) | E51: =IF('Analítica Proyecto Planta Pilot'!L51="","",VLOOKUP('Analítica Proyecto Planta Pilot'!L51,Frecuencia!$BD$2:$BE$10,2,FALSE)) | F51: =IF('Analítica Proyecto Planta Pilot'!N51="","",VLOOKUP('Analítica Proyecto Planta Pilot'!N51,Frecuencia!$BD$2:$BE$10,2,FALSE)) | G51: =IF('Analítica Proyecto Planta Pilot'!P51="","",VLOOKUP('Analítica Proyecto Planta Pilot'!P51,Frecuencia!$BD$2:$BE$10,2,FALSE)) | H51: =IF('Analítica Proyecto Planta Pilot'!R51="","",VLOOKUP('Analítica Proyecto Planta Pilot'!R51,Frecuencia!$BD$2:$BE$10,2,FALSE)) | I51: =IF('Analítica Proyecto Planta Pilot'!T51="","",VLOOKUP('Analítica Proyecto Planta Pilot'!T51,Frecuencia!$BD$2:$BE$10,2,FALSE)) -> 2 | J51: =IF('Analítica Proyecto Planta Pilot'!D51="On line","On line",SUM(B51:I51)) -> 4
A52: METALES | B52: =IF('Analítica Proyecto Planta Pilot'!F52="","",VLOOKUP('Analítica Proyecto Planta Pilot'!F52,Frecuencia!$BD$2:$BE$10,2,FALSE)) | C52: =IF('Analítica Proyecto Planta Pilot'!H52="","",VLOOKUP('Analítica Proyecto Planta Pilot'!H52,Frecuencia!$BD$2:$BE$10,2,FALSE)) | D52: =IF('Analítica Proyecto Planta Pilot'!J52="","",VLOOKUP('Analítica Proyecto Planta Pilot'!J52,Frecuencia!$BD$2:$BE$10,2,FALSE)) | E52: =IF('Analítica Proyecto Planta Pilot'!L52="","",VLOOKUP('Analítica Proyecto Planta Pilot'!L52,Frecuencia!$BD$2:$BE$10,2,FALSE)) | F52: =IF('Analítica Proyecto Planta Pilot'!N52="","",VLOOKUP('Analítica Proyecto Planta Pilot'!N52,Frecuencia!$BD$2:$BE$10,2,FALSE)) | G52: =IF('Analítica Proyecto Planta Pilot'!P52="","",VLOOKUP('Analítica Proyecto Planta Pilot'!P52,Frecuencia!$BD$2:$BE$10,2,FALSE)) | H52: =IF('Analítica Proyecto Planta Pilot'!R52="","",VLOOKUP('Analítica Proyecto Planta Pilot'!R52,Frecuencia!$BD$2:$BE$10,2,FALSE)) | I52: =IF('Analítica Proyecto Planta Pilot'!T52="","",VLOOKUP('Analítica Proyecto Planta Pilot'!T52,Frecuencia!$BD$2:$BE$10,2,FALSE))
A53: Cromo total | B53: =IF('Analítica Proyecto Planta Pilot'!F53="","",VLOOKUP('Analítica Proyecto Planta Pilot'!F53,Frecuencia!$BD$2:$BE$10,2,FALSE)) -> 1 | C53: =IF('Analítica Proyecto Planta Pilot'!H53="","",VLOOKUP('Analítica Proyecto Planta Pilot'!H53,Frecuencia!$BD$2:$BE$10,2,FALSE)) | D53: =IF('Analítica Proyecto Planta Pilot'!J53="","",VLOOKUP('Analítica Proyecto Planta Pilot'!J53,Frecuencia!$BD$2:$BE$10,2,FALSE)) | E53: =IF('Analítica Proyecto Planta Pilot'!L53="","",VLOOKUP('Analítica Proyecto Planta Pilot'!L53,Frecuencia!$BD$2:$BE$10,2,FALSE)) | F53: =IF('Analítica Proyecto Planta Pilot'!N53="","",VLOOKUP('Analítica Proyecto Planta Pilot'!N53,Frecuencia!$BD$2:$BE$10,2,FALSE)) | G53: =IF('Analítica Proyecto Planta Pilot'!P53="","",VLOOKUP('Analítica Proyecto Planta Pilot'!P53,Frecuencia!$BD$2:$BE$10,2,FALSE)) | H53: =IF('Analítica Proyecto Planta Pilot'!R53="","",VLOOKUP('Analítica Proyecto Planta Pilot'!R53,Frecuencia!$BD$2:$BE$10,2,FALSE)) | I53: =IF('Analítica Proyecto Planta Pilot'!T53="","",VLOOKUP('Analítica Proyecto Planta Pilot'!T53,Frecuencia!$BD$2:$BE$10,2,FALSE)) -> 1 | J53: =IF('Analítica Proyecto Planta Pilot'!D53="On line","On line",SUM(B53:I53)) -> 2
A54: Cromo hexavalente | B54: =IF('Analítica Proyecto Planta Pilot'!F54="","",VLOOKUP('Analítica Proyecto Planta Pilot'!F54,Frecuencia!$BD$2:$BE$10,2,FALSE)) -> 0.5 | C54: =IF('Analítica Proyecto Planta Pilot'!H54="","",VLOOKUP('Analítica Proyecto Planta Pilot'!H54,Frecuencia!$BD$2:$BE$10,2,FALSE)) | D54: =IF('Analítica Proyecto Planta Pilot'!J54="","",VLOOKUP('Analítica Proyecto Planta Pilot'!J54,Frecuencia!$BD$2:$BE$10,2,FALSE)) | E54: =IF('Analítica Proyecto Planta Pilot'!L54="","",VLOOKUP('Analítica Proyecto Planta Pilot'!L54,Frecuencia!$BD$2:$BE$10,2,FALSE)) | F54: =IF('Analítica Proyecto Planta Pilot'!N54="","",VLOOKUP('Analítica Proyecto Planta Pilot'!N54,Frecuencia!$BD$2:$BE$10,2,FALSE)) | G54: =IF('Analítica Proyecto Planta Pilot'!P54="","",VLOOKUP('Analítica Proyecto Planta Pilot'!P54,Frecuencia!$BD$2:$BE$10,2,FALSE)) | H54: =IF('Analítica Proyecto Planta Pilot'!R54="","",VLOOKUP('Analítica Proyecto Planta Pilot'!R54,Frecuencia!$BD$2:$BE$10,2,FALSE)) | I54: =IF('Analítica Proyecto Planta Pilot'!T54="","",VLOOKUP('Analítica Proyecto Planta Pilot'!T54,Frecuencia!$BD$2:$BE$10,2,FALSE)) | J54: =IF('Analítica Proyecto Planta Pilot'!D54="On line","On line",SUM(B54:I54)) -> 0.5
A55: Cadmio | B55: =IF('Analítica Proyecto Planta Pilot'!F55="","",VLOOKUP('Analítica Proyecto Planta Pilot'!F55,Frecuencia!$BD$2:$BE$10,2,FALSE)) -> 1 | C55: =IF('Analítica Proyecto Planta Pilot'!H55="","",VLOOKUP('Analítica Proyecto Planta Pilot'!H55,Frecuencia!$BD$2:$BE$10,2,FALSE)) | D55: =IF('Analítica Proyecto Planta Pilot'!J55="","",VLOOKUP('Analítica Proyecto Planta Pilot'!J55,Frecuencia!$BD$2:$BE$10,2,FALSE)) | E55: =IF('Analítica Proyecto Planta Pilot'!L55="","",VLOOKUP('Analítica Proyecto Planta Pilot'!L55,Frecuencia!$BD$2:$BE$10,2,FALSE)) | F55: =IF('Analítica Proyecto Planta Pilot'!N55="","",VLOOKUP('Analítica Proyecto Planta Pilot'!N55,Frecuencia!$BD$2:$BE$10,2,FALSE)) | G55: =IF('Analítica Proyecto Planta Pilot'!P55="","",VLOOKUP('Analítica Proyecto Planta Pilot'!P55,Frecuencia!$BD$2:$BE$10,2,FALSE)) | H55: =IF('Analítica Proyecto Planta Pilot'!R55="","",VLOOKUP('Analítica Proyecto Planta Pilot'!R55,Frecuencia!$BD$2:$BE$10,2,FALSE)) | I55: =IF('Analítica Proyecto Planta Pilot'!T55="","",VLOOKUP('Analítica Proyecto Planta Pilot'!T55,Frecuencia!$BD$2:$BE$10,2,FALSE)) -> 1 | J55: =IF('Analítica Proyecto Planta Pilot'!D55="On line","On line",SUM(B55:I55)) -> 2
A56: Zinc | B56: =IF('Analítica Proyecto Planta Pilot'!F56="","",VLOOKUP('Analítica Proyecto Planta Pilot'!F56,Frecuencia!$BD$2:$BE$10,2,FALSE)) -> 1 | C56: =IF('Analítica Proyecto Planta Pilot'!H56="","",VLOOKUP('Analítica Proyecto Planta Pilot'!H56,Frecuencia!$BD$2:$BE$10,2,FALSE)) | D56: =IF('Analítica Proyecto Planta Pilot'!J56="","",VLOOKUP('Analítica Proyecto Planta Pilot'!J56,Frecuencia!$BD$2:$BE$10,2,FALSE)) | E56: =IF('Analítica Proyecto Planta Pilot'!L56="","",VLOOKUP('Analítica Proyecto Planta Pilot'!L56,Frecuencia!$BD$2:$BE$10,2,FALSE)) | F56: =IF('Analítica Proyecto Planta Pilot'!N56="","",VLOOKUP('Analítica Proyecto Planta Pilot'!N56,Frecuencia!$BD$2:$BE$10,2,FALSE)) | G56: =IF('Analítica Proyecto Planta Pilot'!P56="","",VLOOKUP('Analítica Proyecto Planta Pilot'!P56,Frecuencia!$BD$2:$BE$10,2,FALSE)) | H56: =IF('Analítica Proyecto Planta Pilot'!R56="","",VLOOKUP('Analítica Proyecto Planta Pilot'!R56,Frecuencia!$BD$2:$BE$10,2,FALSE)) | I56: =IF('Analítica Proyecto Planta Pilot'!T56="","",VLOOKUP('Analítica Proyecto Planta Pilot'!T56,Frecuencia!$BD$2:$BE$10,2,FALSE)) -> 1 | J56: =IF('Analítica Proyecto Planta Pilot'!D56="On line","On line",SUM(B56:I56)) -> 2
A57: Cobre | B57: =IF('Analítica Proyecto Planta Pilot'!F57="","",VLOOKUP('Analítica Proyecto Planta Pilot'!F57,Frecuencia!$BD$2:$BE$10,2,FALSE)) -> 1 | C57: =IF('Analítica Proyecto Planta Pilot'!H57="","",VLOOKUP('Analítica Proyecto Planta Pilot'!H57,Frecuencia!$BD$2:$BE$10,2,FALSE)) | D57: =IF('Analítica Proyecto Planta Pilot'!J57="","",VLOOKUP('Analítica Proyecto Planta Pilot'!J57,Frecuencia!$BD$2:$BE$10,2,FALSE)) | E57: =IF('Analítica Proyecto Planta Pilot'!L57="","",VLOOKUP('Analítica Proyecto Planta Pilot'!L57,Frecuencia!$BD$2:$BE$10,2,FALSE)) | F57: =IF('Analítica Proyecto Planta Pilot'!N57="","",VLOOKUP('Analítica Proyecto Planta Pilot'!N57,Frecuencia!$BD$2:$BE$10,2,FALSE)) | G57: =IF('Analítica Proyecto Planta Pilot'!P57="","",VLOOKUP('Analítica Proyecto Planta Pilot'!P57,Frecuencia!$BD$2:$BE$10,2,FALSE)) | H57: =IF('Analítica Proyecto Planta Pilot'!R57="","",VLOOKUP('Analítica Proyecto Planta Pilot'!R57,Frecuencia!$BD$2:$BE$10,2,FALSE)) | I57: =IF('Analítica Proyecto Planta Pilot'!T57="","",VLOOKUP('Analítica Proyecto Planta Pilot'!T57,Frecuencia!$BD$2:$BE$10,2,FALSE)) -> 1 | J57: =IF('Analítica Proyecto Planta Pilot'!D57="On line","On line",SUM(B57:I57)) -> 2
A58: Mercurio | B58: =IF('Analítica Proyecto Planta Pilot'!F58="","",VLOOKUP('Analítica Proyecto Planta Pilot'!F58,Frecuencia!$BD$2:$BE$10,2,FALSE)) -> 1 | C58: =IF('Analítica Proyecto Planta Pilot'!H58="","",VLOOKUP('Analítica Proyecto Planta Pilot'!H58,Frecuencia!$BD$2:$BE$10,2,FALSE)) | D58: =IF('Analítica Proyecto Planta Pilot'!J58="","",VLOOKUP('Analítica Proyecto Planta Pilot'!J58,Frecuencia!$BD$2:$BE$10,2,FALSE)) | E58: =IF('Analítica Proyecto Planta Pilot'!L58="","",VLOOKUP('Analítica Proyecto Planta Pilot'!L58,Frecuencia!$BD$2:$BE$10,2,FALSE)) | F58: =IF('Analítica Proyecto Planta Pilot'!N58="","",VLOOKUP('Analítica Proyecto Planta Pilot'!N58,Frecuencia!$BD$2:$BE$10,2,FALSE)) | G58: =IF('Analítica Proyecto Planta Pilot'!P58="","",VLOOKUP('Analítica Proyecto Planta Pilot'!P58,Frecuencia!$BD$2:$BE$10,2,FALSE)) | H58: =IF('Analítica Proyecto Planta Pilot'!R58="","",VLOOKUP('Analítica Proyecto Planta Pilot'!R58,Frecuencia!$BD$2:$BE$10,2,FALSE)) | I58: =IF('Analítica Proyecto Planta Pilot'!T58="","",VLOOKUP('Analítica Proyecto Planta Pilot'!T58,Frecuencia!$BD$2:$BE$10,2,FALSE)) -> 1 | J58: =IF('Analítica Proyecto Planta Pilot'!D58="On line","On line",SUM(B58:I58)) -> 2
A59: Plomo | B59: =IF('Analítica Proyecto Planta Pilot'!F59="","",VLOOKUP('Analítica Proyecto Planta Pilot'!F59,Frecuencia!$BD$2:$BE$10,2,FALSE)) -> 1 | C59: =IF('Analítica Proyecto Planta Pilot'!H59="","",VLOOKUP('Analítica Proyecto Planta Pilot'!H59,Frecuencia!$BD$2:$BE$10,2,FALSE)) | D59: =IF('Analítica Proyecto Planta Pilot'!J59="","",VLOOKUP('Analítica Proyecto Planta Pilot'!J59,Frecuencia!$BD$2:$BE$10,2,FALSE)) | E59: =IF('Analítica Proyecto Planta Pilot'!L59="","",VLOOKUP('Analítica Proyecto Planta Pilot'!L59,Frecuencia!$BD$2:$BE$10,2,FALSE)) | F59: =IF('Analítica Proyecto Planta Pilot'!N59="","",VLOOKUP('Analítica Proyecto Planta Pilot'!N59,Frecuencia!$BD$2:$BE$10,2,FALSE)) | G59: =IF('Analítica Proyecto Planta Pilot'!P59="","",VLOOKUP('Analítica Proyecto Planta Pilot'!P59,Frecuencia!$BD$2:$BE$10,2,FALSE)) | H59: =IF('Analítica Proyecto Planta Pilot'!R59="","",VLOOKUP('Analítica Proyecto Planta Pilot'!R59,Frecuencia!$BD$2:$BE$10,2,FALSE)) | I59: =IF('Analítica Proyecto Planta Pilot'!T59="","",VLOOKUP('Analítica Proyecto Planta Pilot'!T59,Frecuencia!$BD$2:$BE$10,2,FALSE)) -> 1 | J59: =IF('Analítica Proyecto Planta Pilot'!D59="On line","On line",SUM(B59:I59)) -> 2
A60: Arsénico | B60: =IF('Analítica Proyecto Planta Pilot'!F60="","",VLOOKUP('Analítica Proyecto Planta Pilot'!F60,Frecuencia!$BD$2:$BE$10,2,FALSE)) -> 1 | C60: =IF('Analítica Proyecto Planta Pilot'!H60="","",VLOOKUP('Analítica Proyecto Planta Pilot'!H60,Frecuencia!$BD$2:$BE$10,2,FALSE)) | D60: =IF('Analítica Proyecto Planta Pilot'!J60="","",VLOOKUP('Analítica Proyecto Planta Pilot'!J60,Frecuencia!$BD$2:$BE$10,2,FALSE)) | E60: =IF('Analítica Proyecto Planta Pilot'!L60="","",VLOOKUP('Analítica Proyecto Planta Pilot'!L60,Frecuencia!$BD$2:$BE$10,2,FALSE)) | F60: =IF('Analítica Proyecto Planta Pilot'!N60="","",VLOOKUP('Analítica Proyecto Planta Pilot'!N60,Frecuencia!$BD$2:$BE$10,2,FALSE)) | G60: =IF('Analítica Proyecto Planta Pilot'!P60="","",VLOOKUP('Analítica Proyecto Planta Pilot'!P60,Frecuencia!$BD$2:$BE$10,2,FALSE)) | H60: =IF('Analítica Proyecto Planta Pilot'!R60="","",VLOOKUP('Analítica Proyecto Planta Pilot'!R60,Frecuencia!$BD$2:$BE$10,2,FALSE)) | I60: =IF('Analítica Proyecto Planta Pilot'!T60="","",VLOOKUP('Analítica Proyecto Planta Pilot'!T60,Frecuencia!$BD$2:$BE$10,2,FALSE)) -> 1 | J60: =IF('Analítica Proyecto Planta Pilot'!D60="On line","On line",SUM(B60:I60)) -> 2
A61: Antimonio | B61: =IF('Analítica Proyecto Planta Pilot'!F61="","",VLOOKUP('Analítica Proyecto Planta Pilot'!F61,Frecuencia!$BD$2:$BE$10,2,FALSE)) -> 1 | C61: =IF('Analítica Proyecto Planta Pilot'!H61="","",VLOOKUP('Analítica Proyecto Planta Pilot'!H61,Frecuencia!$BD$2:$BE$10,2,FALSE)) | D61: =IF('Analítica Proyecto Planta Pilot'!J61="","",VLOOKUP('Analítica Proyecto Planta Pilot'!J61,Frecuencia!$BD$2:$BE$10,2,FALSE)) | E61: =IF('Analítica Proyecto Planta Pilot'!L61="","",VLOOKUP('Analítica Proyecto Planta Pilot'!L61,Frecuencia!$BD$2:$BE$10,2,FALSE)) | F61: =IF('Analítica Proyecto Planta Pilot'!N61="","",VLOOKUP('Analítica Proyecto Planta Pilot'!N61,Frecuencia!$BD$2:$BE$10,2,FALSE)) | G61: =IF('Analítica Proyecto Planta Pilot'!P61="","",VLOOKUP('Analítica Proyecto Planta Pilot'!P61,Frecuencia!$BD$2:$BE$10,2,FALSE)) | H61: =IF('Analítica Proyecto Planta Pilot'!R61="","",VLOOKUP('Analítica Proyecto Planta Pilot'!R61,Frecuencia!$BD$2:$BE$10,2,FALSE)) | I61: =IF('Analítica Proyecto Planta Pilot'!T61="","",VLOOKUP('Analítica Proyecto Planta Pilot'!T61,Frecuencia!$BD$2:$BE$10,2,FALSE)) -> 1 | J61: =IF('Analítica Proyecto Planta Pilot'!D61="On line","On line",SUM(B61:I61)) -> 2
A62: Boro | B62: =IF('Analítica Proyecto Planta Pilot'!F62="","",VLOOKUP('Analítica Proyecto Planta Pilot'!F62,Frecuencia!$BD$2:$BE$10,2,FALSE)) -> 1 | C62: =IF('Analítica Proyecto Planta Pilot'!H62="","",VLOOKUP('Analítica Proyecto Planta Pilot'!H62,Frecuencia!$BD$2:$BE$10,2,FALSE)) | D62: =IF('Analítica Proyecto Planta Pilot'!J62="","",VLOOKUP('Analítica Proyecto Planta Pilot'!J62,Frecuencia!$BD$2:$BE$10,2,FALSE)) | E62: =IF('Analítica Proyecto Planta Pilot'!L62="","",VLOOKUP('Analítica Proyecto Planta Pilot'!L62,Frecuencia!$BD$2:$BE$10,2,FALSE)) | F62: =IF('Analítica Proyecto Planta Pilot'!N62="","",VLOOKUP('Analítica Proyecto Planta Pilot'!N62,Frecuencia!$BD$2:$BE$10,2,FALSE)) | G62: =IF('Analítica Proyecto Planta Pilot'!P62="","",VLOOKUP('Analítica Proyecto Planta Pilot'!P62,Frecuencia!$BD$2:$BE$10,2,FALSE)) | H62: =IF('Analítica Proyecto Planta Pilot'!R62="","",VLOOKUP('Analítica Proyecto Planta Pilot'!R62,Frecuencia!$BD$2:$BE$10,2,FALSE)) | I62: =IF('Analítica Proyecto Planta Pilot'!T62="","",VLOOKUP('Analítica Proyecto Planta Pilot'!T62,Frecuencia!$BD$2:$BE$10,2,FALSE)) -> 1 | J62: =IF('Analítica Proyecto Planta Pilot'!D62="On line","On line",SUM(B62:I62)) -> 2
A63: Sodio | B63: =IF('Analítica Proyecto Planta Pilot'!F63="","",VLOOKUP('Analítica Proyecto Planta Pilot'!F63,Frecuencia!$BD$2:$BE$10,2,FALSE)) -> 1 | C63: =IF('Analítica Proyecto Planta Pilot'!H63="","",VLOOKUP('Analítica Proyecto Planta Pilot'!H63,Frecuencia!$BD$2:$BE$10,2,FALSE)) | D63: =IF('Analítica Proyecto Planta Pilot'!J63="","",VLOOKUP('Analítica Proyecto Planta Pilot'!J63,Frecuencia!$BD$2:$BE$10,2,FALSE)) | E63: =IF('Analítica Proyecto Planta Pilot'!L63="","",VLOOKUP('Analítica Proyecto Planta Pilot'!L63,Frecuencia!$BD$2:$BE$10,2,FALSE)) | F63: =IF('Analítica Proyecto Planta Pilot'!N63="","",VLOOKUP('Analítica Proyecto Planta Pilot'!N63,Frecuencia!$BD$2:$BE$10,2,FALSE)) | G63: =IF('Analítica Proyecto Planta Pilot'!P63="","",VLOOKUP('Analítica Proyecto Planta Pilot'!P63,Frecuencia!$BD$2:$BE$10,2,FALSE)) | H63: =IF('Analítica Proyecto Planta Pilot'!R63="","",VLOOKUP('Analítica Proyecto Planta Pilot'!R63,Frecuencia!$BD$2:$BE$10,2,FALSE)) | I63: =IF('Analítica Proyecto Planta Pilot'!T63="","",VLOOKUP('Analítica Proyecto Planta Pilot'!T63,Frecuencia!$BD$2:$BE$10,2,FALSE)) -> 1 | J63: =IF('Analítica Proyecto Planta Pilot'!D63="On line","On line",SUM(B63:I63)) -> 2
A64: Potasio | B64: =IF('Analítica Proyecto Planta Pilot'!F64="","",VLOOKUP('Analítica Proyecto Planta Pilot'!F64,Frecuencia!$BD$2:$BE$10,2,FALSE)) -> 1 | C64: =IF('Analítica Proyecto Planta Pilot'!H64="","",VLOOKUP('Analítica Proyecto Planta Pilot'!H64,Frecuencia!$BD$2:$BE$10,2,FALSE)) | D64: =IF('Analítica Proyecto Planta Pilot'!J64="","",VLOOKUP('Analítica Proyecto Planta Pilot'!J64,Frecuencia!$BD$2:$BE$10,2,FALSE)) | E64: =IF('Analítica Proyecto Planta Pilot'!L64="","",VLOOKUP('Analítica Proyecto Planta Pilot'!L64,Frecuencia!$BD$2:$BE$10,2,FALSE)) | F64: =IF('Analítica Proyecto Planta Pilot'!N64="","",VLOOKUP('Analítica Proyecto Planta Pilot'!N64,Frecuencia!$BD$2:$BE$10,2,FALSE)) | G64: =IF('Analítica Proyecto Planta Pilot'!P64="","",VLOOKUP('Analítica Proyecto Planta Pilot'!P64,Frecuencia!$BD$2:$BE$10,2,FALSE)) | H64: =IF('Analítica Proyecto Planta Pilot'!R64="","",VLOOKUP('Analítica Proyecto Planta Pilot'!R64,Frecuencia!$BD$2:$BE$10,2,FALSE)) | I64: =IF('Analítica Proyecto Planta Pilot'!T64="","",VLOOKUP('Analítica Proyecto Planta Pilot'!T64,Frecuencia!$BD$2:$BE$10,2,FALSE)) -> 1 | J64: =IF('Analítica Proyecto Planta Pilot'!D64="On line","On line",SUM(B64:I64)) -> 2
... A78: Tributilestaño-TBT | B78: =IF('Analítica Proyecto Planta Pilot'!F78="","",VLOOKUP('Analítica Proyecto Planta Pilot'!F78,Frecuencia!$BD$2:$BE$10,2,FALSE)) -> 0.5 | C78: =IF('Analítica Proyecto Planta Pilot'!H78="","",VLOOKUP('Analítica Proyecto Planta Pilot'!H78,Frecuencia!$BD$2:$BE$10,2,FALSE)) | D78: =IF('Analítica Proyecto Planta Pilot'!J78="","",VLOOKUP('Analítica Proyecto Planta Pilot'!J78,Frecuencia!$BD$2:$BE$10,2,FALSE)) | E78: =IF('Analítica Proyecto Planta Pilot'!L78="","",VLOOKUP('Analítica Proyecto Planta Pilot'!L78,Frecuencia!$BD$2:$BE$10,2,FALSE)) | F78: =IF('Analítica Proyecto Planta Pilot'!N78="","",VLOOKUP('Analítica Proyecto Planta Pilot'!N78,Frecuencia!$BD$2:$BE$10,2,FALSE)) | G78: =IF('Analítica Proyecto Planta Pilot'!P78="","",VLOOKUP('Analítica Proyecto Planta Pilot'!P78,Frecuencia!$BD$2:$BE$10,2,FALSE)) | H78: =IF('Analítica Proyecto Planta Pilot'!R78="","",VLOOKUP('Analítica Proyecto Planta Pilot'!R78,Frecuencia!$BD$2:$BE$10,2,FALSE)) | I78: =IF('Analítica Proyecto Planta Pilot'!T78="","",VLOOKUP('Analítica Proyecto Planta Pilot'!T78,Frecuencia!$BD$2:$BE$10,2,FALSE)) | J78: =IF('Analítica Proyecto Planta Pilot'!D78="On line","On line",SUM(B78:I78)) -> 0.5
A79: PAHs | B79: =IF('Analítica Proyecto Planta Pilot'!F79="","",VLOOKUP('Analítica Proyecto Planta Pilot'!F79,Frecuencia!$BD$2:$BE$10,2,FALSE)) | C79: =IF('Analítica Proyecto Planta Pilot'!H79="","",VLOOKUP('Analítica Proyecto Planta Pilot'!H79,Frecuencia!$BD$2:$BE$10,2,FALSE)) | D79: =IF('Analítica Proyecto Planta Pilot'!J79="","",VLOOKUP('Analítica Proyecto Planta Pilot'!J79,Frecuencia!$BD$2:$BE$10,2,FALSE)) | E79: =IF('Analítica Proyecto Planta Pilot'!L79="","",VLOOKUP('Analítica Proyecto Planta Pilot'!L79,Frecuencia!$BD$2:$BE$10,2,FALSE)) | F79: =IF('Analítica Proyecto Planta Pilot'!N79="","",VLOOKUP('Analítica Proyecto Planta Pilot'!N79,Frecuencia!$BD$2:$BE$10,2,FALSE)) | G79: =IF('Analítica Proyecto Planta Pilot'!P79="","",VLOOKUP('Analítica Proyecto Planta Pilot'!P79,Frecuencia!$BD$2:$BE$10,2,FALSE)) | H79: =IF('Analítica Proyecto Planta Pilot'!R79="","",VLOOKUP('Analítica Proyecto Planta Pilot'!R79,Frecuencia!$BD$2:$BE$10,2,FALSE)) | I79: =IF('Analítica Proyecto Planta Pilot'!T79="","",VLOOKUP('Analítica Proyecto Planta Pilot'!T79,Frecuencia!$BD$2:$BE$10,2,FALSE))
A80: Antraceno | B80: =IF('Analítica Proyecto Planta Pilot'!F80="","",VLOOKUP('Analítica Proyecto Planta Pilot'!F80,Frecuencia!$BD$2:$BE$10,2,FALSE)) -> 0.5 | C80: =IF('Analítica Proyecto Planta Pilot'!H80="","",VLOOKUP('Analítica Proyecto Planta Pilot'!H80,Frecuencia!$BD$2:$BE$10,2,FALSE)) | D80: =IF('Analítica Proyecto Planta Pilot'!J80="","",VLOOKUP('Analítica Proyecto Planta Pilot'!J80,Frecuencia!$BD$2:$BE$10,2,FALSE)) | E80: =IF('Analítica Proyecto Planta Pilot'!L80="","",VLOOKUP('Analítica Proyecto Planta Pilot'!L80,Frecuencia!$BD$2:$BE$10,2,FALSE)) | F80: =IF('Analítica Proyecto Planta Pilot'!N80="","",VLOOKUP('Analítica Proyecto Planta Pilot'!N80,Frecuencia!$BD$2:$BE$10,2,FALSE)) | G80: =IF('Analítica Proyecto Planta Pilot'!P80="","",VLOOKUP('Analítica Proyecto Planta Pilot'!P80,Frecuencia!$BD$2:$BE$10,2,FALSE)) | H80: =IF('Analítica Proyecto Planta Pilot'!R80="","",VLOOKUP('Analítica Proyecto Planta Pilot'!R80,Frecuencia!$BD$2:$BE$10,2,FALSE)) | I80: =IF('Analítica Proyecto Planta Pilot'!T80="","",VLOOKUP('Analítica Proyecto Planta Pilot'!T80,Frecuencia!$BD$2:$BE$10,2,FALSE)) | J80: =IF('Analítica Proyecto Planta Pilot'!D80="On line","On line",SUM(B80:I80)) -> 0.5
A81: Naftaleno | B81: =IF('Analítica Proyecto Planta Pilot'!F81="","",VLOOKUP('Analítica Proyecto Planta Pilot'!F81,Frecuencia!$BD$2:$BE$10,2,FALSE)) -> 0.5 | C81: =IF('Analítica Proyecto Planta Pilot'!H81="","",VLOOKUP('Analítica Proyecto Planta Pilot'!H81,Frecuencia!$BD$2:$BE$10,2,FALSE)) | D81: =IF('Analítica Proyecto Planta Pilot'!J81="","",VLOOKUP('Analítica Proyecto Planta Pilot'!J81,Frecuencia!$BD$2:$BE$10,2,FALSE)) | E81: =IF('Analítica Proyecto Planta Pilot'!L81="","",VLOOKUP('Analítica Proyecto Planta Pilot'!L81,Frecuencia!$BD$2:$BE$10,2,FALSE)) | F81: =IF('Analítica Proyecto Planta Pilot'!N81="","",VLOOKUP('Analítica Proyecto Planta Pilot'!N81,Frecuencia!$BD$2:$BE$10,2,FALSE)) | G81: =IF('Analítica Proyecto Planta Pilot'!P81="","",VLOOKUP('Analítica Proyecto Planta Pilot'!P81,Frecuencia!$BD$2:$BE$10,2,FALSE)) | H81: =IF('Analítica Proyecto Planta Pilot'!R81="","",VLOOKUP('Analítica Proyecto Planta Pilot'!R81,Frecuencia!$BD$2:$BE$10,2,FALSE)) | I81: =IF('Analítica Proyecto Planta Pilot'!T81="","",VLOOKUP('Analítica Proyecto Planta Pilot'!T81,Frecuencia!$BD$2:$BE$10,2,FALSE)) | J81: =IF('Analítica Proyecto Planta Pilot'!D81="On line","On line",SUM(B81:I81)) -> 0.5
...

Sheet CABB-AGQ
A1: CABB (Informe) | B1: Laboratorios AGQ
A2: Sulfatos | B2: Heptacloro (SP) | C2: Pentaclorobenceno
A3: Endosulfan sulfato | B3: Tricloroeteno (1,1,2)
A4: Color | B4: Aclonifen
A5: Conductividad | B5: Cibutrina
A6: Cromo | B6: Cloroalcanos (C10-C13)
A7: Cloruro | B7: Hexabromociclododecano
A8: Dieldrín | B8: PFOS
A9: Dureza total | B9: PBDE 28
A10: Tricloroeteno+Tetracloroe | B10: Sílice
A11: Tricloroeteno | B11: Sólidos en Suspensión
A12: Heptaclor | B12: Bromatos
A13: Hidrocarburos aromáticos policíclicos (PAHs) | B13: Bromuros
A14: Benzo | B14: Sileno
... A79: Clorofila A | B79: p,p-DDD
B80: p,p-DDE

Sheet Configuraciones
A2: CONFIGURACIÓN 1
A8: CONFIGURACIÓN 2
A15: CONFIGURACIÓN 3
A21: CONFIGURACIÓN 4
