Workbook

Sheet Analítica Proyecto Planta Pilot
A1: Parámetro analítico | C1: Clasificación | D1: Lugar medición | E1: Etapa proceso | G1: Etapa proceso (a salida) | I1: Etapa proceso (a salida) | K1: Etapa proceso (a salida) | M1: Etapa proceso (a salida) | O1: Etapa proceso (a salida) | Q1: Etapa proceso (a salida) | S1: RD 140/2003 | U1: Total | V1: Total | BZ1: Lugar medida | CB1: Frecuencia | CD1: Clasificación
A2: CONFIGURACIONES | B2: 24 | E2: Agua río | F2: Frecuencia | G2: Preoxidación | H2: Frecuencia | I2: Coagulac-Floc-Decanta | J2: Frecuencia | K2: Filtro arena | L2: Frecuencia | M2: Postoxidación | N2: Frecuencia | O2: Carbón Activo | P2: Frecuencia | Q2: Desinfección | R2: Frecuencia | S2: Agua tratada | T2: Frecuencia | U2: Analíticas/15d | V2: Analíticas/Año | BZ2: On line | CB2: on line | CD2: RD 140
A3: Temperatura | D3: On line | E3: x | F3: on line | I3: x | J3: on line | S3: x | T3: on line | U3: =Frecuencia!J3 -> On line | V3: =IF(U3="On line","On line",U3*$B$2) -> On line | BZ3: Laboratorio planta | CB3: 4/día | CD3: Sust. Prioritaria
A4: Conductividad | C4: RD 140 | D4: On line | E4: x | F4: on line | S4: x | T4: on line | U4: =Frecuencia!J4 -> On line | V4: =IF(U4="On line","On line",U4*$B$2) -> On line | BZ4: Venta Alta | CB4: 2/día | CD4: NCA
A5: pH | C5: RD 140 | D5: On line | E5: x | F5: on line | I5: x | J5: on line | S5: x | T5: on line | U5: =Frecuencia!J5 -> On line | V5: =IF(U5="On line","On line",U5*$B$2) -> On line | BZ5: Venta Alta Control | CB5: diaria | CD5: Lista Observación
A6: Turbidez | C6: RD 140 | D6: On line | E6: x | F6: on line | I6: x | J6: on line | K6: x | L6: on line | S6: x | T6: on line | U6: =Frecuencia!J6 -> On line | V6: =IF(U6="On line","On line",U6*$B$2) -> On line | BZ6: Venta Alta Completo | CB6: 2/sem | CD6: RD 140/S.Prior/NCA
A7: Oxígeno disuelto (OD) | D7: On line | E7: x | F7: on line | S7: x | T7: on line | U7: =Frecuencia!J7 -> On line | V7: =IF(U7="On line","On line",U7*$B$2) -> On line | BZ7: Labo Externo | CB7: 3/semana | CD7: S.Prior/NCA
A8: Carbono organico total (TOC) | C8: RD 140 | D8: On line | E8: x | F8: on line | I8: x | J8: on line | K8: x | L8: on line | S8: x | T8: on line | U8: =Frecuencia!J8 -> On line | V8: =IF(U8="On line","On line",U8*$B$2) -> On line | W8: El medidor TOC tiene 2 entradas de agua. Para controlar procesos concretos se puede jugar con estas 2 entradas y alimentar de donde convenga: tras filtro arena o filtro CA. | BZ8: Labo Externo CADAGUA | CB8: semanal | CD8: RD 140/NCA
A9: Carbono organico total (TOC) | C9: RD 140 | D9: Venta Alta Control | E9: x | F9: semanal | S9: x | T9: semanal | U9: =Frecuencia!J9 -> 4 | V9: =IF(U9="On line","On line",U9*$B$2) -> 96 | CB9: quincenal | CD9: RD 140/S.Prior
A10: pH | C10: RD 140 | D10: Laboratorio planta | E10: x | F10: 2/día | G10: x | H10: 2/día | I10: x | J10: 2/día | M10: x | N10: 2/día | S10: x | T10: 2/día | U10: =Frecuencia!J10 -> 100 | V10: =IF(U10="On line","On line",U10*$B$2) -> 2400 | CB10: mensual | CD10: Cont. Emergente
A11: pH (Control) | C11: RD 140 | D11: Venta Alta Control | E11: x | F11: 3/semana | S11: x | T11: 3/semana | U11: =Frecuencia!J11 -> 12 | V11: =IF(U11="On line","On line",U11*$B$2) -> 288 | CD11: Disrup. Endocrino
A12: Turbidez | C12: RD 140 | D12: Laboratorio planta | E12: x | F12: 2/día | I12: x | J12: 2/día | K12: x | L12: 2/día | S12: x | T12: 2/día | U12: =Frecuencia!J12 -> 80 | V12: =IF(U12="On line","On line",U12*$B$2) -> 1920
A13: Turbidez (control) | C13: RD 140 | D13: Venta Alta Control | E13: x | F13: 3/semana | S13: x | T13: 3/semana | U13: =Frecuencia!J13 -> 12 | V13: =IF(U13="On line","On line",U13*$B$2) -> 288
A14: Conductividad | C14: RD 140 | D14: Laboratorio planta | E14: x | F14: diaria | I14: x | J14: diaria | S14: x | T14: diaria | U14: =Frecuencia!J14 -> 30 | V14: =IF(U14="On line","On line",U14*$B$2) -> 720
A15: Conductividad (control) | C15: RD 140 | D15: Venta Alta Control | E15: x | F15: 3/semana | S15: x | T15: 3/semana | U15: =Frecuencia!J15 -> 12 | V15: =IF(U15="On line","On line",U15*$B$2) -> 288
A16: Color (control) | C16: RD 140 | D16: Venta Alta Control | E16: x | F16: 3/semana | M16: x | N16: semanal | S16: x | T16: 3/semana | U16: =Frecuencia!J16 -> 14 | V16: =IF(U16="On line","On line",U16*$B$2) -> 336
A17: Olor | C17: RD 140 | D17: Labo Externo | U17: =Frecuencia!J17 -> 0 | V17: =IF(U17="On line","On line",U17*$B$2) -> 0 | W17: Algo habrá que hacer… Pendiente ver que hacen en otros sitios
A18: Sabor | C18: RD 140 | D18: Labo Externo | U18: =Frecuencia!J18 -> 0 | V18: =IF(U18="On line","On line",U18*$B$2) -> 0 | W18: Algo habrá que hacer… Pendiente ver que hacen en otros sitios
A19: Sólidos en Suspensión | D19: Labo Externo | E19: x | F19: mensual | U19: =Frecuencia!J19 -> 0.5 | V19: =IF(U19="On line","On line",U19*$B$2) -> 12
A20: Ozono residual | D20: On line | G20: x (si O3) | H20: on line | M20: x (si O3) | N20: on line | U20: =Frecuencia!J20 -> On line | V20: =IF(U20="On line","On line",U20*$B$2) -> On line
A21: Alcalinidad total | D21: Venta Alta Completo | E21: x | F21: quincenal | S21: x | T21: quincenal | U21: =Frecuencia!J21 -> 2 | V21: =IF(U21="On line","On line",U21*$B$2) -> 48
A22: Carbonatos | D22: Venta Alta Completo | E22: x | F22: quincenal | S22: x | T22: quincenal | U22: =Frecuencia!J22 -> 2 | V22: =IF(U22="On line","On line",U22*$B$2) -> 48
A23: Bicarbonatos | D23: Venta Alta Completo | E23: x | F23: quincenal | S23: x | T23: quincenal | U23: =Frecuencia!J23 -> 2 | V23: =IF(U23="On line","On line",U23*$B$2) -> 48
A24: DQO (baja concentración) (siTurbidez Agua Bruta > 50 NTU) | D24: Laboratorio planta | E24: x | F24: diaria | I24: x | J24: diaria | S24: x | T24: diaria | U24: =Frecuencia!J24 -> 30 | V24: =IF(U24="On line","On line",U24*$B$2) -> 720
A25: Oxidabilidad a MnO4K | C25: RD 140 | D25: Venta Alta Control | E25: x | F25: 3/semana | S25: x | T25: 3/semana | U25: =Frecuencia!J25 -> 12 | V25: =IF(U25="On line","On line",U25*$B$2) -> 288
A26: Detergentes | D26: Labo Externo | E26: x | F26: mensual | U26: =Frecuencia!J26 -> 0.5 | V26: =IF(U26="On line","On line",U26*$B$2) -> 12 | W26: Maite investigará si se analizan, de qué tipo
A27: Fluoruros (control) | C27: RD 140 | D27: Venta Alta Control | E27: x | F27: 3/semana | S27: x | T27: 3/semana | U27: =Frecuencia!J27 -> 12 | V27: =IF(U27="On line","On line",U27*$B$2) -> 288
A28: Cloruros (Cl-) | C28: RD 140 | D28: Venta Alta Control | E28: x | F28: semanal | S28: x | T28: semanal | U28: =Frecuencia!J28 -> 4 | V28: =IF(U28="On line","On line",U28*$B$2) -> 96
A29: Cloro libre residual (in situ) | C29: RD 140 | D29: On line | G29: x | H29: on line | I29: x | J29: on line | K29: x | L29: on line | S29: x | T29: on line | U29: =Frecuencia!J29 -> On line | V29: =IF(U29="On line","On line",U29*$B$2) -> On line
A30: Cloro libre residual (in situ) | C30: RD 140 | D30: Laboratorio planta | I30: x | J30: diaria | K30: x | L30: diaria | S30: x | T30: diaria | U30: =Frecuencia!J30 -> 30 | V30: =IF(U30="On line","On line",U30*2*3+U30*2*4) -> 420
A31: Cloro libre residual (control) | C31: RD 140 | D31: Venta Alta Control | F31: 3/semana | S31: x | T31: 3/semana | U31: =Frecuencia!J31 -> 12 | V31: =IF(U31="On line","On line",U31*$B$2) -> 288
A32: Cloro combinado residual | C32: RD 140 | D32: Venta Alta Control | U32: =Frecuencia!J32 -> 0 | V32: =IF(U32="On line","On line",U32*$B$2) -> 0 | W32: Tiene interés? Ver dato amonio a entrada
A33: Dióxido de cloro (ClO2) | D33: On line | G33: x | H33: on line | I33: x | J33: on line | K33: x | L33: on line | S33: x | T33: on line | U33: =Frecuencia!J33 -> On line | V33: =IF(U33="On line","On line",U33*$B$2) -> On line
A34: Dióxido de cloro (ClO2) | D34: Laboratorio planta | I34: x (si ClO2) | J34: diaria | K34: x (si ClO2) | L34: diaria | O34: x (si ClO2) | P34: diaria | U34: =Frecuencia!J34 -> 30 | V34: =IF(U34="On line","On line",U34*$B$2/4) -> 180 | W34: Se realiza cuando se usa ClO2 en la preoxidación.
A35: Cloritos (ClO2-) | D35: Laboratorio planta | U35: =Frecuencia!J35 -> 0 | V35: =IF(U35="On line","On line",U35*$B$2/4) -> 0 | W35: Se realiza cuando se usa ClO2 en la preoxidación.
A36: Cloritos (ClO2-) (control) | D36: Venta Alta Control | E36: x (si ClO2) | F36: semanal | S36: x (si ClO2) | T36: semanal | U36: =Frecuencia!J36 -> 4 | V36: =IF(U36="On line","On line",U36*$B$2/4) -> 24
A37: Cloratos (ClO3-) | D37: Laboratorio planta | U37: =Frecuencia!J37 -> 0 | V37: =IF(U37="On line","On line",U37*$B$2/4) -> 0 | W37: Se realiza cuando se usa ClO2 en la preoxidación.
A38: Cloratos (ClO3-) (control) | D38: Venta Alta Control | E38: x (si ClO2) | F38: semanal | S38: x (si ClO2) | T38: semanal | U38: =Frecuencia!J38 -> 4 | V38: =IF(U38="On line","On line",U38*$B$2/4) -> 24
A39: Bromatos | C39: RD 140 | D39: Laboratorio planta | U39: =Frecuencia!J39 -> 0 | V39: =IF(U39="On line","On line",U39*6+(U39/2)*6*3) -> 0
A40: Bromatos (control) | C40: RD 140 | D40: Venta Alta Control | E40: x (si O3 en Pre) | F40: semanal | G40: x (si O3 en Pre) | H40: semanal | M40: x (si O3 en Pre) | N40: semanal | O40: x (si O3 en Pre) | P40: semanal | S40: x (si O3 en Pre) | T40: semanal | U40: =Frecuencia!J40 -> 10 | V40: =IF(U40="On line","On line",U40*$B$2/4) -> 60
A41: Bromuros (control) | D41: Venta Alta Control | E41: x | F41: semanal | G41: x | H41: semanal | M41: x | N41: semanal | O41: x | P41: semanal | S41: x | T41: semanal | U41: =Frecuencia!J41 -> 10 | V41: =IF(U41="On line","On line",U41*$B$2/4) -> 60
A42: Cianuro | C42: RD 140 | D42: Venta Alta Completo | E42: x | F42: quincenal | S42: x | T42: quincenal | U42: =Frecuencia!J42 -> 2 | V42: =IF(U42="On line","On line",U42*$B$2) -> 48
A43: Amonio (NH4+) | C43: RD 140 | D43: Laboratorio planta | E43: x | F43: diaria | S43: x | T43: diaria | U43: =Frecuencia!J43 -> 20 | V43: =IF(U43="On line","On line",U43*$B$2) -> 480
A44: Amonio (NH4+) (control) | C44: RD 140 | D44: Venta Alta Control | E44: x | F44: 3/semana | S44: x | T44: 3/semana | U44: =Frecuencia!J44 -> 12 | V44: =IF(U44="On line","On line",U44*$B$2) -> 288
A45: Nitratos (NO3-) | C45: RD 140 | D45: Laboratorio planta | E45: x | F45: diaria | S45: x | T45: diaria | U45: =Frecuencia!J45 -> 20 | V45: =IF(U45="On line","On line",U45*$B$2) -> 480
A46: Nitratos (NO3-) (control) | C46: RD 140 | D46: Venta Alta Control | E46: x | F46: semanal | S46: x | T46: semanal | U46: =Frecuencia!J46 -> 4 | V46: =IF(U46="On line","On line",U46*$B$2) -> 96
A47: Nitritos (NO2-) (control) | C47: RD 140 | D47: Venta Alta Control | E47: x | F47: 3/semana | S47: x | T47: 3/semana | U47: =Frecuencia!J47 -> 12 | V47: =IF(U47="On line","On line",U47*$B$2) -> 288
A48: Fósforo Total | U48: =Frecuencia!J48 -> 0 | V48: =IF(U48="On line","On line",U48*$B$2) -> 0 | W48: Kits de Cadagua
A49: Fosfatos (PO43-) | D49: Laboratorio planta | E49: x | F49: diaria | S49: x | T49: diaria | U49: =Frecuencia!J49 -> 20 | V49: =IF(U49="On line","On line",U49*$B$2) -> 480 | W49: Kits de Cadagua
A50: Fosfatos (PO43-) (control) | D50: Venta Alta Control | E50: x | F50: semanal | S50: x | T50: semanal | U50: =Frecuencia!J50 -> 4 | V50: =IF(U50="On line","On line",U50*$B$2) -> 96
A51: Sulfatos (SO4=) (control) | C51: RD 140 | D51: Venta Alta Control | E51: x | F51: semanal | S51: x | T51: semanal | U51: =Frecuencia!J51 -> 4 | V51: =IF(U51="On line","On line",U51*$B$2) -> 96
A52: METALES
A53: Cromo total | C53: RD 140 | D53: Venta Alta Completo | E53: x | F53: quincenal | S53: x | T53: quincenal | U53: =Frecuencia!J53 -> 2 | V53: =IF(U53="On line","On line",U53*$B$2) -> 48
A54: Cromo hexavalente | D54: Labo Externo | E54: x | F54: mensual | U54: =Frecuencia!J54 -> 0.5 | V54: =IF(U54="On line","On line",U54*$B$2) -> 12
A55: Cadmio | C55: RD 140/S.Prior/NCA | D55: Venta Alta Completo | E55: x | F55: quincenal | S55: x | T55: quincenal | U55: =Frecuencia!J55 -> 2 | V55: =IF(U55="On line","On line",U55*$B$2) -> 48
A56: Zinc | D56: Venta Alta Completo | E56: x | F56: quincenal | S56: x | T56: quincenal | U56: =Frecuencia!J56 -> 2 | V56: =IF(U56="On line","On line",U56*$B$2) -> 48
A57: Cobre | C57: RD 140 | D57: Venta Alta Completo | E57: x | F57: quincenal | S57: x | T57: quincenal | U57: =Frecuencia!J57 -> 2 | V57: =IF(U57="On line","On line",U57*$B$2) -> 48
A58: Mercurio | C58: RD 140/S.Prior/NCA | D58: Venta Alta Completo | E58: x | F58: quincenal | S58: x | T58: quincenal | U58: =Frecuencia!J58 -> 2 | V58: =IF(U58="On line","On line",U58*$B$2) -> 48
A59: Plomo | C59: RD 140/S.Prior/NCA | D59: Venta Alta Completo | E59: x | F59: quincenal | S59: x | T59: quincenal | U59: =Frecuencia!J59 -> 2 | V59: =IF(U59="On line","On line",U59*$B$2) -> 48
A60: Arsénico | C60: RD 140 | D60: Venta Alta Completo | E60: x | F60: quincenal | S60: x | T60: quincenal | U60: =Frecuencia!J60 -> 2 | V60: =IF(U60="On line","On line",U60*$B$2) -> 48
A61: Antimonio | C61: RD 140 | D61: Venta Alta Completo | E61: x | F61: quincenal | S61: x | T61: quincenal | U61: =Frecuencia!J61 -> 2 | V61: =IF(U61="On line","On line",U61*$B$2) -> 48
A62: Boro | C62: RD 140 | D62: Venta Alta Completo | E62: x | F62: quincenal | S62: x | T62: quincenal | U62: =Frecuencia!J62 -> 2 | V62: =IF(U62="On line","On line",U62*$B$2) -> 48
A63: Sodio | C63: RD 140 | D63: Venta Alta Completo | E63: x | F63: quincenal | S63: x | T63: quincenal | U63: =Frecuencia!J63 -> 2 | V63: =IF(U63="On line","On line",U63*$B$2) -> 48
A64: Potasio | D64: Venta Alta Completo | E64: x | F64: quincenal | S64: x | T64: quincenal | U64: =Frecuencia!J64 -> 2 | V64: =IF(U64="On line","On line",U64*$B$2) -> 48
A65: Hierro disuelto | C65: RD 140 | D65: Laboratorio planta | E65: x | F65: diaria | I65: x (si en AB > RD/2) | J65: diaria | K65: x (si en AB > RD/2) | L65: diaria | S65: x | T65: diaria | U65: =Frecuencia!J65 -> 40 | V65: =IF(U65="On line","On line",U65*$B$2) -> 960
A66: Hierro total | C66: RD 140 | D66: Venta Alta Control | E66: x | F66: semanal | S66: x | T66: semanal | U66: =Frecuencia!J66 -> 4 | V66: =IF(U66="On line","On line",U66*$B$2) -> 96 | W66: Maite consultará posibilidad de disuelto + total (1 persona de l proyecto como analista)
A67: Aluminio disuelto | C67: RD 140 | D67: Laboratorio planta | E67: x | F67: diaria | I67: x (si en AB > RD/2) | J67: diaria | K67: x (si en AB > RD/2) | L67: diaria | S67: x | T67: diaria | U67: =Frecuencia!J67 -> 40 | V67: =IF(U67="On line","On line",U67*$B$2) -> 960
A68: Aluminio total | C68: RD 140 | D68: Venta Alta Control | E68: x | F68: 3/semana | S68: x | T68: 3/semana | U68: =Frecuencia!J68 -> 12 | V68: =IF(U68="On line","On line",U68*$B$2) -> 288 | W68: Maite consultará posibilidad de disuelto + total (1 persona de l proyecto como analista)
A69: Manganeso | D69: Laboratorio planta | E69: x | F69: diaria | I69: x (si en AB > RD/2) | J69: diaria | K69: x (si en AB > RD/2) | L69: diaria | S69: x | T69: diaria | U69: =Frecuencia!J69 -> 40 | V69: =IF(U69="On line","On line",U69*$B$2) -> 960
A70: Manganeso (control) | C70: RD 140 | D70: Venta Alta Completo | E70: x | F70: semanal | S70: x | T70: semanal | U70: =Frecuencia!J70 -> 4 | V70: =IF(U70="On line","On line",U70*$B$2) -> 96
A71: Niquel | C71: RD 140/S.Prior/NCA | D71: Venta Alta Completo | E71: x | F71: quincenal | S71: x | T71: quincenal | U71: =Frecuencia!J71 -> 2 | V71: =IF(U71="On line","On line",U71*$B$2) -> 48
A72: Selenio | C72: RD 140 | D72: Venta Alta Completo | E72: x | F72: quincenal | S72: x | T72: quincenal | U72: =Frecuencia!J72 -> 2 | V72: =IF(U72="On line","On line",U72*$B$2) -> 48
A73: Calcio | D73: Venta Alta Completo | E73: x | F73: quincenal | S73: x | T73: quincenal | U73: =Frecuencia!J73 -> 2 | V73: =IF(U73="On line","On line",U73*$B$2) -> 48
A74: Magnesio | D74: Venta Alta Completo | E74: x | F74: quincenal | S74: x | T74: quincenal | U74: =Frecuencia!J74 -> 2 | V74: =IF(U74="On line","On line",U74*$B$2) -> 48
A75: Dureza | D75: Venta Alta Completo | E75: x | F75: quincenal | S75: x | T75: quincenal | U75: =Frecuencia!J75 -> 2 | V75: =IF(U75="On line","On line",U75*$B$2) -> 48
A76: Sílice | D76: Labo Externo | E76: x | F76: mensual | U76: =Frecuencia!J76 -> 0.5 | V76: =IF(U76="On line","On line",U76*$B$2) -> 12
A77: Cloroalcanos (C10-C13) | C77: S.Prior/NCA | D77: Labo Externo | E77: x | F77: mensual | U77: =Frecuencia!J77 -> 0.5 | V77: =IF(U77="On line","On line",U77*$B$2) -> 12
A78: Tributilestaño-TBT | C78: Sust. Prioritaria | D78: Labo Externo | E78: x | F78: mensual | U78: =Frecuencia!J78 -> 0.5 | V78: =IF(U78="On line","On line",U78*$B$2) -> 12
A79: PAHs
A80: Antraceno | C80: S.Prior/NCA | D80: Labo Externo | E80: x | F80: mensual | U80: =Frecuencia!J80 -> 0.5 | V80: =IF(U80="On line","On line",U80*$B$2) -> 12
A81: Naftaleno | C81: S.Prior/NCA | D81: Labo Externo | E81: x | F81: mensual | U81: =Frecuencia!J81 -> 0.5 | V81: =IF(U81="On line","On line",U81*$B$2) -> 12
A82: Fluoranteno | C82: S.Prior/NCA | D82: Labo Externo | E82: x | F82: mensual | U82: =Frecuencia!J82 -> 0.5 | V82: =IF(U82="On line","On line",U82*$B$2) -> 12
A83: Benzo (b) Fluoranteno | C83: RD 140/NCA | D83: Venta Alta Completo | E83: x | F83: quincenal | S83: x | T83: quincenal | U83: =Frecuencia!J83 -> 2 | V83: =IF(U83="On line","On line",U83*$B$2) -> 48
A84: Benzo (k) Fluoranteno | C84: RD 140/NCA | D84: Venta Alta Completo | E84: x | F84: quincenal | S84: x | T84: quincenal | U84: =Frecuencia!J84 -> 2 | V84: =IF(U84="On line","On line",U84*$B$2) -> 48
A85: Benzo (a) pireno | C85: RD 140/NCA | D85: Venta Alta Completo | E85: x | F85: quincenal | S85: x | T85: quincenal | U85: =Frecuencia!J85 -> 2 | V85: =IF(U85="On line","On line",U85*$B$2) -> 48
A86: Benzo (ghi) Perileno | C86: RD 140/NCA | D86: Venta Alta Completo | E86: x | F86: quincenal | S86: x | T86: quincenal | U86: =Frecuencia!J86 -> 2 | V86: =IF(U86="On line","On line",U86*$B$2) -> 48
A87: Indeno (1,2,3-c.d.) pireno | C87: RD 140/NCA | D87: Venta Alta Completo | E87: x | F87: quincenal | S87: x | T87: quincenal | U87: =Frecuencia!J87 -> 2 | V87: =IF(U87="On line","On line",U87*$B$2) -> 48
A88: Compuestos Fenólicos
A89: Pentaclorofenol | C89: S.Prior/NCA | D89: Labo Externo | E89: x | F89: mensual | U89: =Frecuencia!J89 -> 0.5 | V89: =IF(U89="On line","On line",U89*$B$2) -> 12
A90: BTEX
A91: Benceno | C91: RD 140/S.Prior/NCA | D91: Labo Externo | E91: x | F91: quincenal | S91: x | T91: quincenal | U91: =Frecuencia!J91 -> 2 | V91: =IF(U91="On line","On line",U91*$B$2) -> 48
A92: Tolueno | D92: Labo Externo | E92: x | F92: mensual | U92: =Frecuencia!J92 -> 0.5 | V92: =IF(U92="On line","On line",U92*$B$2) -> 12
A93: etilbenceno | D93: Labo Externo | E93: x | F93: mensual | U93: =Frecuencia!J93 -> 0.5 | V93: =IF(U93="On line","On line",U93*$B$2) -> 12
A94: o-xileno | D94: Labo Externo | E94: x | F94: mensual | U94: =Frecuencia!J94 -> 0.5 | V94: =IF(U94="On line","On line",U94*$B$2) -> 12
A95: m,p-xileno | D95: Labo Externo | E95: x | F95: mensual | U95: =Frecuencia!J95 -> 0.5 | V95: =IF(U95="On line","On line",U95*$B$2) -> 12
A96: Suma xilenos | D96: Labo Externo | E96: x | F96: mensual | U96: =Frecuencia!J96 -> 0.5 | V96: =IF(U96="On line","On line",U96*$B$2) -> 12
A97: COVs | U97: =Frecuencia!J97 -> 0 | V97: =IF(U97="On line","On line",U97*$B$2) -> 0
A98: 1,2-Dicloroetano | C98: RD 140/S.Prior/NCA | D98: Venta Alta Completo | E98: x | F98: quincenal | S98: x | T98: quincenal | U98: =Frecuencia!J98 -> 2 | V98: =IF(U98="On line","On line",U98*$B$2) -> 48
A99: 1,1,1-Tricloroetano | D99: Labo Externo | E99: x | F99: mensual | U99: =Frecuencia!J99 -> 0.5 | V99: =IF(U99="On line","On line",U99*$B$2) -> 12
A100: 1,2,3-Triclorobenceno | C100: Sust. Prioritaria | D100: Labo Externo | E100: x | F100: mensual | U100: =Frecuencia!J100 -> 0.5 | V100: =IF(U100="On line","On line",U100*$B$2) -> 12
...

Sheet Frecuencia
A1: Parámetro analítico | B1: Agua río | C1: Preoxidación | D1: Coagulac-Floc-Decanta | E1: Filtro arena | F1: Postoxidación | G1: Carbón Activo | H1: Desinfección | I1: Agua tratada RD 140/2003 | J1: Total | AZ1: Lugar medida | BB1: Frecuencia | BD1: Nº analiticas/quincena
B2: Frecuencia | C2: Frecuencia | D2: Frecuencia | E2: Frecuencia | F2: Frecuencia | G2: Frecuencia | H2: Frecuencia | I2: Frecuencia | J2: Analíticas/15d | AZ2: On line | BB2: on line | BD2: on line | BE2: online
A3: Temperatura | B3: =IF('Analítica Proyecto Planta Pilot'!F3="","",VLOOKUP('Analítica Proyecto Planta Pilot'!F3,Frecuencia!$BD$2:$BE$10,2,FALSE)) -> online | C3: =IF('Analítica Proyecto Planta Pilot'!H3="","",VLOOKUP('Analítica Proyecto Planta Pilot'!H3,Frecuencia!$BD$2:$BE$10,2,FALSE)) | D3: =IF('Analítica Proyecto Planta Pilot'!J3="","",VLOOKUP('Analítica Proyecto Planta Pilot'!J3,Frecuencia!$BD$2:$BE$10,2,FALSE)) -> online | E3: =IF('Analítica Proyecto Planta Pilot'!L3="","",VLOOKUP('Analítica Proyecto Planta Pilot'!L3,Frecuencia!$BD$2:$BE$10,2,FALSE)) | F3: =IF('Analítica Proyecto Planta Pilot'!N3="","",VLOOKUP('Analítica Proyecto Planta Pilot'!N3,Frecuencia!$BD$2:$BE$10,2,FALSE)) | G3: =IF('Analítica Proyecto Planta Pilot'!P3="","",VLOOKUP('Analítica Proyecto Planta Pilot'!P3,Frecuencia!$BD$2:$BE$10,2,FALSE)) | H3: =IF('Analítica Proyecto Planta Pilot'!R3="","",VLOOKUP('Analítica Proyecto Planta Pilot'!R3,Frecuencia!$BD$2:$BE$10,2,FALSE)) | I3: =IF('Analítica Proyecto Planta Pilot'!T3="","",VLOOKUP('Analítica Proyecto Planta Pilot'!T3,Frecuencia!$BD$2:$BE$10,2,FALSE)) -> online | J3: =IF('Analítica Proyecto Planta Pilot'!D3="On line","On line",SUM(B3:I3)) -> On line | AZ3: Laboratorio planta | BB3: 4/día | BD3: 4/día | BE3: 40
A4: Conductividad | B4: =IF('Analítica Proyecto Planta Pilot'!F4="","",VLOOKUP('Analítica Proyecto Planta Pilot'!F4,Frecuencia!$BD$2:$BE$10,2,FALSE)) -> online | C4: =IF('Analítica Proyecto Planta Pilot'!H4="","",VLOOKUP('Analítica Proyecto Planta Pilot'!H4,Frecuencia!$BD$2:$BE$10,2,FALSE)) | D4: =IF('Analítica Proyecto Planta Pilot'!J4="","",VLOOKUP('Analítica Proyecto Planta Pilot'!J4,Frecuencia!$BD$2:$BE$10,2,FALSE)) | E4: =IF('Analítica Proyecto Planta Pilot'!L4="","",VLOOKUP('Analítica Proyecto Planta Pilot'!L4,Frecuencia!$BD$2:$BE$10,2,FALSE)) | F4: =IF('Analítica Proyecto Planta Pilot'!N4="","",VLOOKUP('Analítica Proyecto Planta Pilot'!N4,Frecuencia!$BD$2:$BE$10,2,FALSE)) | G4: =IF('Analítica Proyecto Planta Pilot'!P4="","",VLOOKUP('Analítica Proyecto Planta Pilot'!P4,Frecuencia!$BD$2:$BE$10,2,FALSE)) | H4: =IF('Analítica Proyecto Planta Pilot'!R4="","",VLOOKUP('Analítica Proyecto Planta Pilot'!R4,Frecuencia!$BD$2:$BE$10,2,FALSE)) | I4: =IF('Analítica Proyecto Planta Pilot'!T4="","",VLOOKUP('Analítica Proyecto Planta Pilot'!T4,Frecuencia!$BD$2:$BE$10,2,FALSE)) -> online | J4: =IF('Analítica Proyecto Planta Pilot'!D4="On line","On line",SUM(B4:I4)) -> On line | AZ4: Venta Alta | BB4: 2/día | BD4: 2/día | BE4: 20
A5: pH | B5: =IF('Analítica Proyecto Planta Pilot'!F5="","",VLOOKUP('Analítica Proyecto Planta Pilot'!F5,Frecuencia!$BD$2:$BE$10,2,FALSE)) -> online | C5: =IF('Analítica Proyecto Planta Pilot'!H5="","",VLOOKUP('Analítica Proyecto Planta Pilot'!H5,Frecuencia!$BD$2:$BE$10,2,FALSE)) | D5: =IF('Analítica Proyecto Planta Pilot'!J5="","",VLOOKUP('Analítica Proyecto Planta Pilot'!J5,Frecuencia!$BD$2:$BE$10,2,FALSE)) -> online | E5: =IF('Analítica Proyecto Planta Pilot'!L5="","",VLOOKUP('Analítica Proyecto Planta Pilot'!L5,Frecuencia!$BD$2:$BE$10,2,FALSE)) | F5: =IF('Analítica Proyecto Planta Pilot'!N5="","",VLOOKUP('Analítica Proyecto Planta Pilot'!N5,Frecuencia!$BD$2:$BE$10,2,FALSE)) | G5: =IF('Analítica Proyecto Planta Pilot'!P5="","",VLOOKUP('Analítica Proyecto Planta Pilot'!P5,Frecuencia!$BD$2:$BE$10,2,FALSE)) | H5: =IF('Analítica Proyecto Planta Pilot'!R5="","",VLOOKUP('Analítica Proyecto Planta Pilot'!R5,Frecuencia!$BD$2:$BE$10,2,FALSE)) | I5: =IF('Analítica Proyecto Planta Pilot'!T5="","",VLOOKUP('Analítica Proyecto Planta Pilot'!T5,Frecuencia!$BD$2:$BE$10,2,FALSE)) -> online | J5: =IF('Analítica Proyecto Planta Pilot'!D5="On line","On line",SUM(B5:I5)) -> On line | AZ5: Venta Alta Control | BB5: diaria | BD5: diaria | BE5: 10
A6: Turbidez | B6: =IF('Analítica Proyecto Planta Pilot'!F6="","",VLOOKUP('Analítica Proyecto Planta Pilot'!F6,Frecuencia!$BD$2:$BE$10,2,FALSE)) -> online | C6: =IF('Analítica Proyecto Planta Pilot'!H6="","",VLOOKUP('Analítica Proyecto Planta Pilot'!H6,Frecuencia!$BD$2:$BE$10,2,FALSE)) | D6: =IF('Analítica Proyecto Planta Pilot'!J6="","",VLOOKUP('Analítica Proyecto Planta Pilot'!J6,Frecuencia!$BD$2:$BE$10,2,FALSE)) -> online | E6: =IF('Analítica Proyecto Planta Pilot'!L6="","",VLOOKUP('Analítica Proyecto Planta Pilot'!L6,Frecuencia!$BD$2:$BE$10,2,FALSE)) -> online | F6: =IF('Analítica Proyecto Planta Pilot'!N6="","",VLOOKUP('Analítica Proyecto Planta Pilot'!N6,Frecuencia!$BD$2:$BE$10,2,FALSE)) | G6: =IF('Analítica Proyecto Planta Pilot'!P6="","",VLOOKUP('Analítica Proyecto Planta Pilot'!P6,Frecuencia!$BD$2:$BE$10,2,FALSE)) | H6: =IF('Analítica Proyecto Planta Pilot'!R6="","",VLOOKUP('Analítica Proyecto Planta Pilot'!R6,Frecuencia!$BD$2:$BE$10,2,FALSE)) | I6: =IF('Analítica Proyecto Planta Pilot'!T6="","",VLOOKUP('Analítica Proyecto Planta Pilot'!T6,Frecuencia!$BD$2:$BE$10,2,FALSE)) -> online | J6: =IF('Analítica Proyecto Planta Pilot'!D6="On line","On line",SUM(B6:I6)) -> On line | AZ6: Venta Alta Completo | BB6: 2/sem | BD6: 2/sem | BE6: 4
A7: Oxígeno disuelto (OD) | B7: =IF('Analítica Proyecto Planta Pilot'!F7="","",VLOOKUP('Analítica Proyecto Planta Pilot'!F7,Frecuencia!$BD$2:$BE$10,2,FALSE)) -> online | C7: =IF('Analítica Proyecto Planta Pilot'!H7="","",VLOOKUP('Analítica Proyecto Planta Pilot'!H7,Frecuencia!$BD$2:$BE$10,2,FALSE)) | D7: =IF('Analítica Proyecto Planta Pilot'!J7="","",VLOOKUP('Analítica Proyecto Planta Pilot'!J7,Frecuencia!$BD$2:$BE$10,2,FALSE)) | E7: =IF('Analítica Proyecto Planta Pilot'!L7="","",VLOOKUP('Analítica Proyecto Planta Pilot'!L7,Frecuencia!$BD$2:$BE$10,2,FALSE)) | F7: =IF('Analítica Proyecto Planta Pilot'!N7="","",VLOOKUP('Analítica Proyecto Planta Pilot'!N7,Frecuencia!$BD$2:$BE$10,2,FALSE)) | G7: =IF('Analítica Proyecto Planta Pilot'!P7="","",VLOOKUP('Analítica Proyecto Planta Pilot'!P7,Frecuencia!$BD$2:$BE$10,2,FALSE)) | H7: =IF('Analítica Proyecto Planta Pilot'!R7="","",VLOOKUP('Analítica Proyecto Planta Pilot'!R7,Frecuencia!$BD$2:$BE$10,2,FALSE)) | I7: =IF('Analítica Proyecto Planta Pilot'!T7="","",VLOOKUP('Analítica Proyecto Planta Pilot'!T7,Frecuencia!$BD$2:$BE$10,2,FALSE)) -> online | J7: =IF('Analítica Proyecto Planta Pilot'!D7="On line","On line",SUM(B7:I7)) -> On line | AZ7: Labo Externo | BB7: 3/semana | BD7: 3/semana | BE7: 6
A8: Carbono organico total (TOC) | B8: =IF('Analítica Proyecto Planta Pilot'!F8="","",VLOOKUP('Analítica Proyecto Planta Pilot'!F8,Frecuencia!$BD$2:$BE$10,2,FALSE)) -> online | C8: =IF('Analítica Proyecto Planta Pilot'!H8="","",VLOOKUP('Analítica Proyecto Planta Pilot'!H8,Frecuencia!$BD$2:$BE$10,2,FALSE)) | D8: =IF('Analítica Proyecto Planta Pilot'!J8="","",VLOOKUP('Analítica Proyecto Planta Pilot'!J8,Frecuencia!$BD$2:$BE$10,2,FALSE)) -> online | E8: =IF('Analítica Proyecto Planta Pilot'!L8="","",VLOOKUP('Analítica Proyecto Planta Pilot'!L8,Frecuencia!$BD$2:$BE$10,2,FALSE)) -> online | F8: =IF('Analítica Proyecto Planta Pilot'!N8="","",VLOOKUP('Analítica Proyecto Planta Pilot'!N8,Frecuencia!$BD$2:$BE$10,2,FALSE)) | G8: =IF('Analítica Proyecto Planta Pilot'!P8="","",VLOOKUP('Analítica Proyecto Planta Pilot'!P8,Frecuencia!$BD$2:$BE$10,2,FALSE)) | H8: =IF('Analítica Proyecto Planta Pilot'!R8="","",VLOOKUP('Analítica Proyecto Planta Pilot'!R8,Frecuencia!$BD$2:$BE$10,2,FALSE)) | I8: =IF('Analítica Proyecto Planta Pilot'!T8="","",VLOOKUP('Analítica Proyecto Planta Pilot'!T8,Frecuencia!$BD$2:$BE$10,2,FALSE)) -> online | J8: =IF('Analítica Proyecto Planta Pilot'!D8="On line","On line",SUM(B8:I8)) -> On line | BB8: semanal | BD8: semanal | BE8: 2
A9: Carbono organico total (TOC) | B9: =IF('Analítica Proyecto Planta Pilot'!F9="","",VLOOKUP('Analítica Proyecto Planta Pilot'!F9,Frecuencia!$BD$2:$BE$10,2,FALSE)) -> 2 | C9: =IF('Analítica Proyecto Planta Pilot'!H9="","",VLOOKUP('Analítica Proyecto Planta Pilot'!H9,Frecuencia!$BD$2:$BE$10,2,FALSE)) | D9: =IF('Analítica Proyecto Planta Pilot'!J9="","",VLOOKUP('Analítica Proyecto Planta Pilot'!J9,Frecuencia!$BD$2:$BE$10,2,FALSE)) | E9: =IF('Analítica Proyecto Planta Pilot'!L9="","",VLOOKUP('Analítica Proyecto Planta Pilot'!L9,Frecuencia!$BD$2:$BE$10,2,FALSE)) | F9: =IF('Analítica Proyecto Planta Pilot'!N9="","",VLOOKUP('Analítica Proyecto Planta Pilot'!N9,Frecuencia!$BD$2:$BE$10,2,FALSE)) | G9: =IF('Analítica Proyecto Planta Pilot'!P9="","",VLOOKUP('Analítica Proyecto Planta Pilot'!P9,Frecuencia!$BD$2:$BE$10,2,FALSE)) | H9: =IF('Analítica Proyecto Planta Pilot'!R9="","",VLOOKUP('Analítica Proyecto Planta Pilot'!R9,Frecuencia!$BD$2:$BE$10,2,FALSE)) | I9: =IF('Analítica Proyecto Planta Pilot'!T9="","",VLOOKUP('Analítica Proyecto Planta Pilot'!T9,Frecuencia!$BD$2:$BE$10,2,FALSE)) -> 2 | J9: =IF('Analítica Proyecto Planta Pilot'!D9="On line","On line",SUM(B9:I9)) -> 4 | BB9: quincenal | BD9: quincenal | BE9: 1
A10: pH | B10: =IF('Analítica Proyecto Planta Pilot'!F10="","",VLOOKUP('Analítica Proyecto Planta Pilot'!F10,Frecuencia!$BD$2:$BE$10,2,FALSE)) -> 20 | C10: =IF('Analítica Proyecto Planta Pilot'!H10="","",VLOOKUP('Analítica Proyecto Planta Pilot'!H10,Frecuencia!$BD$2:$BE$10,2,FALSE)) -> 20 | D10: =IF('Analítica Proyecto Planta Pilot'!J10="","",VLOOKUP('Analítica Proyecto Planta Pilot'!J10,Frecuencia!$BD$2:$BE$10,2,FALSE)) -> 20 | E10: =IF('Analítica Proyecto Planta Pilot'!L10="","",VLOOKUP('Analítica Proyecto Planta Pilot'!L10,Frecuencia!$BD$2:$BE$10,2,FALSE)) | F10: =IF('Analítica Proyecto Planta Pilot'!N10="","",VLOOKUP('Analítica Proyecto Planta Pilot'!N10,Frecuencia!$BD$2:$BE$10,2,FALSE)) -> 20 | G10: =IF('Analítica Proyecto Planta Pilot'!P10="","",VLOOKUP('Analítica Proyecto Planta Pilot'!P10,Frecuencia!$BD$2:$BE$10,2,FALSE)) | H10: =IF('Analítica Proyecto Planta Pilot'!R10="","",VLOOKUP('Analítica Proyecto Planta Pilot'!R10,Frecuencia!$BD$2:$BE$10,2,FALSE)) | I10: =IF('Analítica Proyecto Planta Pilot'!T10="","",VLOOKUP('Analítica Proyecto Planta Pilot'!T10,Frecuencia!$BD$2:$BE$10,2,FALSE)) -> 20 | J10: =IF('Analítica Proyecto Planta Pilot'!D10="On line","On line",SUM(B10:I10)) -> 100 | BB10: mensual | BD10: mensual | BE10: 0.5
A11: pH (Control) | B11: =IF('Analítica Proyecto Planta Pilot'!F11="","",VLOOKUP('Analítica Proyecto Planta Pilot'!F11,Frecuencia!$BD$2:$BE$10,2,FALSE)) -> 6 | C11: =IF('Analítica Proyecto Planta Pilot'!H11="","",VLOOKUP('Analítica Proyecto Planta Pilot'!H11,Frecuencia!$BD$2:$BE$10,2,FALSE)) | D11: =IF('Analítica Proyecto Planta Pilot'!J11="","",VLOOKUP('Analítica Proyecto Planta Pilot'!J11,Frecuencia!$BD$2:$BE$10,2,FALSE)) | E11: =IF('Analítica Proyecto Planta Pilot'!L11="","",VLOOKUP('Analítica Proyecto Planta Pilot'!L11,Frecuencia!$BD$2:$BE$10,2,FALSE)) | F11: =IF('Analítica Proyecto Planta Pilot'!N11="","",VLOOKUP('Analítica Proyecto Planta Pilot'!N11,Frecuencia!$BD$2:$BE$10,2,FALSE)) | G11: =IF('Analítica Proyecto Planta Pilot'!P11="","",VLOOKUP('Analítica Proyecto Planta Pilot'!P11,Frecuencia!$BD$2:$BE$10,2,FALSE)) | H11: =IF('Analítica Proyecto Planta Pilot'!R11="","",VLOOKUP('Analítica Proyecto Planta Pilot'!R11,Frecuencia!$BD$2:$BE$10,2,FALSE)) | I11: =IF('Analítica Proyecto Planta Pilot'!T11="","",VLOOKUP('Analítica Proyecto Planta Pilot'!T11,Frecuencia!$BD$2:$BE$10,2,FALSE)) -> 6 | J11: =IF('Analítica Proyecto Planta Pilot'!D11="On line","On line",SUM(B11:I11)) -> 12
A12: Turbidez | B12: =IF('Analítica Proyecto Planta Pilot'!F12="","",VLOOKUP('Analítica Proyecto Planta Pilot'!F12,Frecuencia!$BD$2:$BE$10,2,FALSE)) -> 20 | C12: =IF('Analítica Proyecto Planta Pilot'!H12="","",VLOOKUP('Analítica Proyecto Planta Pilot'!H12,Frecuencia!$BD$2:$BE$10,2,FALSE)) | D12: =IF('Analítica Proyecto Planta Pilot'!J12="","",VLOOKUP('Analítica Proyecto Planta Pilot'!J12,Frecuencia!$BD$2:$BE$10,2,FALSE)) -> 20 | E12: =IF('Analítica Proyecto Planta Pilot'!L12="","",VLOOKUP('Analítica Proyecto Planta Pilot'!L12,Frecuencia!$BD$2:$BE$10,2,FALSE)) -> 20 | F12: =IF('Analítica Proyecto Planta Pilot'!N12="","",VLOOKUP('Analítica Proyecto Planta Pilot'!N12,Frecuencia!$BD$2:$BE$10,2,FALSE)) | G12: =IF('Analítica Proyecto Planta Pilot'!P12="","",VLOOKUP('Analítica Proyecto Planta Pilot'!P12,Frecuencia!$BD$2:$BE$10,2,FALSE)) | H12: =IF('Analítica Proyecto Planta Pilot'!R12="","",VLOOKUP('Analítica Proyecto Planta Pilot'!R12,Frecuencia!$BD$2:$BE$10,2,FALSE)) | I12: =IF('Analítica Proyecto Planta Pilot'!T12="","",VLOOKUP('Analítica Proyecto Planta Pilot'!T12,Frecuencia!$BD$2:$BE$10,2,FALSE)) -> 20 | J12: =IF('Analítica Proyecto Planta Pilot'!D12="On line","On line",SUM(B12:I12)) -> 80
A13: Turbidez (control) | B13: =IF('Analítica Proyecto Planta Pilot'!F13="","",VLOOKUP('Analítica Proyecto Planta Pilot'!F13,Frecuencia!$BD$2:$BE$10,2,FALSE)) -> 6 | C13: =IF('Analítica Proyecto Planta Pilot'!H13="","",VLOOKUP('Analítica Proyecto Planta Pilot'!H13,Frecuencia!$BD$2:$BE$10,2,FALSE)) | D13: =IF('Analítica Proyecto Planta Pilot'!J13="","",VLOOKUP('Analítica Proyecto Planta Pilot'!J13,Frecuencia!$BD$2:$BE$10,2,FALSE)) | E13: =IF('Analítica Proyecto Planta Pilot'!L13="","",VLOOKUP('Analítica Proyecto Planta Pilot'!L13,Frecuencia!$BD$2:$BE$10,2,FALSE)) | F13: =IF('Analítica Proyecto Planta Pilot'!N13="","",VLOOKUP('Analítica Proyecto Planta Pilot'!N13,Frecuencia!$BD$2:$BE$10,2,FALSE)) | G13: =IF('Analítica Proyecto Planta Pilot'!P13="","",VLOOKUP('Analítica Proyecto Planta Pilot'!P13,Frecuencia!$BD$2:$BE$10,2,FALSE)) | H13: =IF('Analítica Proyecto Planta Pilot'!R13="","",VLOOKUP('Analítica Proyecto Planta Pilot'!R13,Frecuencia!$BD$2:$BE$10,2,FALSE)) | I13: =IF('Analítica Proyecto Planta Pilot'!T13="","",VLOOKUP('Analítica Proyecto Planta Pilot'!T13,Frecuencia!$BD$2:$BE$10,2,FALSE)) -> 6 | J13: =IF('Analítica Proyecto Planta Pilot'!D13="On line","On line",SUM(B13:I13)) -> 12
A14: Conductividad | B14: =IF('Analítica Proyecto Planta Pilot'!F14="","",VLOOKUP('Analítica Proyecto Planta Pilot'!F14,Frecuencia!$BD$2:$BE$10,2,FALSE)) -> 10 | C14: =IF('Analítica Proyecto Planta Pilot'!H14="","",VLOOKUP('Analítica Proyecto Planta Pilot'!H14,Frecuencia!$BD$2:$BE$10,2,FALSE)) | D14: =IF('Analítica Proyecto Planta Pilot'!J14="","",VLOOKUP('Analítica Proyecto Planta Pilot'!J14,Frecuencia!$BD$2:$BE$10,2,FALSE)) -> 10 | E14: =IF('Analítica Proyecto Planta Pilot'!L14="","",VLOOKUP('Analítica Proyecto Planta Pilot'!L14,Frecuencia!$BD$2:$BE$10,2,FALSE)) | F14: =IF('Analítica Proyecto Planta Pilot'!N14="","",VLOOKUP('Analítica Proyecto Planta Pilot'!N14,Frecuencia!$BD$2:$BE$10,2,FALSE)) | G14: =IF('Analítica Proyecto Planta Pilot'!P14="","",VLOOKUP('Analítica Proyecto Planta Pilot'!P14,Frecuencia!$BD$2:$BE$10,2,FALSE)) | H14: =IF('Analítica Proyecto Planta Pilot'!R14="","",VLOOKUP('Analítica Proyecto Planta Pilot'!R14,Frecuencia!$BD$2:$BE$10,2,FALSE)) | I14: =IF('Analítica Proyecto Planta Pilot'!T14="","",VLOOKUP('Analítica Proyecto Planta Pilot'!T14,Frecuencia!$BD$2:$BE$10,2,FALSE)) -> 10 | J14: =IF('Analítica Proyecto Planta Pilot'!D14="On line","On line",SUM(B14:I14)) -> 30
A15: Conductividad (control) | B15: =IF('Analítica Proyecto Planta Pilot'!F15="","",VLOOKUP('Analítica Proyecto Planta Pilot'!F15,Frecuencia!$BD$2:$BE$10,2,FALSE)) -> 6 | C15: =IF('Analítica Proyecto Planta Pilot'!H15="","",VLOOKUP('Analítica Proyecto Planta Pilot'!H15,Frecuencia!$BD$2:$BE$10,2,FALSE)) | D15: =IF('Analítica Proyecto Planta Pilot'!J15="","",VLOOKUP('Analítica Proyecto Planta Pilot'!J15,Frecuencia!$BD$2:$BE$10,2,FALSE)) | E15: =IF('Analítica Proyecto Planta Pilot'!L15="","",VLOOKUP('Analítica Proyecto Planta Pilot'!L15,Frecuencia!$BD$2:$BE$10,2,FALSE)) | F15: =IF('Analítica Proyecto Planta Pilot'!N15="","",VLOOKUP('Analítica Proyecto Planta Pilot'!N15,Frecuencia!$BD$2:$BE$10,2,FALSE)) | G15: =IF('Analítica Proyecto Planta Pilot'!P15="","",VLOOKUP('Analítica Proyecto Planta Pilot'!P15,Frecuencia!$BD$2:$BE$10,2,FALSE)) | H15: =IF('Analítica Proyecto Planta Pilot'!R15="","",VLOOKUP('Analítica Proyecto Planta Pilot'!R15,Frecuencia!$BD$2:$BE$10,2,FALSE)) | I15: =IF('Analítica Proyecto Planta Pilot'!T15="","",VLOOKUP('Analítica Proyecto Planta Pilot'!T15,Frecuencia!$BD$2:$BE$10,2,FALSE)) -> 6 | J15: =IF('Analítica Proyecto Planta Pilot'!D15="On line","On line",SUM(B15:I15)) -> 12
A16: Color (control) | B16: =IF('Analítica Proyecto Planta Pilot'!F16="","",VLOOKUP('Analítica Proyecto Planta Pilot'!F16,Frecuencia!$BD$2:$BE$10,2,FALSE)) -> 6 | C16: =IF('Analítica Proyecto Planta Pilot'!H16="","",VLOOKUP('Analítica Proyecto Planta Pilot'!H16,Frecuencia!$BD$2:$BE$10,2,FALSE)) | D16: =IF('Analítica Proyecto Planta Pilot'!J16="","",VLOOKUP('Analítica Proyecto Planta Pilot'!J16,Frecuencia!$BD$2:$BE$10,2,FALSE)) | E16: =IF('Analítica Proyecto Planta Pilot'!L16="","",VLOOKUP('Analítica Proyecto Planta Pilot'!L16,Frecuencia!$BD$2:$BE$10,2,FALSE)) | F16: =IF('Analítica Proyecto Planta Pilot'!N16="","",VLOOKUP('Analítica Proyecto Planta Pilot'!N16,Frecuencia!$BD$2:$BE$10,2,FALSE)) -> 2 | G16: =IF('Analítica Proyecto Planta Pilot'!P16="","",VLOOKUP('Analítica Proyecto Planta Pilot'!P16,Frecuencia!$BD$2:$BE$10,2,FALSE)) | H16: =IF('Analítica Proyecto Planta Pilot'!R16="","",VLOOKUP('Analítica Proyecto Planta Pilot'!R16,Frecuencia!$BD$2:$BE$10,2,FALSE)) | I16: =IF('Analítica Proyecto Planta Pilot'!T16="","",VLOOKUP('Analítica Proyecto Planta Pilot'!T16,Frecuencia!$BD$2:$BE$10,2,FALSE)) -> 6 | J16: =IF('Analítica Proyecto Planta Pilot'!D16="On line","On line",SUM(B16:I16)) -> 14
A17: Olor | B17: =IF('Analítica Proyecto Planta Pilot'!F17="","",VLOOKUP('Analítica Proyecto Planta Pilot'!F17,Frecuencia!$BD$2:$BE$10,2,FALSE)) | C17: =IF('Analítica Proyecto Planta Pilot'!H17="","",VLOOKUP('Analítica Proyecto Planta Pilot'!H17,Frecuencia!$BD$2:$BE$10,2,FALSE)) | D17: =IF('Analítica Proyecto Planta Pilot'!J17="","",VLOOKUP('Analítica Proyecto Planta Pilot'!J17,Frecuencia!$BD$2:$BE$10,2,FALSE)) | E17: =IF('Analítica Proyecto Planta Pilot'!L17="","",VLOOKUP('Analítica Proyecto Planta Pilot'!L17,Frecuencia!$BD$2:$BE$10,2,FALSE)) | F17: =IF('Analítica Proyecto Planta Pilot'!N17="","",VLOOKUP('Analítica Proyecto Planta Pilot'!N17,Frecuencia!$BD$2:$BE$10,2,FALSE)) | G17: =IF('Analítica Proyecto Planta Pilot'!P17="","",VLOOKUP('Analítica Proyecto Planta Pilot'!P17,Frecuencia!$BD$2:$BE$10,2,FALSE)) | H17: =IF('Analítica Proyecto Planta Pilot'!R17="","",VLOOKUP('Analítica Proyecto Planta Pilot'!R17,Frecuencia!$BD$2:$BE$10,2,FALSE)) | I17: =IF('Analítica Proyecto Planta Pilot'!T17="","",VLOOKUP('Analítica Proyecto Planta Pilot'!T17,Frecuencia!$BD$2:$BE$10,2,FALSE)) | J17: =IF('Analítica Proyecto Planta Pilot'!D17="On line","On line",SUM(B17:I17)) -> 0
A18: Sabor | B18: =IF('Analítica Proyecto Planta Pilot'!F18="","",VLOOKUP('Analítica Proyecto Planta Pilot'!F18,Frecuencia!$BD$2:$BE$10,2,FALSE)) | C18: =IF('Analítica Proyecto Planta Pilot'!H18="","",VLOOKUP('Analítica Proyecto Planta Pilot'!H18,Frecuencia!$BD$2:$BE$10,2,FALSE)) | D18: =IF('Analítica Proyecto Planta Pilot'!J18="","",VLOOKUP('Analítica Proyecto Planta Pilot'!J18,Frecuencia!$BD$2:$BE$10,2,FALSE)) | E18: =IF('Analítica Proyecto Planta Pilot'!L18="","",VLOOKUP('Analítica Proyecto Planta Pilot'!L18,Frecuencia!$BD$2:$BE$10,2,FALSE)) | F18: =IF('Analítica Proyecto Planta Pilot'!N18="","",VLOOKUP('Analítica Proyecto Planta Pilot'!N18,Frecuencia!$BD$2:$BE$10,2,FALSE)) | G18: =IF('Analítica Proyecto Planta Pilot'!P18="","",VLOOKUP('Analítica Proyecto Planta Pilot'!P18,Frecuencia!$BD$2:$BE$10,2,FALSE)) | H18: =IF('Analítica Proyecto Planta Pilot'!R18="","",VLOOKUP('Analítica Proyecto Planta Pilot'!R18,Frecuencia!$BD$2:$BE$10,2,FALSE)) | I18: =IF('Analítica Proyecto Planta Pilot'!T18="","",VLOOKUP('Analítica Proyecto Planta Pilot'!T18,Frecuencia!$BD$2:$BE$10,2,FALSE)) | J18: =IF('Analítica Proyecto Planta Pilot'!D18="On line","On line",SUM(B18:I18)) -> 0
A19: Sólidos en Suspensión | B19: =IF('Analítica Proyecto Planta Pilot'!F19="","",VLOOKUP('Analítica Proyecto Planta Pilot'!F19,Frecuencia!$BD$2:$BE$10,2,FALSE)) -> 0.5 | C19: =IF('Analítica Proyecto Planta Pilot'!H19="","",VLOOKUP('Analítica Proyecto Planta Pilot'!H19,Frecuencia!$BD$2:$BE$10,2,FALSE)) | D19: =IF('Analítica Proyecto Planta Pilot'!J19="","",VLOOKUP('Analítica Proyecto Planta Pilot'!J19,Frecuencia!$BD$2:$BE$10,2,FALSE)) | E19: =IF('Analítica Proyecto Planta Pilot'!L19="","",VLOOKUP('Analítica Proyecto Planta Pilot'!L19,Frecuencia!$BD$2:$BE$10,2,FALSE)) | F19: =IF('Analítica Proyecto Planta Pilot'!N19="","",VLOOKUP('Analítica Proyecto Planta Pilot'!N19,Frecuencia!$BD$2:$BE$10,2,FALSE)) | G19: =IF('Analítica Proyecto Planta Pilot'!P19="","",VLOOKUP('Analítica Proyecto Planta Pilot'!P19,Frecuencia!$BD$2:$BE$10,2,FALSE)) | H19: =IF('Analítica Proyecto Planta Pilot'!R19="","",VLOOKUP('Analítica Proyecto Planta Pilot'!R19,Frecuencia!$BD$2:$BE$10,2,FALSE)) | I19: =IF('Analítica Proyecto Planta Pilot'!T19="","",VLOOKUP('Analítica Proyecto Planta Pilot'!T19,Frecuencia!$BD$2:$BE$10,2,FALSE)) | J19: =IF('Analítica Proyecto Planta Pilot'!D19="On line","On line",SUM(B19:I19)) -> 0.5
A20: Ozono residual (existe?) | B20: =IF('Analítica Proyecto Planta Pilot'!F20="","",VLOOKUP('Analítica Proyecto Planta Pilot'!F20,Frecuencia!$BD$2:$BE$10,2,FALSE)) | C20: =IF('Analítica Proyecto Planta Pilot'!H20="","",VLOOKUP('Analítica Proyecto Planta Pilot'!H20,Frecuencia!$BD$2:$BE$10,2,FALSE)) -> online | D20: =IF('Analítica Proyecto Planta Pilot'!J20="","",VLOOKUP('Analítica Proyecto Planta Pilot'!J20,Frecuencia!$BD$2:$BE$10,2,FALSE)) | E20: =IF('Analítica Proyecto Planta Pilot'!L20="","",VLOOKUP('Analítica Proyecto Planta Pilot'!L20,Frecuencia!$BD$2:$BE$10,2,FALSE)) | F20: =IF('Analítica Proyecto Planta Pilot'!N20="","",VLOOKUP('Analítica Proyecto Planta Pilot'!N20,Frecuencia!$BD$2:$BE$10,2,FALSE)) -> online | G20: =IF('Analítica Proyecto Planta Pilot'!P20="","",VLOOKUP('Analítica Proyecto Planta Pilot'!P20,Frecuencia!$BD$2:$BE$10,2,FALSE)) | H20: =IF('Analítica Proyecto Planta Pilot'!R20="","",VLOOKUP('Analítica Proyecto Planta Pilot'!R20,Frecuencia!$BD$2:$BE$10,2,FALSE)) | I20: =IF('Analítica Proyecto Planta Pilot'!T20="","",VLOOKUP('Analítica Proyecto Planta Pilot'!T20,Frecuencia!$BD$2:$BE$10,2,FALSE)) | J20: =IF('Analítica Proyecto Planta Pilot'!D20="On line","On line",SUM(B20:I20)) -> On line
A21: Alcalinidad total | B21: =IF('Analítica Proyecto Planta Pilot'!F21="","",VLOOKUP('Analítica Proyecto Planta Pilot'!F21,Frecuencia!$BD$2:$BE$10,2,FALSE)) -> 1 | C21: =IF('Analítica Proyecto Planta Pilot'!H21="","",VLOOKUP('Analítica Proyecto Planta Pilot'!H21,Frecuencia!$BD$2:$BE$10,2,FALSE)) | D21: =IF('Analítica Proyecto Planta Pilot'!J21="","",VLOOKUP('Analítica Proyecto Planta Pilot'!J21,Frecuencia!$BD$2:$BE$10,2,FALSE)) | E21: =IF('Analítica Proyecto Planta Pilot'!L21="","",VLOOKUP('Analítica Proyecto Planta Pilot'!L21,Frecuencia!$BD$2:$BE$10,2,FALSE)) | F21: =IF('Analítica Proyecto Planta Pilot'!N21="","",VLOOKUP('Analítica Proyecto Planta Pilot'!N21,Frecuencia!$BD$2:$BE$10,2,FALSE)) | G21: =IF('Analítica Proyecto Planta Pilot'!P21="","",VLOOKUP('Analítica Proyecto Planta Pilot'!P21,Frecuencia!$BD$2:$BE$10,2,FALSE)) | H21: =IF('Analítica Proyecto Planta Pilot'!R21="","",VLOOKUP('Analítica Proyecto Planta Pilot'!R21,Frecuencia!$BD$2:$BE$10,2,FALSE)) | I21: =IF('Analítica Proyecto Planta Pilot'!T21="","",VLOOKUP('Analítica Proyecto Planta Pilot'!T21,Frecuencia!$BD$2:$BE$10,2,FALSE)) -> 1 | J21: =IF('Analítica Proyecto Planta Pilot'!D21="On line","On line",SUM(B21:I21)) -> 2
A22: Carbonatos | B22: =IF('Analítica Proyecto Planta Pilot'!F22="","",VLOOKUP('Analítica Proyecto Planta Pilot'!F22,Frecuencia!$BD$2:$BE$10,2,FALSE)) -> 1 | C22: =IF('Analítica Proyecto Planta Pilot'!H22="","",VLOOKUP('Analítica Proyecto Planta Pilot'!H22,Frecuencia!$BD$2:$BE$10,2,FALSE)) | D22: =IF('Analítica Proyecto Planta Pilot'!J22="","",VLOOKUP('Analítica Proyecto Planta Pilot'!J22,Frecuencia!$BD$2:$BE$10,2,FALSE)) | E22: =IF('Analítica Proyecto Planta Pilot'!L22="","",VLOOKUP('Analítica Proyecto Planta Pilot'!L22,Frecuencia!$BD$2:$BE$10,2,FALSE)) | F22: =IF('Analítica Proyecto Planta Pilot'!N22="","",VLOOKUP('Analítica Proyecto Planta Pilot'!N22,Frecuencia!$BD$2:$BE$10,2,FALSE)) | G22: =IF('Analítica Proyecto Planta Pilot'!P22="","",VLOOKUP('Analítica Proyecto Planta Pilot'!P22,Frecuencia!$BD$2:$BE$10,2,FALSE)) | H22: =IF('Analítica Proyecto Planta Pilot'!R22="","",VLOOKUP('Analítica Proyecto Planta Pilot'!R22,Frecuencia!$BD$2:$BE$10,2,FALSE)) | I22: =IF('Analítica Proyecto Planta Pilot'!T22="","",VLOOKUP('Analítica Proyecto Planta Pilot'!T22,Frecuencia!$BD$2:$BE$10,2,FALSE)) -> 1 | J22: =IF('Analítica Proyecto Planta Pilot'!D22="On line","On line",SUM(B22:I22)) -> 2
... A51: Sulfatos (SO4=) (control) | B51: =IF('Analítica Proyecto Planta Pilot'!F51="","",VLOOKUP('Analítica Proyecto Planta Pilot'!F51,Frecuencia!$BD$2:$BE$10,2,FALSE)) -> 2 | C51: =IF('Analítica Proyecto Planta Pilot'!H51="","",VLOOKUP('Analítica Proyecto Planta Pilot'!H51,Frecuencia!$BD$2:$BE$10,2,FALSE)) | D51: =IF('Analítica Proyecto Planta Pilot'!J51="","",VLOOKUP('Analítica Proyecto Planta Pilot'!J51,Frecuencia!$BD$2:$BE$10,2,FALSE)) | E51: =IF('Analítica Proyecto Planta Pilot'!L51="","",VLOOKUP('Analítica Proyecto Planta Pilot'!L51,Frecuencia!$BD$2:$BE$10,2,FALSE)) | F51: =IF('Analítica Proyecto Planta Pilot'!N51="","",VLOOKUP('Analítica Proyecto Planta Pilot'!N51,Frecuencia!$BD$2:$BE$10,2,FALSE)) | G51: =IF('Analítica Proyecto Planta Pilot'!P51="","",VLOOKUP('Analítica Proyecto Planta Pilot'!P51,Frecuencia!$BD$2:$BE$10,2,FALSE)) | H51: =IF('Analítica Proyecto Planta Pilot'!R51="","",VLOOKUP('Analítica Proyecto Planta Pilot'!R51,Frecuencia!$BD$2:$BE$10,2,FALSE)) | I51: =IF('Analítica Proyecto Planta Pilot'!T51="","",VLOOKUP('Analítica Proyecto Planta Pilot'!T51,Frecuencia!$BD$2:$BE$10,2,FALSE)) -> 2 | J51: =IF('Analítica Proyecto Planta Pilot'!D51="On line","On line",SUM(B51:I51)) -> 4
A52: METALES | B52: =IF('Analítica Proyecto Planta Pilot'!F52="","",VLOOKUP('Analítica Proyecto Planta Pilot'!F52,Frecuencia!$BD$2:$BE$10,2,FALSE)) | C52: =IF('Analítica Proyecto Planta Pilot'!H52="","",VLOOKUP('Analítica Proyecto Planta Pilot'!H52,Frecuencia!$BD$2:$BE$10,2,FALSE)) | D52: =IF('Analítica Proyecto Planta Pilot'!J52="","",VLOOKUP('Analítica Proyecto Planta Pilot'!J52,Frecuencia!$BD$2:$BE$10,2,FALSE)) | E52: =IF('Analítica Proyecto Planta Pilot'!L52="","",VLOOKUP('Analítica Proyecto Planta Pilot'!L52,Frecuencia!$BD$2:$BE$10,2,FALSE)) | F52: =IF('Analítica Proyecto Planta Pilot'!N52="","",VLOOKUP('Analítica Proyecto Planta Pilot'!N52,Frecuencia!$BD$2:$BE$10,2,FALSE)) | G52: =IF('Analítica Proyecto Planta Pilot'!P52="","",VLOOKUP('Analítica Proyecto Planta Pilot'!P52,Frecuencia!$BD$2:$BE$10,2,FALSE)) | H52: =IF('Analítica Proyecto Planta Pilot'!R52="","",VLOOKUP('Analítica Proyecto Planta Pilot'!R52,Frecuencia!$BD$2:$BE$10,2,FALSE)) | I52: =IF('Analítica Proyecto Planta Pilot'!T52="","",VLOOKUP('Analítica Proyecto Planta Pilot'!T52,Frecuencia!$BD$2:$BE$10,2,FALSE))
A53: Cromo total | B53: =IF('Analítica Proyecto Planta Pilot'!F53="","",VLOOKUP('Analítica Proyecto Planta Pilot'!F53,Frecuencia!$BD$2:$BE$10,2,FALSE)) -> 1 | C53: =IF('Analítica Proyecto Planta Pilot'!H53="","",VLOOKUP('Analítica Proyecto Planta Pilot'!H53,Frecuencia!$BD$2:$BE$10,2,FALSE)) | D53: =IF('Analítica Proyecto Planta Pilot'!J53="","",VLOOKUP('Analítica Proyecto Planta Pilot'!J53,Frecuencia!$BD$2:$BE$10,2,FALSE)) | E53: =IF('Analítica Proyecto Planta Pilot'!L53="","",VLOOKUP('Analítica Proyecto Planta Pilot'!L53,Frecuencia!$BD$2:$BE$10,2,FALSE)) | F53: =IF('Analítica Proyecto Planta Pilot'!N53="","",VLOOKUP('Analítica Proyecto Planta Pilot'!N53,Frecuencia!$BD$2:$BE$10,2,FALSE)) | G53: =IF('Analítica Proyecto Planta Pilot'!P53="","",VLOOKUP('Analítica Proyecto Planta Pilot'!P53,Frecuencia!$BD$2:$BE$10,2,FALSE)) | H53: =IF('Analítica Proyecto Planta Pilot'!R53="","",VLOOKUP('Analítica Proyecto Planta Pilot'!R53,Frecuencia!$BD$2:$BE$10,2,FALSE)) | I53: =IF('Analítica Proyecto Planta Pilot'!T53="","",VLOOKUP('Analítica Proyecto Planta Pilot'!T53,Frecuencia!$BD$2:$BE$10,2,FALSE)) -> 1 | J53: =IF('Analítica Proyecto Planta Pilot'!D53="On line","On line",SUM(B53:I53)) -> 2
A54: Cromo hexavalente | B54: =IF('Analítica Proyecto Planta Pilot'!F54="","",VLOOKUP('Analítica Proyecto Planta Pilot'!F54,Frecuencia!$BD$2:$BE$10,2,FALSE)) -> 0.5 | C54: =IF('Analítica Proyecto Planta Pilot'!H54="","",VLOOKUP('Analítica Proyecto Planta Pilot'!H54,Frecuencia!$BD$2:$BE$10,2,FALSE)) | D54: =IF('Analítica Proyecto Planta Pilot'!J54="","",VLOOKUP('Analítica Proyecto Planta Pilot'!J54,Frecuencia!$BD$2:$BE$10,2,FALSE)) | E54: =IF('Analítica Proyecto Planta Pilot'!L54="","",VLOOKUP('Analítica Proyecto Planta Pilot'!L54,Frecuencia!$BD$2:$BE$10,2,FALSE)) | F54: =IF('Analítica Proyecto Planta Pilot'!N54="","",VLOOKUP('Analítica Proyecto Planta Pilot'!N54,Frecuencia!$BD$2:$BE$10,2,FALSE)) | G54: =IF('Analítica Proyecto Planta Pilot'!P54="","",VLOOKUP('Analítica Proyecto Planta Pilot'!P54,Frecuencia!$BD$2:$BE$10,2,FALSE)) | H54: =IF('Analítica Proyecto Planta Pilot'!R54="","",VLOOKUP('Analítica Proyecto Planta Pilot'!R54,Frecuencia!$BD$2:$BE$10,2,FALSE)) | I54: =IF('Analítica Proyecto Planta Pilot'!T54="","",VLOOKUP('Analítica Proyecto Planta Pilot'!T54,Frecuencia!$BD$2:$BE$10,2,FALSE)) | J54: =IF('Analítica Proyecto Planta Pilot'!D54="On line","On line",SUM(B54:I54)) -> 0.5
A55: Cadmio | B55: =IF('Analítica Proyecto Planta Pilot'!F55="","",VLOOKUP('Analítica Proyecto Planta Pilot'!F55,Frecuencia!$BD$2:$BE$10,2,FALSE)) -> 1 | C55: =IF('Analítica Proyecto Planta Pilot'!H55="","",VLOOKUP('Analítica Proyecto Planta Pilot'!H55,Frecuencia!$BD$2:$BE$10,2,FALSE)) | D55: =IF('Analítica Proyecto Planta Pilot'!J55="","",VLOOKUP('Analítica Proyecto Planta Pilot'!J55,Frecuencia!$BD$2:$BE$10,2,FALSE)) | E55: =IF('Analítica Proyecto Planta Pilot'!L55="","",VLOOKUP('Analítica Proyecto Planta Pilot'!L55,Frecuencia!$BD$2:$BE$10,2,FALSE)) | F55: =IF('Analítica Proyecto Planta Pilot'!N55="","",VLOOKUP('Analítica Proyecto Planta Pilot'!N55,Frecuencia!$BD$2:$BE$10,2,FALSE)) | G55: =IF('Analítica Proyecto Planta Pilot'!P55="","",VLOOKUP('Analítica Proyecto Planta Pilot'!P55,Frecuencia!$BD$2:$BE$10,2,FALSE)) | H55: =IF('Analítica Proyecto Planta Pilot'!R55="","",VLOOKUP('Analítica Proyecto Planta Pilot'!R55,Frecuencia!$BD$2:$BE$10,2,FALSE)) | I55: =IF('Analítica Proyecto Planta Pilot'!T55="","",VLOOKUP('Analítica Proyecto Planta Pilot'!T55,Frecuencia!$BD$2:$BE$10,2,FALSE)) -> 1 | J55: =IF('Analítica Proyecto Planta Pilot'!D55="On line","On line",SUM(B55:I55)) -> 2
A56: Zinc | B56: =IF('Analítica Proyecto Planta Pilot'!F56="","",VLOOKUP('Analítica Proyecto Planta Pilot'!F56,Frecuencia!$BD$2:$BE$10,2,FALSE)) -> 1 | C56: =IF('Analítica Proyecto Planta Pilot'!H56="","",VLOOKUP('Analítica Proyecto Planta Pilot'!H56,Frecuencia!$BD$2:$BE$10,2,FALSE)) | D56: =IF('Analítica Proyecto Planta Pilot'!J56="","",VLOOKUP('Analítica Proyecto Planta Pilot'!J56,Frecuencia!$BD$2:$BE$10,2,FALSE)) | E56: =IF('Analítica Proyecto Planta Pilot'!L56="","",VLOOKUP('Analítica Proyecto Planta Pilot'!L56,Frecuencia!$BD$2:$BE$10,2,FALSE)) | F56: =IF('Analítica Proyecto Planta Pilot'!N56="","",VLOOKUP('Analítica Proyecto Planta Pilot'!N56,Frecuencia!$BD$2:$BE$10,2,FALSE)) | G56: =IF('Analítica Proyecto Planta Pilot'!P56="","",VLOOKUP('Analítica Proyecto Planta Pilot'!P56,Frecuencia!$BD$2:$BE$10,2,FALSE)) | H56: =IF('Analítica Proyecto Planta Pilot'!R56="","",VLOOKUP('Analítica Proyecto Planta Pilot'!R56,Frecuencia!$BD$2:$BE$10,2,FALSE)) | I56: =IF('Analítica Proyecto Planta Pilot'!T56="","",VLOOKUP('Analítica Proyecto Planta Pilot'!T56,Frecuencia!$BD$2:$BE$10,2,FALSE)) -> 1 | J56: =IF('Analítica Proyecto Planta Pilot'!D56="On line","On line",SUM(B56:I56)) -> 2
A57: Cobre | B57: =IF('Analítica Proyecto Planta Pilot'!F57="","",VLOOKUP('Analítica Proyecto Planta Pilot'!F57,Frecuencia!$BD$2:$BE$10,2,FALSE)) -> 1 | C57: =IF('Analítica Proyecto Planta Pilot'!H57="","",VLOOKUP('Analítica Proyecto Planta Pilot'!H57,Frecuencia!$BD$2:$BE$10,2,FALSE)) | D57: =IF('Analítica Proyecto Planta Pilot'!J57="","",VLOOKUP('Analítica Proyecto Planta Pilot'!J57,Frecuencia!$BD$2:$BE$10,2,FALSE)) | E57: =IF('Analítica Proyecto Planta Pilot'!L57="","",VLOOKUP('Analítica Proyecto Planta Pilot'!L57,Frecuencia!$BD$2:$BE$10,2,FALSE)) | F57: =IF('Analítica Proyecto Planta Pilot'!N57="","",VLOOKUP('Analítica Proyecto Planta Pilot'!N57,Frecuencia!$BD$2:$BE$10,2,FALSE)) | G57: =IF('Analítica Proyecto Planta Pilot'!P57="","",VLOOKUP('Analítica Proyecto Planta Pilot'!P57,Frecuencia!$BD$2:$BE$10,2,FALSE)) | H57: =IF('Analítica Proyecto Planta Pilot'!R57="","",VLOOKUP('Analítica Proyecto Planta Pilot'!R57,Frecuencia!$BD$2:$BE$10,2,FALSE)) | I57: =IF('Analítica Proyecto Planta Pilot'!T57="","",VLOOKUP('Analítica Proyecto Planta Pilot'!T57,Frecuencia!$BD$2:$BE$10,2,FALSE)) -> 1 | J57: =IF('Analítica Proyecto Planta Pilot'!D57="On line","On line",SUM(B57:I57)) -> 2
A58: Mercurio | B58: =IF('Analítica Proyecto Planta Pilot'!F58="","",VLOOKUP('Analítica Proyecto Planta Pilot'!F58,Frecuencia!$BD$2:$BE$10,2,FALSE)) -> 1 | C58: =IF('Analítica Proyecto Planta Pilot'!H58="","",VLOOKUP('Analítica Proyecto Planta Pilot'!H58,Frecuencia!$BD$2:$BE$10,2,FALSE)) | D58: =IF('Analítica Proyecto Planta Pilot'!J58="","",VLOOKUP('Analítica Proyecto Planta Pilot'!J58,Frecuencia!$BD$2:$BE$10,2,FALSE)) | E58: =IF('Analítica Proyecto Planta Pilot'!L58="","",VLOOKUP('Analítica Proyecto Planta Pilot'!L58,Frecuencia!$BD$2:$BE$10,2,FALSE)) | F58: =IF('Analítica Proyecto Planta Pilot'!N58="","",VLOOKUP('Analítica Proyecto Planta Pilot'!N58,Frecuencia!$BD$2:$BE$10,2,FALSE)) | G58: =IF('Analítica Proyecto Planta Pilot'!P58="","",VLOOKUP('Analítica Proyecto Planta Pilot'!P58,Frecuencia!$BD$2:$BE$10,2,FALSE)) | H58: =IF('Analítica Proyecto Planta Pilot'!R58="","",VLOOKUP('Analítica Proyecto Planta Pilot'!R58,Frecuencia!$BD$2:$BE$10,2,FALSE)) | I58: =IF('Analítica Proyecto Planta Pilot'!T58="","",VLOOKUP('Analítica Proyecto Planta Pilot'!T58,Frecuencia!$BD$2:$BE$10,2,FALSE)) -> 1 | J58: =IF('Analítica Proyecto Planta Pilot'!D58="On line","On line",SUM(B58:I58)) -> 2
A59: Plomo | B59: =IF('Analítica Proyecto Planta Pilot'!F59="","",VLOOKUP('Analítica Proyecto Planta Pilot'!F59,Frecuencia!$BD$2:$BE$10,2,FALSE)) -> 1 | C59: =IF('Analítica Proyecto Planta Pilot'!H59="","",VLOOKUP('Analítica Proyecto Planta Pilot'!H59,Frecuencia!$BD$2:$BE$10,2,FALSE)) | D59: =IF('Analítica Proyecto Planta Pilot'!J59="","",VLOOKUP('Analítica Proyecto Planta Pilot'!J59,Frecuencia!$BD$2:$BE$10,2,FALSE)) | E59: =IF('Analítica Proyecto Planta Pilot'!L59="","",VLOOKUP('Analítica Proyecto Planta Pilot'!L59,Frecuencia!$BD$2:$BE$10,2,FALSE)) | F59: =IF('Analítica Proyecto Planta Pilot'!N59="","",VLOOKUP('Analítica Proyecto Planta Pilot'!N59,Frecuencia!$BD$2:$BE$10,2,FALSE)) | G59: =IF('Analítica Proyecto Planta Pilot'!P59="","",VLOOKUP('Analítica Proyecto Planta Pilot'!P59,Frecuencia!$BD$2:$BE$10,2,FALSE)) | H59: =IF('Analítica Proyecto Planta Pilot'!R59="","",VLOOKUP('Analítica Proyecto Planta Pilot'!R59,Frecuencia!$BD$2:$BE$10,2,FALSE)) | I59: =IF('Analítica Proyecto Planta Pilot'!T59="","",VLOOKUP('Analítica Proyecto Planta Pilot'!T59,Frecuencia!$BD$2:$BE$10,2,FALSE)) -> 1 | J59: =IF('Analítica Proyecto Planta Pilot'!D59="On line","On line",SUM(B59:I59)) -> 2
A60: Arsénico | B60: =IF('Analítica Proyecto Planta Pilot'!F60="","",VLOOKUP('Analítica Proyecto Planta Pilot'!F60,Frecuencia!$BD$2:$BE$10,2,FALSE)) -> 1 | C60: =IF('Analítica Proyecto Planta Pilot'!H60="","",VLOOKUP('Analítica Proyecto Planta Pilot'!H60,Frecuencia!$BD$2:$BE$10,2,FALSE)) | D60: =IF('Analítica Proyecto Planta Pilot'!J60="","",VLOOKUP('Analítica Proyecto Planta Pilot'!J60,Frecuencia!$BD$2:$BE$10,2,FALSE)) | E60: =IF('Analítica Proyecto Planta Pilot'!L60="","",VLOOKUP('Analítica Proyecto Planta Pilot'!L60,Frecuencia!$BD$2:$BE$10,2,FALSE)) | F60: =IF('Analítica Proyecto Planta Pilot'!N60="","",VLOOKUP('Analítica Proyecto Planta Pilot'!N60,Frecuencia!$BD$2:$BE$10,2,FALSE)) | G60: =IF('Analítica Proyecto Planta Pilot'!P60="","",VLOOKUP('Analítica Proyecto Planta Pilot'!P60,Frecuencia!$BD$2:$BE$10,2,FALSE)) | H60: =IF('Analítica Proyecto Planta Pilot'!R60="","",VLOOKUP('Analítica Proyecto Planta Pilot'!R60,Frecuencia!$BD$2:$BE$10,2,FALSE)) | I60: =IF('Analítica Proyecto Planta Pilot'!T60="","",VLOOKUP('Analítica Proyecto Planta Pilot'!T60,Frecuencia!$BD$2:$BE$10,2,FALSE)) -> 1 | J60: =IF('Analítica Proyecto Planta Pilot'!D60="On line","On line",SUM(B60:I60)) -> 2
A61: Antimonio | B61: =IF('Analítica Proyecto Planta Pilot'!F61="","",VLOOKUP('Analítica Proyecto Planta Pilot'!F61,Frecuencia!$BD$2:$BE$10,2,FALSE)) -> 1 | C61: =IF('Analítica Proyecto Planta Pilot'!H61="","",VLOOKUP('Analítica Proyecto Planta Pilot'!H61,Frecuencia!$BD$2:$BE$10,2,FALSE)) | D61: =IF('Analítica Proyecto Planta Pilot'!J61="","",VLOOKUP('Analítica Proyecto Planta Pilot'!J61,Frecuencia!$BD$2:$BE$10,2,FALSE)) | E61: =IF('Analítica Proyecto Planta Pilot'!L61="","",VLOOKUP('Analítica Proyecto Planta Pilot'!L61,Frecuencia!$BD$2:$BE$10,2,FALSE)) | F61: =IF('Analítica Proyecto Planta Pilot'!N61="","",VLOOKUP('Analítica Proyecto Planta Pilot'!N61,Frecuencia!$BD$2:$BE$10,2,FALSE)) | G61: =IF('Analítica Proyecto Planta Pilot'!P61="","",VLOOKUP('Analítica Proyecto Planta Pilot'!P61,Frecuencia!$BD$2:$BE$10,2,FALSE)) | H61: =IF('Analítica Proyecto Planta Pilot'!R61="","",VLOOKUP('Analítica Proyecto Planta Pilot'!R61,Frecuencia!$BD$2:$BE$10,2,FALSE)) | I61: =IF('Analítica Proyecto Planta Pilot'!T61="","",VLOOKUP('Analítica Proyecto Planta Pilot'!T61,Frecuencia!$BD$2:$BE$10,2,FALSE)) -> 1 | J61: =IF('Analítica Proyecto Planta Pilot'!D61="On line","On line",SUM(B61:I61)) -> 2
A62: Boro | B62: =IF('Analítica Proyecto Planta Pilot'!F62="","",VLOOKUP('Analítica Proyecto Planta Pilot'!F62,Frecuencia!$BD$2:$BE$10,2,FALSE)) -> 1 | C62: =IF('Analítica Proyecto Planta Pilot'!H62="","",VLOOKUP('Analítica Proyecto Planta Pilot'!H62,Frecuencia!$BD$2:$BE$10,2,FALSE)) | D62: =IF('Analítica Proyecto Planta Pilot'!J62="","",VLOOKUP('Analítica Proyecto Planta Pilot'!J62,Frecuencia!$BD$2:$BE$10,2,FALSE)) | E62: =IF('Analítica Proyecto Planta Pilot'!L62="","",VLOOKUP('Analítica Proyecto Planta Pilot'!L62,Frecuencia!$BD$2:$BE$10,2,FALSE)) | F62: =IF('Analítica Proyecto Planta Pilot'!N62="","",VLOOKUP('Analítica Proyecto Planta Pilot'!N62,Frecuencia!$BD$2:$BE$10,2,FALSE)) | G62: =IF('Analítica Proyecto Planta Pilot'!P62="","",VLOOKUP('Analítica Proyecto Planta Pilot'!P62,Frecuencia!$BD$2:$BE$10,2,FALSE)) | H62: =IF('Analítica Proyecto Planta Pilot'!R62="","",VLOOKUP('Analítica Proyecto Planta Pilot'!R62,Frecuencia!$BD$2:$BE$10,2,FALSE)) | I62: =IF('Analítica Proyecto Planta Pilot'!T62="","",VLOOKUP('Analítica Proyecto Planta Pilot'!T62,Frecuencia!$BD$2:$BE$10,2,FALSE)) -> 1 | J62: =IF('Analítica Proyecto Planta Pilot'!D62="On line","On line",SUM(B62:I62)) -> 2
A63: Sodio | B63: =IF('Analítica Proyecto Planta Pilot'!F63="","",VLOOKUP('Analítica Proyecto Planta Pilot'!F63,Frecuencia!$BD$2:$BE$10,2,FALSE)) -> 1 | C63: =IF('Analítica Proyecto Planta Pilot'!H63="","",VLOOKUP('Analítica Proyecto Planta Pilot'!H63,Frecuencia!$BD$2:$BE$10,2,FALSE)) | D63: =IF('Analítica Proyecto Planta Pilot'!J63="","",VLOOKUP('Analítica Proyecto Planta Pilot'!J63,Frecuencia!$BD$2:$BE$10,2,FALSE)) | E63: =IF('Analítica Proyecto Planta Pilot'!L63="","",VLOOKUP('Analítica Proyecto Planta Pilot'!L63,Frecuencia!$BD$2:$BE$10,2,FALSE)) | F63: =IF('Analítica Proyecto Planta Pilot'!N63="","",VLOOKUP('Analítica Proyecto Planta Pilot'!N63,Frecuencia!$BD$2:$BE$10,2,FALSE)) | G63: =IF('Analítica Proyecto Planta Pilot'!P63="","",VLOOKUP('Analítica Proyecto Planta Pilot'!P63,Frecuencia!$BD$2:$BE$10,2,FALSE)) | H63: =IF('Analítica Proyecto Planta Pilot'!R63="","",VLOOKUP('Analítica Proyecto Planta Pilot'!R63,Frecuencia!$BD$2:$BE$10,2,FALSE)) | I63: =IF('Analítica Proyecto Planta Pilot'!T63="","",VLOOKUP('Analítica Proyecto Planta Pilot'!T63,Frecuencia!$BD$2:$BE$10,2,FALSE)) -> 1 | J63: =IF('Analítica Proyecto Planta Pilot'!D63="On line","On line",SUM(B63:I63)) -> 2
A64: Potasio | B64: =IF('Analítica Proyecto Planta Pilot'!F64="","",VLOOKUP('Analítica Proyecto Planta Pilot'!F64,Frecuencia!$BD$2:$BE$10,2,FALSE)) -> 1 | C64: =IF('Analítica Proyecto Planta Pilot'!H64="","",VLOOKUP('Analítica Proyecto Planta Pilot'!H64,Frecuencia!$BD$2:$BE$10,2,FALSE)) | D64: =IF('Analítica Proyecto Planta Pilot'!J64="","",VLOOKUP('Analítica Proyecto Planta Pilot'!J64,Frecuencia!$BD$2:$BE$10,2,FALSE)) | E64: =IF('Analítica Proyecto Planta Pilot'!L64="","",VLOOKUP('Analítica Proyecto Planta Pilot'!L64,Frecuencia!$BD$2:$BE$10,2,FALSE)) | F64: =IF('Analítica Proyecto Planta Pilot'!N64="","",VLOOKUP('Analítica Proyecto Planta Pilot'!N64,Frecuencia!$BD$2:$BE$10,2,FALSE)) | G64: =IF('Analítica Proyecto Planta Pilot'!P64="","",VLOOKUP('Analítica Proyecto Planta Pilot'!P64,Frecuencia!$BD$2:$BE$10,2,FALSE)) | H64: =IF('Analítica Proyecto Planta Pilot'!R64="","",VLOOKUP('Analítica Proyecto Planta Pilot'!R64,Frecuencia!$BD$2:$BE$10,2,FALSE)) | I64: =IF('Analítica Proyecto Planta Pilot'!T64="","",VLOOKUP('Analítica Proyecto Planta Pilot'!T64,Frecuencia!$BD$2:$BE$10,2,FALSE)) -> 1 | J64: =IF('Analítica Proyecto Planta Pilot'!D64="On line","On line",SUM(B64:I64)) -> 2
... A78: Tributilestaño-TBT | B78: =IF('Analítica Proyecto Planta Pilot'!F78="","",VLOOKUP('Analítica Proyecto Planta Pilot'!F78,Frecuencia!$BD$2:$BE$10,2,FALSE)) -> 0.5 | C78: =IF('Analítica Proyecto Planta Pilot'!H78="","",VLOOKUP('Analítica Proyecto Planta Pilot'!H78,Frecuencia!$BD$2:$BE$10,2,FALSE)) | D78: =IF('Analítica Proyecto Planta Pilot'!J78="","",VLOOKUP('Analítica Proyecto Planta Pilot'!J78,Frecuencia!$BD$2:$BE$10,2,FALSE)) | E78: =IF('Analítica Proyecto Planta Pilot'!L78="","",VLOOKUP('Analítica Proyecto Planta Pilot'!L78,Frecuencia!$BD$2:$BE$10,2,FALSE)) | F78: =IF('Analítica Proyecto Planta Pilot'!N78="","",VLOOKUP('Analítica Proyecto Planta Pilot'!N78,Frecuencia!$BD$2:$BE$10,2,FALSE)) | G78: =IF('Analítica Proyecto Planta Pilot'!P78="","",VLOOKUP('Analítica Proyecto Planta Pilot'!P78,Frecuencia!$BD$2:$BE$10,2,FALSE)) | H78: =IF('Analítica Proyecto Planta Pilot'!R78="","",VLOOKUP('Analítica Proyecto Planta Pilot'!R78,Frecuencia!$BD$2:$BE$10,2,FALSE)) | I78: =IF('Analítica Proyecto Planta Pilot'!T78="","",VLOOKUP('Analítica Proyecto Planta Pilot'!T78,Frecuencia!$BD$2:$BE$10,2,FALSE)) | J78: =IF('Analítica Proyecto Planta Pilot'!D78="On line","On line",SUM(B78:I78)) -> 0.5
A79: PAHs | B79: =IF('Analítica Proyecto Planta Pilot'!F79="","",VLOOKUP('Analítica Proyecto Planta Pilot'!F79,Frecuencia!$BD$2:$BE$10,2,FALSE)) | C79: =IF('Analítica Proyecto Planta Pilot'!H79="","",VLOOKUP('Analítica Proyecto Planta Pilot'!H79,Frecuencia!$BD$2:$BE$10,2,FALSE)) | D79: =IF('Analítica Proyecto Planta Pilot'!J79="","",VLOOKUP('Analítica Proyecto Planta Pilot'!J79,Frecuencia!$BD$2:$BE$10,2,FALSE)) | E79: =IF('Analítica Proyecto Planta Pilot'!L79="","",VLOOKUP('Analítica Proyecto Planta Pilot'!L79,Frecuencia!$BD$2:$BE$10,2,FALSE)) | F79: =IF('Analítica Proyecto Planta Pilot'!N79="","",VLOOKUP('Analítica Proyecto Planta Pilot'!N79,Frecuencia!$BD$2:$BE$10,2,FALSE)) | G79: =IF('Analítica Proyecto Planta Pilot'!P79="","",VLOOKUP('Analítica Proyecto Planta Pilot'!P79,Frecuencia!$BD$2:$BE$10,2,FALSE)) | H79: =IF('Analítica Proyecto Planta Pilot'!R79="","",VLOOKUP('Analítica Proyecto Planta Pilot'!R79,Frecuencia!$BD$2:$BE$10,2,FALSE)) | I79: =IF('Analítica Proyecto Planta Pilot'!T79="","",VLOOKUP('Analítica Proyecto Planta Pilot'!T79,Frecuencia!$BD$2:$BE$10,2,FALSE))
A80: Antraceno | B80: =IF('Analítica Proyecto Planta Pilot'!F80="","",VLOOKUP('Analítica Proyecto Planta Pilot'!F80,Frecuencia!$BD$2:$BE$10,2,FALSE)) -> 0.5 | C80: =IF('Analítica Proyecto Planta Pilot'!H80="","",VLOOKUP('Analítica Proyecto Planta Pilot'!H80,Frecuencia!$BD$2:$BE$10,2,FALSE)) | D80: =IF('Analítica Proyecto Planta Pilot'!J80="","",VLOOKUP('Analítica Proyecto Planta Pilot'!J80,Frecuencia!$BD$2:$BE$10,2,FALSE)) | E80: =IF('Analítica Proyecto Planta Pilot'!L80="","",VLOOKUP('Analítica Proyecto Planta Pilot'!L80,Frecuencia!$BD$2:$BE$10,2,FALSE)) | F80: =IF('Analítica Proyecto Planta Pilot'!N80="","",VLOOKUP('Analítica Proyecto Planta Pilot'!N80,Frecuencia!$BD$2:$BE$10,2,FALSE)) | G80: =IF('Analítica Proyecto Planta Pilot'!P80="","",VLOOKUP('Analítica Proyecto Planta Pilot'!P80,Frecuencia!$BD$2:$BE$10,2,FALSE)) | H80: =IF('Analítica Proyecto Planta Pilot'!R80="","",VLOOKUP('Analítica Proyecto Planta Pilot'!R80,Frecuencia!$BD$2:$BE$10,2,FALSE)) | I80: =IF('Analítica Proyecto Planta Pilot'!T80="","",VLOOKUP('Analítica Proyecto Planta Pilot'!T80,Frecuencia!$BD$2:$BE$10,2,FALSE)) | J80: =IF('Analítica Proyecto Planta Pilot'!D80="On line","On line",SUM(B80:I80)) -> 0.5
A81: Naftaleno | B81: =IF('Analítica Proyecto Planta Pilot'!F81="","",VLOOKUP('Analítica Proyecto Planta Pilot'!F81,Frecuencia!$BD$2:$BE$10,2,FALSE)) -> 0.5 | C81: =IF('Analítica Proyecto Planta Pilot'!H81="","",VLOOKUP('Analítica Proyecto Planta Pilot'!H81,Frecuencia!$BD$2:$BE$10,2,FALSE)) | D81: =IF('Analítica Proyecto Planta Pilot'!J81="","",VLOOKUP('Analítica Proyecto Planta Pilot'!J81,Frecuencia!$BD$2:$BE$10,2,FALSE)) | E81: =IF('Analítica Proyecto Planta Pilot'!L81="","",VLOOKUP('Analítica Proyecto Planta Pilot'!L81,Frecuencia!$BD$2:$BE$10,2,FALSE)) | F81: =IF('Analítica Proyecto Planta Pilot'!N81="","",VLOOKUP('Analítica Proyecto Planta Pilot'!N81,Frecuencia!$BD$2:$BE$10,2,FALSE)) | G81: =IF('Analítica Proyecto Planta Pilot'!P81="","",VLOOKUP('Analítica Proyecto Planta Pilot'!P81,Frecuencia!$BD$2:$BE$10,2,FALSE)) | H81: =IF('Analítica Proyecto Planta Pilot'!R81="","",VLOOKUP('Analítica Proyecto Planta Pilot'!R81,Frecuencia!$BD$2:$BE$10,2,FALSE)) | I81: =IF('Analítica Proyecto Planta Pilot'!T81="","",VLOOKUP('Analítica Proyecto Planta Pilot'!T81,Frecuencia!$BD$2:$BE$10,2,FALSE)) | J81: =IF('Analítica Proyecto Planta Pilot'!D81="On line","On line",SUM(B81:I81)) -> 0.5
A82: Fluoranteno | B82: =IF('Analítica Proyecto Planta Pilot'!F82="","",VLOOKUP('Analítica Proyecto Planta Pilot'!F82,Frecuencia!$BD$2:$BE$10,2,FALSE)) -> 0.5 | C82: =IF('Analítica Proyecto Planta Pilot'!H82="","",VLOOKUP('Analítica Proyecto Planta Pilot'!H82,Frecuencia!$BD$2:$BE$10,2,FALSE)) | D82: =IF('Analítica Proyecto Planta Pilot'!J82="","",VLOOKUP('Analítica Proyecto Planta Pilot'!J82,Frecuencia!$BD$2:$BE$10,2,FALSE)) | E82: =IF('Analítica Proyecto Planta Pilot'!L82="","",VLOOKUP('Analítica Proyecto Planta Pilot'!L82,Frecuencia!$BD$2:$BE$10,2,FALSE)) | F82: =IF('Analítica Proyecto Planta Pilot'!N82="","",VLOOKUP('Analítica Proyecto Planta Pilot'!N82,Frecuencia!$BD$2:$BE$10,2,FALSE)) | G82: =IF('Analítica Proyecto Planta Pilot'!P82="","",VLOOKUP('Analítica Proyecto Planta Pilot'!P82,Frecuencia!$BD$2:$BE$10,2,FALSE)) | H82: =IF('Analítica Proyecto Planta Pilot'!R82="","",VLOOKUP('Analítica Proyecto Planta Pilot'!R82,Frecuencia!$BD$2:$BE$10,2,FALSE)) | I82: =IF('Analítica Proyecto Planta Pilot'!T82="","",VLOOKUP('Analítica Proyecto Planta Pilot'!T82,Frecuencia!$BD$2:$BE$10,2,FALSE)) | J82: =IF('Analítica Proyecto Planta Pilot'!D82="On line","On line",SUM(B82:I82)) -> 0.5
A83: Benzo (b) Fluoranteno | B83: =IF('Analítica Proyecto Planta Pilot'!F83="","",VLOOKUP('Analítica Proyecto Planta Pilot'!F83,Frecuencia!$BD$2:$BE$10,2,FALSE)) -> 1 | C83: =IF('Analítica Proyecto Planta Pilot'!H83="","",VLOOKUP('Analítica Proyecto Planta Pilot'!H83,Frecuencia!$BD$2:$BE$10,2,FALSE)) | D83: =IF('Analítica Proyecto Planta Pilot'!J83="","",VLOOKUP('Analítica Proyecto Planta Pilot'!J83,Frecuencia!$BD$2:$BE$10,2,FALSE)) | E83: =IF('Analítica Proyecto Planta Pilot'!L83="","",VLOOKUP('Analítica Proyecto Planta Pilot'!L83,Frecuencia!$BD$2:$BE$10,2,FALSE)) | F83: =IF('Analítica Proyecto Planta Pilot'!N83="","",VLOOKUP('Analítica Proyecto Planta Pilot'!N83,Frecuencia!$BD$2:$BE$10,2,FALSE)) | G83: =IF('Analítica Proyecto Planta Pilot'!P83="","",VLOOKUP('Analítica Proyecto Planta Pilot'!P83,Frecuencia!$BD$2:$BE$10,2,FALSE)) | H83: =IF('Analítica Proyecto Planta Pilot'!R83="","",VLOOKUP('Analítica Proyecto Planta Pilot'!R83,Frecuencia!$BD$2:$BE$10,2,FALSE)) | I83: =IF('Analítica Proyecto Planta Pilot'!T83="","",VLOOKUP('Analítica Proyecto Planta Pilot'!T83,Frecuencia!$BD$2:$BE$10,2,FALSE)) -> 1 | J83: =IF('Analítica Proyecto Planta Pilot'!D83="On line","On line",SUM(B83:I83)) -> 2
A84: Benzo (k) Fluoranteno | B84: =IF('Analítica Proyecto Planta Pilot'!F84="","",VLOOKUP('Analítica Proyecto Planta Pilot'!F84,Frecuencia!$BD$2:$BE$10,2,FALSE)) -> 1 | C84: =IF('Analítica Proyecto Planta Pilot'!H84="","",VLOOKUP('Analítica Proyecto Planta Pilot'!H84,Frecuencia!$BD$2:$BE$10,2,FALSE)) | D84: =IF('Analítica Proyecto Planta Pilot'!J84="","",VLOOKUP('Analítica Proyecto Planta Pilot'!J84,Frecuencia!$BD$2:$BE$10,2,FALSE)) | E84: =IF('Analítica Proyecto Planta Pilot'!L84="","",VLOOKUP('Analítica Proyecto Planta Pilot'!L84,Frecuencia!$BD$2:$BE$10,2,FALSE)) | F84: =IF('Analítica Proyecto Planta Pilot'!N84="","",VLOOKUP('Analítica Proyecto Planta Pilot'!N84,Frecuencia!$BD$2:$BE$10,2,FALSE)) | G84: =IF('Analítica Proyecto Planta Pilot'!P84="","",VLOOKUP('Analítica Proyecto Planta Pilot'!P84,Frecuencia!$BD$2:$BE$10,2,FALSE)) | H84: =IF('Analítica Proyecto Planta Pilot'!R84="","",VLOOKUP('Analítica Proyecto Planta Pilot'!R84,Frecuencia!$BD$2:$BE$10,2,FALSE)) | I84: =IF('Analítica Proyecto Planta Pilot'!T84="","",VLOOKUP('Analítica Proyecto Planta Pilot'!T84,Frecuencia!$BD$2:$BE$10,2,FALSE)) -> 1 | J84: =IF('Analítica Proyecto Planta Pilot'!D84="On line","On line",SUM(B84:I84)) -> 2
A85: Benzo (a) pireno | B85: =IF('Analítica Proyecto Planta Pilot'!F85="","",VLOOKUP('Analítica Proyecto Planta Pilot'!F85,Frecuencia!$BD$2:$BE$10,2,FALSE)) -> 1 | C85: =IF('Analítica Proyecto Planta Pilot'!H85="","",VLOOKUP('Analítica Proyecto Planta Pilot'!H85,Frecuencia!$BD$2:$BE$10,2,FALSE)) | D85: =IF('Analítica Proyecto Planta Pilot'!J85="","",VLOOKUP('Analítica Proyecto Planta Pilot'!J85,Frecuencia!$BD$2:$BE$10,2,FALSE)) | E85: =IF('Analítica Proyecto Planta Pilot'!L85="","",VLOOKUP('Analítica Proyecto Planta Pilot'!L85,Frecuencia!$BD$2:$BE$10,2,FALSE)) | F85: =IF('Analítica Proyecto Planta Pilot'!N85="","",VLOOKUP('Analítica Proyecto Planta Pilot'!N85,Frecuencia!$BD$2:$BE$10,2,FALSE)) | G85: =IF('Analítica Proyecto Planta Pilot'!P85="","",VLOOKUP('Analítica Proyecto Planta Pilot'!P85,Frecuencia!$BD$2:$BE$10,2,FALSE)) | H85: =IF('Analítica Proyecto Planta Pilot'!R85="","",VLOOKUP('Analítica Proyecto Planta Pilot'!R85,Frecuencia!$BD$2:$BE$10,2,FALSE)) | I85: =IF('Analítica Proyecto Planta Pilot'!T85="","",VLOOKUP('Analítica Proyecto Planta Pilot'!T85,Frecuencia!$BD$2:$BE$10,2,FALSE)) -> 1 | J85: =IF('Analítica Proyecto Planta Pilot'!D85="On line","On line",SUM(B85:I85)) -> 2
A86: Benzo (ghi) Perileno | B86: =IF('Analítica Proyecto Planta Pilot'!F86="","",VLOOKUP('Analítica Proyecto Planta Pilot'!F86,Frecuencia!$BD$2:$BE$10,2,FALSE)) -> 1 | C86: =IF('Analítica Proyecto Planta Pilot'!H86="","",VLOOKUP('Analítica Proyecto Planta Pilot'!H86,Frecuencia!$BD$2:$BE$10,2,FALSE)) | D86: =IF('Analítica Proyecto Planta Pilot'!J86="","",VLOOKUP('Analítica Proyecto Planta Pilot'!J86,Frecuencia!$BD$2:$BE$10,2,FALSE)) | E86: =IF('Analítica Proyecto Planta Pilot'!L86="","",VLOOKUP('Analítica Proyecto Planta Pilot'!L86,Frecuencia!$BD$2:$BE$10,2,FALSE)) | F86: =IF('Analítica Proyecto Planta Pilot'!N86="","",VLOOKUP('Analítica Proyecto Planta Pilot'!N86,Frecuencia!$BD$2:$BE$10,2,FALSE)) | G86: =IF('Analítica Proyecto Planta Pilot'!P86="","",VLOOKUP('Analítica Proyecto Planta Pilot'!P86,Frecuencia!$BD$2:$BE$10,2,FALSE)) | H86: =IF('Analítica Proyecto Planta Pilot'!R86="","",VLOOKUP('Analítica Proyecto Planta Pilot'!R86,Frecuencia!$BD$2:$BE$10,2,FALSE)) | I86: =IF('Analítica Proyecto Planta Pilot'!T86="","",VLOOKUP('Analítica Proyecto Planta Pilot'!T86,Frecuencia!$BD$2:$BE$10,2,FALSE)) -> 1 | J86: =IF('Analítica Proyecto Planta Pilot'!D86="On line","On line",SUM(B86:I86)) -> 2
A87: Indeno (1,2,3-c.d.) pireno | B87: =IF('Analítica Proyecto Planta Pilot'!F87="","",VLOOKUP('Analítica Proyecto Planta Pilot'!F87,Frecuencia!$BD$2:$BE$10,2,FALSE)) -> 1 | C87: =IF('Analítica Proyecto Planta Pilot'!H87="","",VLOOKUP('Analítica Proyecto Planta Pilot'!H87,Frecuencia!$BD$2:$BE$10,2,FALSE)) | D87: =IF('Analítica Proyecto Planta Pilot'!J87="","",VLOOKUP('Analítica Proyecto Planta Pilot'!J87,Frecuencia!$BD$2:$BE$10,2,FALSE)) | E87: =IF('Analítica Proyecto Planta Pilot'!L87="","",VLOOKUP('Analítica Proyecto Planta Pilot'!L87,Frecuencia!$BD$2:$BE$10,2,FALSE)) | F87: =IF('Analítica Proyecto Planta Pilot'!N87="","",VLOOKUP('Analítica Proyecto Planta Pilot'!N87,Frecuencia!$BD$2:$BE$10,2,FALSE)) | G87: =IF('Analítica Proyecto Planta Pilot'!P87="","",VLOOKUP('Analítica Proyecto Planta Pilot'!P87,Frecuencia!$BD$2:$BE$10,2,FALSE)) | H87: =IF('Analítica Proyecto Planta Pilot'!R87="","",VLOOKUP('Analítica Proyecto Planta Pilot'!R87,Frecuencia!$BD$2:$BE$10,2,FALSE)) | I87: =IF('Analítica Proyecto Planta Pilot'!T87="","",VLOOKUP('Analítica Proyecto Planta Pilot'!T87,Frecuencia!$BD$2:$BE$10,2,FALSE)) -> 1 | J87: =IF('Analítica Proyecto Planta Pilot'!D87="On line","On line",SUM(B87:I87)) -> 2
A88: Compuestos Fenólicos | B88: =IF('Analítica Proyecto Planta Pilot'!F88="","",VLOOKUP('Analítica Proyecto Planta Pilot'!F88,Frecuencia!$BD$2:$BE$10,2,FALSE)) | C88: =IF('Analítica Proyecto Planta Pilot'!H88="","",VLOOKUP('Analítica Proyecto Planta Pilot'!H88,Frecuencia!$BD$2:$BE$10,2,FALSE)) | D88: =IF('Analítica Proyecto Planta Pilot'!J88="","",VLOOKUP('Analítica Proyecto Planta Pilot'!J88,Frecuencia!$BD$2:$BE$10,2,FALSE)) | E88: =IF('Analítica Proyecto Planta Pilot'!L88="","",VLOOKUP('Analítica Proyecto Planta Pilot'!L88,Frecuencia!$BD$2:$BE$10,2,FALSE)) | F88: =IF('Analítica Proyecto Planta Pilot'!N88="","",VLOOKUP('Analítica Proyecto Planta Pilot'!N88,Frecuencia!$BD$2:$BE$10,2,FALSE)) | G88: =IF('Analítica Proyecto Planta Pilot'!P88="","",VLOOKUP('Analítica Proyecto Planta Pilot'!P88,Frecuencia!$BD$2:$BE$10,2,FALSE)) | H88: =IF('Analítica Proyecto Planta Pilot'!R88="","",VLOOKUP('Analítica Proyecto Planta Pilot'!R88,Frecuencia!$BD$2:$BE$10,2,FALSE)) | I88: =IF('Analítica Proyecto Planta Pilot'!T88="","",VLOOKUP('Analítica Proyecto Planta Pilot'!T88,Frecuencia!$BD$2:$BE$10,2,FALSE))
A89: Pentaclorofenol | B89: =IF('Analítica Proyecto Planta Pilot'!F89="","",VLOOKUP('Analítica Proyecto Planta Pilot'!F89,Frecuencia!$BD$2:$BE$10,2,FALSE)) -> 0.5 | C89: =IF('Analítica Proyecto Planta Pilot'!H89="","",VLOOKUP('Analítica Proyecto Planta Pilot'!H89,Frecuencia!$BD$2:$BE$10,2,FALSE)) | D89: =IF('Analítica Proyecto Planta Pilot'!J89="","",VLOOKUP('Analítica Proyecto Planta Pilot'!J89,Frecuencia!$BD$2:$BE$10,2,FALSE)) | E89: =IF('Analítica Proyecto Planta Pilot'!L89="","",VLOOKUP('Analítica Proyecto Planta Pilot'!L89,Frecuencia!$BD$2:$BE$10,2,FALSE)) | F89: =IF('Analítica Proyecto Planta Pilot'!N89="","",VLOOKUP('Analítica Proyecto Planta Pilot'!N89,Frecuencia!$BD$2:$BE$10,2,FALSE)) | G89: =IF('Analítica Proyecto Planta Pilot'!P89="","",VLOOKUP('Analítica Proyecto Planta Pilot'!P89,Frecuencia!$BD$2:$BE$10,2,FALSE)) | H89: =IF('Analítica Proyecto Planta Pilot'!R89="","",VLOOKUP('Analítica Proyecto Planta Pilot'!R89,Frecuencia!$BD$2:$BE$10,2,FALSE)) | I89: =IF('Analítica Proyecto Planta Pilot'!T89="","",VLOOKUP('Analítica Proyecto Planta Pilot'!T89,Frecuencia!$BD$2:$BE$10,2,FALSE)) | J89: =IF('Analítica Proyecto Planta Pilot'!D89="On line","On line",SUM(B89:I89)) -> 0.5
A90: BTEX | B90: =IF('Analítica Proyecto Planta Pilot'!F90="","",VLOOKUP('Analítica Proyecto Planta Pilot'!F90,Frecuencia!$BD$2:$BE$10,2,FALSE)) | C90: =IF('Analítica Proyecto Planta Pilot'!H90="","",VLOOKUP('Analítica Proyecto Planta Pilot'!H90,Frecuencia!$BD$2:$BE$10,2,FALSE)) | D90: =IF('Analítica Proyecto Planta Pilot'!J90="","",VLOOKUP('Analítica Proyecto Planta Pilot'!J90,Frecuencia!$BD$2:$BE$10,2,FALSE)) | E90: =IF('Analítica Proyecto Planta Pilot'!L90="","",VLOOKUP('Analítica Proyecto Planta Pilot'!L90,Frecuencia!$BD$2:$BE$10,2,FALSE)) | F90: =IF('Analítica Proyecto Planta Pilot'!N90="","",VLOOKUP('Analítica Proyecto Planta Pilot'!N90,Frecuencia!$BD$2:$BE$10,2,FALSE)) | G90: =IF('Analítica Proyecto Planta Pilot'!P90="","",VLOOKUP('Analítica Proyecto Planta Pilot'!P90,Frecuencia!$BD$2:$BE$10,2,FALSE)) | H90: =IF('Analítica Proyecto Planta Pilot'!R90="","",VLOOKUP('Analítica Proyecto Planta Pilot'!R90,Frecuencia!$BD$2:$BE$10,2,FALSE)) | I90: =IF('Analítica Proyecto Planta Pilot'!T90="","",VLOOKUP('Analítica Proyecto Planta Pilot'!T90,Frecuencia!$BD$2:$BE$10,2,FALSE))
A91: Benceno | B91: =IF('Analítica Proyecto Planta Pilot'!F91="","",VLOOKUP('Analítica Proyecto Planta Pilot'!F91,Frecuencia!$BD$2:$BE$10,2,FALSE)) -> 1 | C91: =IF('Analítica Proyecto Planta Pilot'!H91="","",VLOOKUP('Analítica Proyecto Planta Pilot'!H91,Frecuencia!$BD$2:$BE$10,2,FALSE)) | D91: =IF('Analítica Proyecto Planta Pilot'!J91="","",VLOOKUP('Analítica Proyecto Planta Pilot'!J91,Frecuencia!$BD$2:$BE$10,2,FALSE)) | E91: =IF('Analítica Proyecto Planta Pilot'!L91="","",VLOOKUP('Analítica Proyecto Planta Pilot'!L91,Frecuencia!$BD$2:$BE$10,2,FALSE)) | F91: =IF('Analítica Proyecto Planta Pilot'!N91="","",VLOOKUP('Analítica Proyecto Planta Pilot'!N91,Frecuencia!$BD$2:$BE$10,2,FALSE)) | G91: =IF('Analítica Proyecto Planta Pilot'!P91="","",VLOOKUP('Analítica Proyecto Planta Pilot'!P91,Frecuencia!$BD$2:$BE$10,2,FALSE)) | H91: =IF('Analítica Proyecto Planta Pilot'!R91="","",VLOOKUP('Analítica Proyecto Planta Pilot'!R91,Frecuencia!$BD$2:$BE$10,2,FALSE)) | I91: =IF('Analítica Proyecto Planta Pilot'!T91="","",VLOOKUP('Analítica Proyecto Planta Pilot'!T91,Frecuencia!$BD$2:$BE$10,2,FALSE)) -> 1 | J91: =IF('Analítica Proyecto Planta Pilot'!D91="On line","On line",SUM(B91:I91)) -> 2
A92: Tolueno | B92: =IF('Analítica Proyecto Planta Pilot'!F92="","",VLOOKUP('Analítica Proyecto Planta Pilot'!F92,Frecuencia!$BD$2:$BE$10,2,FALSE)) -> 0.5 | C92: =IF('Analítica Proyecto Planta Pilot'!H92="","",VLOOKUP('Analítica Proyecto Planta Pilot'!H92,Frecuencia!$BD$2:$BE$10,2,FALSE)) | D92: =IF('Analítica Proyecto Planta Pilot'!J92="","",VLOOKUP('Analítica Proyecto Planta Pilot'!J92,Frecuencia!$BD$2:$BE$10,2,FALSE)) | E92: =IF('Analítica Proyecto Planta Pilot'!L92="","",VLOOKUP('Analítica Proyecto Planta Pilot'!L92,Frecuencia!$BD$2:$BE$10,2,FALSE)) | F92: =IF('Analítica Proyecto Planta Pilot'!N92="","",VLOOKUP('Analítica Proyecto Planta Pilot'!N92,Frecuencia!$BD$2:$BE$10,2,FALSE)) | G92: =IF('Analítica Proyecto Planta Pilot'!P92="","",VLOOKUP('Analítica Proyecto Planta Pilot'!P92,Frecuencia!$BD$2:$BE$10,2,FALSE)) | H92: =IF('Analítica Proyecto Planta Pilot'!R92="","",VLOOKUP('Analítica Proyecto Planta Pilot'!R92,Frecuencia!$BD$2:$BE$10,2,FALSE)) | I92: =IF('Analítica Proyecto Planta Pilot'!T92="","",VLOOKUP('Analítica Proyecto Planta Pilot'!T92,Frecuencia!$BD$2:$BE$10,2,FALSE)) | J92: =IF('Analítica Proyecto Planta Pilot'!D92="On line","On line",SUM(B92:I92)) -> 0.5
A93: etilbenceno | B93: =IF('Analítica Proyecto Planta Pilot'!F93="","",VLOOKUP('Analítica Proyecto Planta Pilot'!F93,Frecuencia!$BD$2:$BE$10,2,FALSE)) -> 0.5 | C93: =IF('Analítica Proyecto Planta Pilot'!H93="","",VLOOKUP('Analítica Proyecto Planta Pilot'!H93,Frecuencia!$BD$2:$BE$10,2,FALSE)) | D93: =IF('Analítica Proyecto Planta Pilot'!J93="","",VLOOKUP('Analítica Proyecto Planta Pilot'!J93,Frecuencia!$BD$2:$BE$10,2,FALSE)) | E93: =IF('Analítica Proyecto Planta Pilot'!L93="","",VLOOKUP('Analítica Proyecto Planta Pilot'!L93,Frecuencia!$BD$2:$BE$10,2,FALSE)) | F93: =IF('Analítica Proyecto Planta Pilot'!N93="","",VLOOKUP('Analítica Proyecto Planta Pilot'!N93,Frecuencia!$BD$2:$BE$10,2,FALSE)) | G93: =IF('Analítica Proyecto Planta Pilot'!P93="","",VLOOKUP('Analítica Proyecto Planta Pilot'!P93,Frecuencia!$BD$2:$BE$10,2,FALSE)) | H93: =IF('Analítica Proyecto Planta Pilot'!R93="","",VLOOKUP('Analítica Proyecto Planta Pilot'!R93,Frecuencia!$BD$2:$BE$10,2,FALSE)) | I93: =IF('Analítica Proyecto Planta Pilot'!T93="","",VLOOKUP('Analítica Proyecto Planta Pilot'!T93,Frecuencia!$BD$2:$BE$10,2,FALSE)) | J93: =IF('Analítica Proyecto Planta Pilot'!D93="On line","On line",SUM(B93:I93)) -> 0.5
A94: o-xileno | B94: =IF('Analítica Proyecto Planta Pilot'!F94="","",VLOOKUP('Analítica Proyecto Planta Pilot'!F94,Frecuencia!$BD$2:$BE$10,2,FALSE)) -> 0.5 | C94: =IF('Analítica Proyecto Planta Pilot'!H94="","",VLOOKUP('Analítica Proyecto Planta Pilot'!H94,Frecuencia!$BD$2:$BE$10,2,FALSE)) | D94: =IF('Analítica Proyecto Planta Pilot'!J94="","",VLOOKUP('Analítica Proyecto Planta Pilot'!J94,Frecuencia!$BD$2:$BE$10,2,FALSE)) | E94: =IF('Analítica Proyecto Planta Pilot'!L94="","",VLOOKUP('Analítica Proyecto Planta Pilot'!L94,Frecuencia!$BD$2:$BE$10,2,FALSE)) | F94: =IF('Analítica Proyecto Planta Pilot'!N94="","",VLOOKUP('Analítica Proyecto Planta Pilot'!N94,Frecuencia!$BD$2:$BE$10,2,FALSE)) | G94: =IF('Analítica Proyecto Planta Pilot'!P94="","",VLOOKUP('Analítica Proyecto Planta Pilot'!P94,Frecuencia!$BD$2:$BE$10,2,FALSE)) | H94: =IF('Analítica Proyecto Planta Pilot'!R94="","",VLOOKUP('Analítica Proyecto Planta Pilot'!R94,Frecuencia!$BD$2:$BE$10,2,FALSE)) | I94: =IF('Analítica Proyecto Planta Pilot'!T94="","",VLOOKUP('Analítica Proyecto Planta Pilot'!T94,Frecuencia!$BD$2:$BE$10,2,FALSE)) | J94: =IF('Analítica Proyecto Planta Pilot'!D94="On line","On line",SUM(B94:I94)) -> 0.5
A95: m,p-xileno | B95: =IF('Analítica Proyecto Planta Pilot'!F95="","",VLOOKUP('Analítica Proyecto Planta Pilot'!F95,Frecuencia!$BD$2:$BE$10,2,FALSE)) -> 0.5 | C95: =IF('Analítica Proyecto Planta Pilot'!H95="","",VLOOKUP('Analítica Proyecto Planta Pilot'!H95,Frecuencia!$BD$2:$BE$10,2,FALSE)) | D95: =IF('Analítica Proyecto Planta Pilot'!J95="","",VLOOKUP('Analítica Proyecto Planta Pilot'!J95,Frecuencia!$BD$2:$BE$10,2,FALSE)) | E95: =IF('Analítica Proyecto Planta Pilot'!L95="","",VLOOKUP('Analítica Proyecto Planta Pilot'!L95,Frecuencia!$BD$2:$BE$10,2,FALSE)) | F95: =IF('Analítica Proyecto Planta Pilot'!N95="","",VLOOKUP('Analítica Proyecto Planta Pilot'!N95,Frecuencia!$BD$2:$BE$10,2,FALSE)) | G95: =IF('Analítica Proyecto Planta Pilot'!P95="","",VLOOKUP('Analítica Proyecto Planta Pilot'!P95,Frecuencia!$BD$2:$BE$10,2,FALSE)) | H95: =IF('Analítica Proyecto Planta Pilot'!R95="","",VLOOKUP('Analítica Proyecto Planta Pilot'!R95,Frecuencia!$BD$2:$BE$10,2,FALSE)) | I95: =IF('Analítica Proyecto Planta Pilot'!T95="","",VLOOKUP('Analítica Proyecto Planta Pilot'!T95,Frecuencia!$BD$2:$BE$10,2,FALSE)) | J95: =IF('Analítica Proyecto Planta Pilot'!D95="On line","On line",SUM(B95:I95)) -> 0.5
A96: Suma xilenos | B96: =IF('Analítica Proyecto Planta Pilot'!F96="","",VLOOKUP('Analítica Proyecto Planta Pilot'!F96,Frecuencia!$BD$2:$BE$10,2,FALSE)) -> 0.5 | C96: =IF('Analítica Proyecto Planta Pilot'!H96="","",VLOOKUP('Analítica Proyecto Planta Pilot'!H96,Frecuencia!$BD$2:$BE$10,2,FALSE)) | D96: =IF('Analítica Proyecto Planta Pilot'!J96="","",VLOOKUP('Analítica Proyecto Planta Pilot'!J96,Frecuencia!$BD$2:$BE$10,2,FALSE)) | E96: =IF('Analítica Proyecto Planta Pilot'!L96="","",VLOOKUP('Analítica Proyecto Planta Pilot'!L96,Frecuencia!$BD$2:$BE$10,2,FALSE)) | F96: =IF('Analítica Proyecto Planta Pilot'!N96="","",VLOOKUP('Analítica Proyecto Planta Pilot'!N96,Frecuencia!$BD$2:$BE$10,2,FALSE)) | G96: =IF('Analítica Proyecto Planta Pilot'!P96="","",VLOOKUP('Analítica Proyecto Planta Pilot'!P96,Frecuencia!$BD$2:$BE$10,2,FALSE)) | H96: =IF('Analítica Proyecto Planta Pilot'!R96="","",VLOOKUP('Analítica Proyecto Planta Pilot'!R96,Frecuencia!$BD$2:$BE$10,2,FALSE)) | I96: =IF('Analítica Proyecto Planta Pilot'!T96="","",VLOOKUP('Analítica Proyecto Planta Pilot'!T96,Frecuencia!$BD$2:$BE$10,2,FALSE)) | J96: =IF('Analítica Proyecto Planta Pilot'!D96="On line","On line",SUM(B96:I96)) -> 0.5
A97: COVs | B97: =IF('Analítica Proyecto Planta Pilot'!F97="","",VLOOKUP('Analítica Proyecto Planta Pilot'!F97,Frecuencia!$BD$2:$BE$10,2,FALSE)) | C97: =IF('Analítica Proyecto Planta Pilot'!H97="","",VLOOKUP('Analítica Proyecto Planta Pilot'!H97,Frecuencia!$BD$2:$BE$10,2,FALSE)) | D97: =IF('Analítica Proyecto Planta Pilot'!J97="","",VLOOKUP('Analítica Proyecto Planta Pilot'!J97,Frecuencia!$BD$2:$BE$10,2,FALSE)) | E97: =IF('Analítica Proyecto Planta Pilot'!L97="","",VLOOKUP('Analítica Proyecto Planta Pilot'!L97,Frecuencia!$BD$2:$BE$10,2,FALSE)) | F97: =IF('Analítica Proyecto Planta Pilot'!N97="","",VLOOKUP('Analítica Proyecto Planta Pilot'!N97,Frecuencia!$BD$2:$BE$10,2,FALSE)) | G97: =IF('Analítica Proyecto Planta Pilot'!P97="","",VLOOKUP('Analítica Proyecto Planta Pilot'!P97,Frecuencia!$BD$2:$BE$10,2,FALSE)) | H97: =IF('Analítica Proyecto Planta Pilot'!R97="","",VLOOKUP('Analítica Proyecto Planta Pilot'!R97,Frecuencia!$BD$2:$BE$10,2,FALSE)) | I97: =IF('Analítica Proyecto Planta Pilot'!T97="","",VLOOKUP('Analítica Proyecto Planta Pilot'!T97,Frecuencia!$BD$2:$BE$10,2,FALSE))
A98: 1,2-Dicloroetano | B98: =IF('Analítica Proyecto Planta Pilot'!F98="","",VLOOKUP('Analítica Proyecto Planta Pilot'!F98,Frecuencia!$BD$2:$BE$10,2,FALSE)) -> 1 | C98: =IF('Analítica Proyecto Planta Pilot'!H98="","",VLOOKUP('Analítica Proyecto Planta Pilot'!H98,Frecuencia!$BD$2:$BE$10,2,FALSE)) | D98: =IF('Analítica Proyecto Planta Pilot'!J98="","",VLOOKUP('Analítica Proyecto Planta Pilot'!J98,Frecuencia!$BD$2:$BE$10,2,FALSE)) | E98: =IF('Analítica Proyecto Planta Pilot'!L98="","",VLOOKUP('Analítica Proyecto Planta Pilot'!L98,Frecuencia!$BD$2:$BE$10,2,FALSE)) | F98: =IF('Analítica Proyecto Planta Pilot'!N98="","",VLOOKUP('Analítica Proyecto Planta Pilot'!N98,Frecuencia!$BD$2:$BE$10,2,FALSE)) | G98: =IF('Analítica Proyecto Planta Pilot'!P98="","",VLOOKUP('Analítica Proyecto Planta Pilot'!P98,Frecuencia!$BD$2:$BE$10,2,FALSE)) | H98: =IF('Analítica Proyecto Planta Pilot'!R98="","",VLOOKUP('Analítica Proyecto Planta Pilot'!R98,Frecuencia!$BD$2:$BE$10,2,FALSE)) | I98: =IF('Analítica Proyecto Planta Pilot'!T98="","",VLOOKUP('Analítica Proyecto Planta Pilot'!T98,Frecuencia!$BD$2:$BE$10,2,FALSE)) -> 1 | J98: =IF('Analítica Proyecto Planta Pilot'!D98="On line","On line",SUM(B98:I98)) -> 2
A99: 1,1,1-Tricloroetano | B99: =IF('Analítica Proyecto Planta Pilot'!F99="","",VLOOKUP('Analítica Proyecto Planta Pilot'!F99,Frecuencia!$BD$2:$BE$10,2,FALSE)) -> 0.5 | C99: =IF('Analítica Proyecto Planta Pilot'!H99="","",VLOOKUP('Analítica Proyecto Planta Pilot'!H99,Frecuencia!$BD$2:$BE$10,2,FALSE)) | D99: =IF('Analítica Proyecto Planta Pilot'!J99="","",VLOOKUP('Analítica Proyecto Planta Pilot'!J99,Frecuencia!$BD$2:$BE$10,2,FALSE)) | E99: =IF('Analítica Proyecto Planta Pilot'!L99="","",VLOOKUP('Analítica Proyecto Planta Pilot'!L99,Frecuencia!$BD$2:$BE$10,2,FALSE)) | F99: =IF('Analítica Proyecto Planta Pilot'!N99="","",VLOOKUP('Analítica Proyecto Planta Pilot'!N99,Frecuencia!$BD$2:$BE$10,2,FALSE)) | G99: =IF('Analítica Proyecto Planta Pilot'!P99="","",VLOOKUP('Analítica Proyecto Planta Pilot'!P99,Frecuencia!$BD$2:$BE$10,2,FALSE)) | H99: =IF('Analítica Proyecto Planta Pilot'!R99="","",VLOOKUP('Analítica Proyecto Planta Pilot'!R99,Frecuencia!$BD$2:$BE$10,2,FALSE)) | I99: =IF('Analítica Proyecto Planta Pilot'!T99="","",VLOOKUP('Analítica Proyecto Planta Pilot'!T99,Frecuencia!$BD$2:$BE$10,2,FALSE)) | J99: =IF('Analítica Proyecto Planta Pilot'!D99="On line","On line",SUM(B99:I99)) -> 0.5
A100: 1,2,3-Triclorobenceno | B100: =IF('Analítica Proyecto Planta Pilot'!F100="","",VLOOKUP('Analítica Proyecto Planta Pilot'!F100,Frecuencia!$BD$2:$BE$10,2,FALSE)) -> 0.5 | C100: =IF('Analítica Proyecto Planta Pilot'!H100="","",VLOOKUP('Analítica Proyecto Planta Pilot'!H100,Frecuencia!$BD$2:$BE$10,2,FALSE)) | D100: =IF('Analítica Proyecto Planta Pilot'!J100="","",VLOOKUP('Analítica Proyecto Planta Pilot'!J100,Frecuencia!$BD$2:$BE$10,2,FALSE)) | E100: =IF('Analítica Proyecto Planta Pilot'!L100="","",VLOOKUP('Analítica Proyecto Planta Pilot'!L100,Frecuencia!$BD$2:$BE$10,2,FALSE)) | F100: =IF('Analítica Proyecto Planta Pilot'!N100="","",VLOOKUP('Analítica Proyecto Planta Pilot'!N100,Frecuencia!$BD$2:$BE$10,2,FALSE)) | G100: =IF('Analítica Proyecto Planta Pilot'!P100="","",VLOOKUP('Analítica Proyecto Planta Pilot'!P100,Frecuencia!$BD$2:$BE$10,2,FALSE)) | H100: =IF('Analítica Proyecto Planta Pilot'!R100="","",VLOOKUP('Analítica Proyecto Planta Pilot'!R100,Frecuencia!$BD$2:$BE$10,2,FALSE)) | I100: =IF('Analítica Proyecto Planta Pilot'!T100="","",VLOOKUP('Analítica Proyecto Planta Pilot'!T100,Frecuencia!$BD$2:$BE$10,2,FALSE)) | J100: =IF('Analítica Proyecto Planta Pilot'!D100="On line","On line",SUM(B100:I100)) -> 0.5
A101: 1,2,4-Triclorobenceno | B101: =IF('Analítica Proyecto Planta Pilot'!F101="","",VLOOKUP('Analítica Proyecto Planta Pilot'!F101,Frecuencia!$BD$2:$BE$10,2,FALSE)) -> 0.5 | C101: =IF('Analítica Proyecto Planta Pilot'!H101="","",VLOOKUP('Analítica Proyecto Planta Pilot'!H101,Frecuencia!$BD$2:$BE$10,2,FALSE)) | D101: =IF('Analítica Proyecto Planta Pilot'!J101="","",VLOOKUP('Analítica Proyecto Planta Pilot'!J101,Frecuencia!$BD$2:$BE$10,2,FALSE)) | E101: =IF('Analítica Proyecto Planta Pilot'!L101="","",VLOOKUP('Analítica Proyecto Planta Pilot'!L101,Frecuencia!$BD$2:$BE$10,2,FALSE)) | F101: =IF('Analítica Proyecto Planta Pilot'!N101="","",VLOOKUP('Analítica Proyecto Planta Pilot'!N101,Frecuencia!$BD$2:$BE$10,2,FALSE)) | G101: =IF('Analítica Proyecto Planta Pilot'!P101="","",VLOOKUP('Analítica Proyecto Planta Pilot'!P101,Frecuencia!$BD$2:$BE$10,2,FALSE)) | H101: =IF('Analítica Proyecto Planta Pilot'!R101="","",VLOOKUP('Analítica Proyecto Planta Pilot'!R101,Frecuencia!$BD$2:$BE$10,2,FALSE)) | I101: =IF('Analítica Proyecto Planta Pilot'!T101="","",VLOOKUP('Analítica Proyecto Planta Pilot'!T101,Frecuencia!$BD$2:$BE$10,2,FALSE)) | J101: =IF('Analítica Proyecto Planta Pilot'!D101="On line","On line",SUM(B101:I101)) -> 0.5
A102: 1,2-Dicloroetano | B102: =IF('Analítica Proyecto Planta Pilot'!F102="","",VLOOKUP('Analítica Proyecto Planta Pilot'!F102,Frecuencia!$BD$2:$BE$10,2,FALSE)) -> 0.5 | C102: =IF('Analítica Proyecto Planta Pilot'!H102="","",VLOOKUP('Analítica Proyecto Planta Pilot'!H102,Frecuencia!$BD$2:$BE$10,2,FALSE)) | D102: =IF('Analítica Proyecto Planta Pilot'!J102="","",VLOOKUP('Analítica Proyecto Planta Pilot'!J102,Frecuencia!$BD$2:$BE$10,2,FALSE)) | E102: =IF('Analítica Proyecto Planta Pilot'!L102="","",VLOOKUP('Analítica Proyecto Planta Pilot'!L102,Frecuencia!$BD$2:$BE$10,2,FALSE)) | F102: =IF('Analítica Proyecto Planta Pilot'!N102="","",VLOOKUP('Analítica Proyecto Planta Pilot'!N102,Frecuencia!$BD$2:$BE$10,2,FALSE)) | G102: =IF('Analítica Proyecto Planta Pilot'!P102="","",VLOOKUP('Analítica Proyecto Planta Pilot'!P102,Frecuencia!$BD$2:$BE$10,2,FALSE)) | H102: =IF('Analítica Proyecto Planta Pilot'!R102="","",VLOOKUP('Analítica Proyecto Planta Pilot'!R102,Frecuencia!$BD$2:$BE$10,2,FALSE)) | I102: =IF('Analítica Proyecto Planta Pilot'!T102="","",VLOOKUP('Analítica Proyecto Planta Pilot'!T102,Frecuencia!$BD$2:$BE$10,2,FALSE)) | J102: =IF('Analítica Proyecto Planta Pilot'!D102="On line","On line",SUM(B102:I102)) -> 0.5
A103: 1,3,5-Triclorobenceno | B103: =IF('Analítica Proyecto Planta Pilot'!F103="","",VLOOKUP('Analítica Proyecto Planta Pilot'!F103,Frecuencia!$BD$2:$BE$10,2,FALSE)) -> 0.5 | C103: =IF('Analítica Proyecto Planta Pilot'!H103="","",VLOOKUP('Analítica Proyecto Planta Pilot'!H103,Frecuencia!$BD$2:$BE$10,2,FALSE)) | D103: =IF('Analítica Proyecto Planta Pilot'!J103="","",VLOOKUP('Analítica Proyecto Planta Pilot'!J103,Frecuencia!$BD$2:$BE$10,2,FALSE)) | E103: =IF('Analítica Proyecto Planta Pilot'!L103="","",VLOOKUP('Analítica Proyecto Planta Pilot'!L103,Frecuencia!$BD$2:$BE$10,2,FALSE)) | F103: =IF('Analítica Proyecto Planta Pilot'!N103="","",VLOOKUP('Analítica Proyecto Planta Pilot'!N103,Frecuencia!$BD$2:$BE$10,2,FALSE)) | G103: =IF('Analítica Proyecto Planta Pilot'!P103="","",VLOOKUP('Analítica Proyecto Planta Pilot'!P103,Frecuencia!$BD$2:$BE$10,2,FALSE)) | H103: =IF('Analítica Proyecto Planta Pilot'!R103="","",VLOOKUP('Analítica Proyecto Planta Pilot'!R103,Frecuencia!$BD$2:$BE$10,2,FALSE)) | I103: =IF('Analítica Proyecto Planta Pilot'!T103="","",VLOOKUP('Analítica Proyecto Planta Pilot'!T103,Frecuencia!$BD$2:$BE$10,2,FALSE)) | J103: =IF('Analítica Proyecto Planta Pilot'!D103="On line","On line",SUM(B103:I103)) -> 0.5
A104: Clorobenceno | B104: =IF('Analítica Proyecto Planta Pilot'!F104="","",VLOOKUP('Analítica Proyecto Planta Pilot'!F104,Frecuencia!$BD$2:$BE$10,2,FALSE)) -> 0.5 | C104: =IF('Analítica Proyecto Planta Pilot'!H104="","",VLOOKUP('Analítica Proyecto Planta Pilot'!H104,Frecuencia!$BD$2:$BE$10,2,FALSE)) | D104: =IF('Analítica Proyecto Planta Pilot'!J104="","",VLOOKUP('Analítica Proyecto Planta Pilot'!J104,Frecuencia!$BD$2:$BE$10,2,FALSE)) | E104: =IF('Analítica Proyecto Planta Pilot'!L104="","",VLOOKUP('Analítica Proyecto Planta Pilot'!L104,Frecuencia!$BD$2:$BE$10,2,FALSE)) | F104: =IF('Analítica Proyecto Planta Pilot'!N104="","",VLOOKUP('Analítica Proyecto Planta Pilot'!N104,Frecuencia!$BD$2:$BE$10,2,FALSE)) | G104: =IF('Analítica Proyecto Planta Pilot'!P104="","",VLOOKUP('Analítica Proyecto Planta Pilot'!P104,Frecuencia!$BD$2:$BE$10,2,FALSE)) | H104: =IF('Analítica Proyecto Planta Pilot'!R104="","",VLOOKUP('Analítica Proyecto Planta Pilot'!R104,Frecuencia!$BD$2:$BE$10,2,FALSE)) | I104: =IF('Analítica Proyecto Planta Pilot'!T104="","",VLOOKUP('Analítica Proyecto Planta Pilot'!T104,Frecuencia!$BD$2:$BE$10,2,FALSE)) | J104: =IF('Analítica Proyecto Planta Pilot'!D104="On line","On line",SUM(B104:I104)) -> 0.5
A105: Diclorobencenos (suma) | B105: =IF('Analítica Proyecto Planta Pilot'!F105="","",VLOOKUP('Analítica Proyecto Planta Pilot'!F105,Frecuencia!$BD$2:$BE$10,2,FALSE)) -> 0.5 | C105: =IF('Analítica Proyecto Planta Pilot'!H105="","",VLOOKUP('Analítica Proyecto Planta Pilot'!H105,Frecuencia!$BD$2:$BE$10,2,FALSE)) | D105: =IF('Analítica Proyecto Planta Pilot'!J105="","",VLOOKUP('Analítica Proyecto Planta Pilot'!J105,Frecuencia!$BD$2:$BE$10,2,FALSE)) | E105: =IF('Analítica Proyecto Planta Pilot'!L105="","",VLOOKUP('Analítica Proyecto Planta Pilot'!L105,Frecuencia!$BD$2:$BE$10,2,FALSE)) | F105: =IF('Analítica Proyecto Planta Pilot'!N105="","",VLOOKUP('Analítica Proyecto Planta Pilot'!N105,Frecuencia!$BD$2:$BE$10,2,FALSE)) | G105: =IF('Analítica Proyecto Planta Pilot'!P105="","",VLOOKUP('Analítica Proyecto Planta Pilot'!P105,Frecuencia!$BD$2:$BE$10,2,FALSE)) | H105: =IF('Analítica Proyecto Planta Pilot'!R105="","",VLOOKUP('Analítica Proyecto Planta Pilot'!R105,Frecuencia!$BD$2:$BE$10,2,FALSE)) | I105: =IF('Analítica Proyecto Planta Pilot'!T105="","",VLOOKUP('Analítica Proyecto Planta Pilot'!T105,Frecuencia!$BD$2:$BE$10,2,FALSE)) | J105: =IF('Analítica Proyecto Planta Pilot'!D105="On line","On line",SUM(B105:I105)) -> 0.5
A106: Hexacloro-1,3-Butadieno | B106: =IF('Analítica Proyecto Planta Pilot'!F106="","",VLOOKUP('Analítica Proyecto Planta Pilot'!F106,Frecuencia!$BD$2:$BE$10,2,FALSE)) -> 0.5 | C106: =IF('Analítica Proyecto Planta Pilot'!H106="","",VLOOKUP('Analítica Proyecto Planta Pilot'!H106,Frecuencia!$BD$2:$BE$10,2,FALSE)) | D106: =IF('Analítica Proyecto Planta Pilot'!J106="","",VLOOKUP('Analítica Proyecto Planta Pilot'!J106,Frecuencia!$BD$2:$BE$10,2,FALSE)) | E106: =IF('Analítica Proyecto Planta Pilot'!L106="","",VLOOKUP('Analítica Proyecto Planta Pilot'!L106,Frecuencia!$BD$2:$BE$10,2,FALSE)) | F106: =IF('Analítica Proyecto Planta Pilot'!N106="","",VLOOKUP('Analítica Proyecto Planta Pilot'!N106,Frecuencia!$BD$2:$BE$10,2,FALSE)) | G106: =IF('Analítica Proyecto Planta Pilot'!P106="","",VLOOKUP('Analítica Proyecto Planta Pilot'!P106,Frecuencia!$BD$2:$BE$10,2,FALSE)) | H106: =IF('Analítica Proyecto Planta Pilot'!R106="","",VLOOKUP('Analítica Proyecto Planta Pilot'!R106,Frecuencia!$BD$2:$BE$10,2,FALSE)) | I106: =IF('Analítica Proyecto Planta Pilot'!T106="","",VLOOKUP('Analítica Proyecto Planta Pilot'!T106,Frecuencia!$BD$2:$BE$10,2,FALSE)) | J106: =IF('Analítica Proyecto Planta Pilot'!D106="On line","On line",SUM(B106:I106)) -> 0.5
A107: Tetracloroeteno | B107: =IF('Analítica Proyecto Planta Pilot'!F107="","",VLOOKUP('Analítica Proyecto Planta Pilot'!F107,Frecuencia!$BD$2:$BE$10,2,FALSE)) -> 1 | C107: =IF('Analítica Proyecto Planta Pilot'!H107="","",VLOOKUP('Analítica Proyecto Planta Pilot'!H107,Frecuencia!$BD$2:$BE$10,2,FALSE)) | D107: =IF('Analítica Proyecto Planta Pilot'!J107="","",VLOOKUP('Analítica Proyecto Planta Pilot'!J107,Frecuencia!$BD$2:$BE$10,2,FALSE)) | E107: =IF('Analítica Proyecto Planta Pilot'!L107="","",VLOOKUP('Analítica Proyecto Planta Pilot'!L107,Frecuencia!$BD$2:$BE$10,2,FALSE)) | F107: =IF('Analítica Proyecto Planta Pilot'!N107="","",VLOOKUP('Analítica Proyecto Planta Pilot'!N107,Frecuencia!$BD$2:$BE$10,2,FALSE)) | G107: =IF('Analítica Proyecto Planta Pilot'!P107="","",VLOOKUP('Analítica Proyecto Planta Pilot'!P107,Frecuencia!$BD$2:$BE$10,2,FALSE)) | H107: =IF('Analítica Proyecto Planta Pilot'!R107="","",VLOOKUP('Analítica Proyecto Planta Pilot'!R107,Frecuencia!$BD$2:$BE$10,2,FALSE)) | I107: =IF('Analítica Proyecto Planta Pilot'!T107="","",VLOOKUP('Analítica Proyecto Planta Pilot'!T107,Frecuencia!$BD$2:$BE$10,2,FALSE)) -> 1 | J107: =IF('Analítica Proyecto Planta Pilot'!D107="On line","On line",SUM(B107:I107)) -> 2
A108: Tetracloruro de Carbono | B108: =IF('Analítica Proyecto Planta Pilot'!F108="","",VLOOKUP('Analítica Proyecto Planta Pilot'!F108,Frecuencia!$BD$2:$BE$10,2,FALSE)) -> 0.5 | C108: =IF('Analítica Proyecto Planta Pilot'!H108="","",VLOOKUP('Analítica Proyecto Planta Pilot'!H108,Frecuencia!$BD$2:$BE$10,2,FALSE)) | D108: =IF('Analítica Proyecto Planta Pilot'!J108="","",VLOOKUP('Analítica Proyecto Planta Pilot'!J108,Frecuencia!$BD$2:$BE$10,2,FALSE)) | E108: =IF('Analítica Proyecto Planta Pilot'!L108="","",VLOOKUP('Analítica Proyecto Planta Pilot'!L108,Frecuencia!$BD$2:$BE$10,2,FALSE)) | F108: =IF('Analítica Proyecto Planta Pilot'!N108="","",VLOOKUP('Analítica Proyecto Planta Pilot'!N108,Frecuencia!$BD$2:$BE$10,2,FALSE)) | G108: =IF('Analítica Proyecto Planta Pilot'!P108="","",VLOOKUP('Analítica Proyecto Planta Pilot'!P108,Frecuencia!$BD$2:$BE$10,2,FALSE)) | H108: =IF('Analítica Proyecto Planta Pilot'!R108="","",VLOOKUP('Analítica Proyecto Planta Pilot'!R108,Frecuencia!$BD$2:$BE$10,2,FALSE)) | I108: =IF('Analítica Proyecto Planta Pilot'!T108="","",VLOOKUP('Analítica Proyecto Planta Pilot'!T108,Frecuencia!$BD$2:$BE$10,2,FALSE)) | J108: =IF('Analítica Proyecto Planta Pilot'!D108="On line","On line",SUM(B108:I108)) -> 0.5
A109: Triclorobencenos (suma) | B109: =IF('Analítica Proyecto Planta Pilot'!F109="","",VLOOKUP('Analítica Proyecto Planta Pilot'!F109,Frecuencia!$BD$2:$BE$10,2,FALSE)) -> 0.5 | C109: =IF('Analítica Proyecto Planta Pilot'!H109="","",VLOOKUP('Analítica Proyecto Planta Pilot'!H109,Frecuencia!$BD$2:$BE$10,2,FALSE)) | D109: =IF('Analítica Proyecto Planta Pilot'!J109="","",VLOOKUP('Analítica Proyecto Planta Pilot'!J109,Frecuencia!$BD$2:$BE$10,2,FALSE)) | E109: =IF('Analítica Proyecto Planta Pilot'!L109="","",VLOOKUP('Analítica Proyecto Planta Pilot'!L109,Frecuencia!$BD$2:$BE$10,2,FALSE)) | F109: =IF('Analítica Proyecto Planta Pilot'!N109="","",VLOOKUP('Analítica Proyecto Planta Pilot'!N109,Frecuencia!$BD$2:$BE$10,2,FALSE)) | G109: =IF('Analítica Proyecto Planta Pilot'!P109="","",VLOOKUP('Analítica Proyecto Planta Pilot'!P109,Frecuencia!$BD$2:$BE$10,2,FALSE)) | H109: =IF('Analítica Proyecto Planta Pilot'!R109="","",VLOOKUP('Analítica Proyecto Planta Pilot'!R109,Frecuencia!$BD$2:$BE$10,2,FALSE)) | I109: =IF('Analítica Proyecto Planta Pilot'!T109="","",VLOOKUP('Analítica Proyecto Planta Pilot'!T109,Frecuencia!$BD$2:$BE$10,2,FALSE)) | J109: =IF('Analítica Proyecto Planta Pilot'!D109="On line","On line",SUM(B109:I109)) -> 0.5
... A111: Tricloroeteno+Tetracloroeteno | B111: =IF('Analítica Proyecto Planta Pilot'!F111="","",VLOOKUP('Analítica Proyecto Planta Pilot'!F111,Frecuencia!$BD$2:$BE$10,2,FALSE)) -> 1 | C111: =IF('Analítica Proyecto Planta Pilot'!H111="","",VLOOKUP('Analítica Proyecto Planta Pilot'!H111,Frecuencia!$BD$2:$BE$10,2,FALSE)) | D111: =IF('Analítica Proyecto Planta Pilot'!J111="","",VLOOKUP('Analítica Proyecto Planta Pilot'!J111,Frecuencia!$BD$2:$BE$10,2,FALSE)) | E111: =IF('Analítica Proyecto Planta Pilot'!L111="","",VLOOKUP('Analítica Proyecto Planta Pilot'!L111,Frecuencia!$BD$2:$BE$10,2,FALSE)) | F111: =IF('Analítica Proyecto Planta Pilot'!N111="","",VLOOKUP('Analítica Proyecto Planta Pilot'!N111,Frecuencia!$BD$2:$BE$10,2,FALSE)) | G111: =IF('Analítica Proyecto Planta Pilot'!P111="","",VLOOKUP('Analítica Proyecto Planta Pilot'!P111,Frecuencia!$BD$2:$BE$10,2,FALSE)) | H111: =IF('Analítica Proyecto Planta Pilot'!R111="","",VLOOKUP('Analítica Proyecto Planta Pilot'!R111,Frecuencia!$BD$2:$BE$10,2,FALSE)) | I111: =IF('Analítica Proyecto Planta Pilot'!T111="","",VLOOKUP('Analítica Proyecto Planta Pilot'!T111,Frecuencia!$BD$2:$BE$10,2,FALSE)) -> 1 | J111: =IF('Analítica Proyecto Planta Pilot'!D111="On line","On line",SUM(B111:I111)) -> 2
A112: Trihalometanos (THM) | B112: =IF('Analítica Proyecto Planta Pilot'!F112="","",VLOOKUP('Analítica Proyecto Planta Pilot'!F112,Frecuencia!$BD$2:$BE$10,2,FALSE)) | C112: =IF('Analítica Proyecto Planta Pilot'!H112="","",VLOOKUP('Analítica Proyecto Planta Pilot'!H112,Frecuencia!$BD$2:$BE$10,2,FALSE)) | D112: =IF('Analítica Proyecto Planta Pilot'!J112="","",VLOOKUP('Analítica Proyecto Planta Pilot'!J112,Frecuencia!$BD$2:$BE$10,2,FALSE)) | E112: =IF('Analítica Proyecto Planta Pilot'!L112="","",VLOOKUP('Analítica Proyecto Planta Pilot'!L112,Frecuencia!$BD$2:$BE$10,2,FALSE)) | F112: =IF('Analítica Proyecto Planta Pilot'!N112="","",VLOOKUP('Analítica Proyecto Planta Pilot'!N112,Frecuencia!$BD$2:$BE$10,2,FALSE)) | G112: =IF('Analítica Proyecto Planta Pilot'!P112="","",VLOOKUP('Analítica Proyecto Planta Pilot'!P112,Frecuencia!$BD$2:$BE$10,2,FALSE)) | H112: =IF('Analítica Proyecto Planta Pilot'!R112="","",VLOOKUP('Analítica Proyecto Planta Pilot'!R112,Frecuencia!$BD$2:$BE$10,2,FALSE)) | I112: =IF('Analítica Proyecto Planta Pilot'!T112="","",VLOOKUP('Analítica Proyecto Planta Pilot'!T112,Frecuencia!$BD$2:$BE$10,2,FALSE))
A113: Trihalometanos (THM) | B113: =IF('Analítica Proyecto Planta Pilot'!F113="","",VLOOKUP('Analítica Proyecto Planta Pilot'!F113,Frecuencia!$BD$2:$BE$10,2,FALSE)) | C113: =IF('Analítica Proyecto Planta Pilot'!H113="","",VLOOKUP('Analítica Proyecto Planta Pilot'!H113,Frecuencia!$BD$2:$BE$10,2,FALSE)) | D113: =IF('Analítica Proyecto Planta Pilot'!J113="","",VLOOKUP('Analítica Proyecto Planta Pilot'!J113,Frecuencia!$BD$2:$BE$10,2,FALSE)) | E113: =IF('Analítica Proyecto Planta Pilot'!L113="","",VLOOKUP('Analítica Proyecto Planta Pilot'!L113,Frecuencia!$BD$2:$BE$10,2,FALSE)) | F113: =IF('Analítica Proyecto Planta Pilot'!N113="","",VLOOKUP('Analítica Proyecto Planta Pilot'!N113,Frecuencia!$BD$2:$BE$10,2,FALSE)) | G113: =IF('Analítica Proyecto Planta Pilot'!P113="","",VLOOKUP('Analítica Proyecto Planta Pilot'!P113,Frecuencia!$BD$2:$BE$10,2,FALSE)) | H113: =IF('Analítica Proyecto Planta Pilot'!R113="","",VLOOKUP('Analítica Proyecto Planta Pilot'!R113,Frecuencia!$BD$2:$BE$10,2,FALSE)) -> online | I113: =IF('Analítica Proyecto Planta Pilot'!T113="","",VLOOKUP('Analítica Proyecto Planta Pilot'!T113,Frecuencia!$BD$2:$BE$10,2,FALSE)) | J113: =IF('Analítica Proyecto Planta Pilot'!D113="On line","On line",SUM(B113:I113)) -> On line
A114: Trihalometanos | B114: =IF('Analítica Proyecto Planta Pilot'!F114="","",VLOOKUP('Analítica Proyecto Planta Pilot'!F114,Frecuencia!$BD$2:$BE$10,2,FALSE)) -> 1 | C114: =IF('Analítica Proyecto Planta Pilot'!H114="","",VLOOKUP('Analítica Proyecto Planta Pilot'!H114,Frecuencia!$BD$2:$BE$10,2,FALSE)) | D114: =IF('Analítica Proyecto Planta Pilot'!J114="","",VLOOKUP('Analítica Proyecto Planta Pilot'!J114,Frecuencia!$BD$2:$BE$10,2,FALSE)) | E114: =IF('Analítica Proyecto Planta Pilot'!L114="","",VLOOKUP('Analítica Proyecto Planta Pilot'!L114,Frecuencia!$BD$2:$BE$10,2,FALSE)) | F114: =IF('Analítica Proyecto Planta Pilot'!N114="","",VLOOKUP('Analítica Proyecto Planta Pilot'!N114,Frecuencia!$BD$2:$BE$10,2,FALSE)) | G114: =IF('Analítica Proyecto Planta Pilot'!P114="","",VLOOKUP('Analítica Proyecto Planta Pilot'!P114,Frecuencia!$BD$2:$BE$10,2,FALSE)) | H114: =IF('Analítica Proyecto Planta Pilot'!R114="","",VLOOKUP('Analítica Proyecto Planta Pilot'!R114,Frecuencia!$BD$2:$BE$10,2,FALSE)) | I114: =IF('Analítica Proyecto Planta Pilot'!T114="","",VLOOKUP('Analítica Proyecto Planta Pilot'!T114,Frecuencia!$BD$2:$BE$10,2,FALSE)) -> 1 | J114: =IF('Analítica Proyecto Planta Pilot'!D114="On line","On line",SUM(B114:I114)) -> 2
A115: Cloroformo | B115: =IF('Analítica Proyecto Planta Pilot'!F115="","",VLOOKUP('Analítica Proyecto Planta Pilot'!F115,Frecuencia!$BD$2:$BE$10,2,FALSE)) -> 1 | C115: =IF('Analítica Proyecto Planta Pilot'!H115="","",VLOOKUP('Analítica Proyecto Planta Pilot'!H115,Frecuencia!$BD$2:$BE$10,2,FALSE)) | D115: =IF('Analítica Proyecto Planta Pilot'!J115="","",VLOOKUP('Analítica Proyecto Planta Pilot'!J115,Frecuencia!$BD$2:$BE$10,2,FALSE)) | E115: =IF('Analítica Proyecto Planta Pilot'!L115="","",VLOOKUP('Analítica Proyecto Planta Pilot'!L115,Frecuencia!$BD$2:$BE$10,2,FALSE)) | F115: =IF('Analítica Proyecto Planta Pilot'!N115="","",VLOOKUP('Analítica Proyecto Planta Pilot'!N115,Frecuencia!$BD$2:$BE$10,2,FALSE)) | G115: =IF('Analítica Proyecto Planta Pilot'!P115="","",VLOOKUP('Analítica Proyecto Planta Pilot'!P115,Frecuencia!$BD$2:$BE$10,2,FALSE)) | H115: =IF('Analítica Proyecto Planta Pilot'!R115="","",VLOOKUP('Analítica Proyecto Planta Pilot'!R115,Frecuencia!$BD$2:$BE$10,2,FALSE)) | I115: =IF('Analítica Proyecto Planta Pilot'!T115="","",VLOOKUP('Analítica Proyecto Planta Pilot'!T115,Frecuencia!$BD$2:$BE$10,2,FALSE)) -> 1 | J115: =IF('Analítica Proyecto Planta Pilot'!D115="On line","On line",SUM(B115:I115)) -> 2
A116: Clorodibromometano | B116: =IF('Analítica Proyecto Planta Pilot'!F116="","",VLOOKUP('Analítica Proyecto Planta Pilot'!F116,Frecuencia!$BD$2:$BE$10,2,FALSE)) -> 1 | C116: =IF('Analítica Proyecto Planta Pilot'!H116="","",VLOOKUP('Analítica Proyecto Planta Pilot'!H116,Frecuencia!$BD$2:$BE$10,2,FALSE)) | D116: =IF('Analítica Proyecto Planta Pilot'!J116="","",VLOOKUP('Analítica Proyecto Planta Pilot'!J116,Frecuencia!$BD$2:$BE$10,2,FALSE)) | E116: =IF('Analítica Proyecto Planta Pilot'!L116="","",VLOOKUP('Analítica Proyecto Planta Pilot'!L116,Frecuencia!$BD$2:$BE$10,2,FALSE)) | F116: =IF('Analítica Proyecto Planta Pilot'!N116="","",VLOOKUP('Analítica Proyecto Planta Pilot'!N116,Frecuencia!$BD$2:$BE$10,2,FALSE)) | G116: =IF('Analítica Proyecto Planta Pilot'!P116="","",VLOOKUP('Analítica Proyecto Planta Pilot'!P116,Frecuencia!$BD$2:$BE$10,2,FALSE)) | H116: =IF('Analítica Proyecto Planta Pilot'!R116="","",VLOOKUP('Analítica Proyecto Planta Pilot'!R116,Frecuencia!$BD$2:$BE$10,2,FALSE)) | I116: =IF('Analítica Proyecto Planta Pilot'!T116="","",VLOOKUP('Analítica Proyecto Planta Pilot'!T116,Frecuencia!$BD$2:$BE$10,2,FALSE)) -> 1 | J116: =IF('Analítica Proyecto Planta Pilot'!D116="On line","On line",SUM(B116:I116)) -> 2
A117: Bromoformo | B117: =IF('Analítica Proyecto Planta Pilot'!F117="","",VLOOKUP('Analítica Proyecto Planta Pilot'!F117,Frecuencia!$BD$2:$BE$10,2,FALSE)) -> 1 | C117: =IF('Analítica Proyecto Planta Pilot'!H117="","",VLOOKUP('Analítica Proyecto Planta Pilot'!H117,Frecuencia!$BD$2:$BE$10,2,FALSE)) | D117: =IF('Analítica Proyecto Planta Pilot'!J117="","",VLOOKUP('Analítica Proyecto Planta Pilot'!J117,Frecuencia!$BD$2:$BE$10,2,FALSE)) | E117: =IF('Analítica Proyecto Planta Pilot'!L117="","",VLOOKUP('Analítica Proyecto Planta Pilot'!L117,Frecuencia!$BD$2:$BE$10,2,FALSE)) | F117: =IF('Analítica Proyecto Planta Pilot'!N117="","",VLOOKUP('Analítica Proyecto Planta Pilot'!N117,Frecuencia!$BD$2:$BE$10,2,FALSE)) | G117: =IF('Analítica Proyecto Planta Pilot'!P117="","",VLOOKUP('Analítica Proyecto Planta Pilot'!P117,Frecuencia!$BD$2:$BE$10,2,FALSE)) | H117: =IF('Analítica Proyecto Planta Pilot'!R117="","",VLOOKUP('Analítica Proyecto Planta Pilot'!R117,Frecuencia!$BD$2:$BE$10,2,FALSE)) | I117: =IF('Analítica Proyecto Planta Pilot'!T117="","",VLOOKUP('Analítica Proyecto Planta Pilot'!T117,Frecuencia!$BD$2:$BE$10,2,FALSE)) -> 1 | J117: =IF('Analítica Proyecto Planta Pilot'!D117="On line","On line",SUM(B117:I117)) -> 2
A118: Bromodiclorometano | B118: =IF('Analítica Proyecto Planta Pilot'!F118="","",VLOOKUP('Analítica Proyecto Planta Pilot'!F118,Frecuencia!$BD$2:$BE$10,2,FALSE)) -> 1 | C118: =IF('Analítica Proyecto Planta Pilot'!H118="","",VLOOKUP('Analítica Proyecto Planta Pilot'!H118,Frecuencia!$BD$2:$BE$10,2,FALSE)) | D118: =IF('Analítica Proyecto Planta Pilot'!J118="","",VLOOKUP('Analítica Proyecto Planta Pilot'!J118,Frecuencia!$BD$2:$BE$10,2,FALSE)) | E118: =IF('Analítica Proyecto Planta Pilot'!L118="","",VLOOKUP('Analítica Proyecto Planta Pilot'!L118,Frecuencia!$BD$2:$BE$10,2,FALSE)) | F118: =IF('Analítica Proyecto Planta Pilot'!N118="","",VLOOKUP('Analítica Proyecto Planta Pilot'!N118,Frecuencia!$BD$2:$BE$10,2,FALSE)) | G118: =IF('Analítica Proyecto Planta Pilot'!P118="","",VLOOKUP('Analítica Proyecto Planta Pilot'!P118,Frecuencia!$BD$2:$BE$10,2,FALSE)) | H118: =IF('Analítica Proyecto Planta Pilot'!R118="","",VLOOKUP('Analítica Proyecto Planta Pilot'!R118,Frecuencia!$BD$2:$BE$10,2,FALSE)) | I118: =IF('Analítica Proyecto Planta Pilot'!T118="","",VLOOKUP('Analítica Proyecto Planta Pilot'!T118,Frecuencia!$BD$2:$BE$10,2,FALSE)) -> 1 | J118: =IF('Analítica Proyecto Planta Pilot'!D118="On line","On line",SUM(B118:I118)) -> 2
A119: Plaguicidas organofosforados | B119: =IF('Analítica Proyecto Planta Pilot'!F119="","",VLOOKUP('Analítica Proyecto Planta Pilot'!F119,Frecuencia!$BD$2:$BE$10,2,FALSE)) | C119: =IF('Analítica Proyecto Planta Pilot'!H119="","",VLOOKUP('Analítica Proyecto Planta Pilot'!H119,Frecuencia!$BD$2:$BE$10,2,FALSE)) | D119: =IF('Analítica Proyecto Planta Pilot'!J119="","",VLOOKUP('Analítica Proyecto Planta Pilot'!J119,Frecuencia!$BD$2:$BE$10,2,FALSE)) | E119: =IF('Analítica Proyecto Planta Pilot'!L119="","",VLOOKUP('Analítica Proyecto Planta Pilot'!L119,Frecuencia!$BD$2:$BE$10,2,FALSE)) | F119: =IF('Analítica Proyecto Planta Pilot'!N119="","",VLOOKUP('Analítica Proyecto Planta Pilot'!N119,Frecuencia!$BD$2:$BE$10,2,FALSE)) | G119: =IF('Analítica Proyecto Planta Pilot'!P119="","",VLOOKUP('Analítica Proyecto Planta Pilot'!P119,Frecuencia!$BD$2:$BE$10,2,FALSE)) | H119: =IF('Analítica Proyecto Planta Pilot'!R119="","",VLOOKUP('Analítica Proyecto Planta Pilot'!R119,Frecuencia!$BD$2:$BE$10,2,FALSE)) | I119: =IF('Analítica Proyecto Planta Pilot'!T119="","",VLOOKUP('Analítica Proyecto Planta Pilot'!T119,Frecuencia!$BD$2:$BE$10,2,FALSE))
A120: Clorfenvinfós | B120: =IF('Analítica Proyecto Planta Pilot'!F120="","",VLOOKUP('Analítica Proyecto Planta Pilot'!F120,Frecuencia!$BD$2:$BE$10,2,FALSE)) -> 0.5 | C120: =IF('Analítica Proyecto Planta Pilot'!H120="","",VLOOKUP('Analítica Proyecto Planta Pilot'!H120,Frecuencia!$BD$2:$BE$10,2,FALSE)) | D120: =IF('Analítica Proyecto Planta Pilot'!J120="","",VLOOKUP('Analítica Proyecto Planta Pilot'!J120,Frecuencia!$BD$2:$BE$10,2,FALSE)) | E120: =IF('Analítica Proyecto Planta Pilot'!L120="","",VLOOKUP('Analítica Proyecto Planta Pilot'!L120,Frecuencia!$BD$2:$BE$10,2,FALSE)) | F120: =IF('Analítica Proyecto Planta Pilot'!N120="","",VLOOKUP('Analítica Proyecto Planta Pilot'!N120,Frecuencia!$BD$2:$BE$10,2,FALSE)) | G120: =IF('Analítica Proyecto Planta Pilot'!P120="","",VLOOKUP('Analítica Proyecto Planta Pilot'!P120,Frecuencia!$BD$2:$BE$10,2,FALSE)) | H120: =IF('Analítica Proyecto Planta Pilot'!R120="","",VLOOKUP('Analítica Proyecto Planta Pilot'!R120,Frecuencia!$BD$2:$BE$10,2,FALSE)) | I120: =IF('Analítica Proyecto Planta Pilot'!T120="","",VLOOKUP('Analítica Proyecto Planta Pilot'!T120,Frecuencia!$BD$2:$BE$10,2,FALSE)) | J120: =IF('Analítica Proyecto Planta Pilot'!D120="On line","On line",SUM(B120:I120)) -> 0.5
A121: Clorpirifos | B121: =IF('Analítica Proyecto Planta Pilot'!F121="","",VLOOKUP('Analítica Proyecto Planta Pilot'!F121,Frecuencia!$BD$2:$BE$10,2,FALSE)) -> 0.5 | C121: =IF('Analítica Proyecto Planta Pilot'!H121="","",VLOOKUP('Analítica Proyecto Planta Pilot'!H121,Frecuencia!$BD$2:$BE$10,2,FALSE)) | D121: =IF('Analítica Proyecto Planta Pilot'!J121="","",VLOOKUP('Analítica Proyecto Planta Pilot'!J121,Frecuencia!$BD$2:$BE$10,2,FALSE)) | E121: =IF('Analítica Proyecto Planta Pilot'!L121="","",VLOOKUP('Analítica Proyecto Planta Pilot'!L121,Frecuencia!$BD$2:$BE$10,2,FALSE)) | F121: =IF('Analítica Proyecto Planta Pilot'!N121="","",VLOOKUP('Analítica Proyecto Planta Pilot'!N121,Frecuencia!$BD$2:$BE$10,2,FALSE)) | G121: =IF('Analítica Proyecto Planta Pilot'!P121="","",VLOOKUP('Analítica Proyecto Planta Pilot'!P121,Frecuencia!$BD$2:$BE$10,2,FALSE)) | H121: =IF('Analítica Proyecto Planta Pilot'!R121="","",VLOOKUP('Analítica Proyecto Planta Pilot'!R121,Frecuencia!$BD$2:$BE$10,2,FALSE)) | I121: =IF('Analítica Proyecto Planta Pilot'!T121="","",VLOOKUP('Analítica Proyecto Planta Pilot'!T121,Frecuencia!$BD$2:$BE$10,2,FALSE)) | J121: =IF('Analítica Proyecto Planta Pilot'!D121="On line","On line",SUM(B121:I121)) -> 0.5
A122: Diclorvos-Triclorfon | B122: =IF('Analítica Proyecto Planta Pilot'!F122="","",VLOOKUP('Analítica Proyecto Planta Pilot'!F122,Frecuencia!$BD$2:$BE$10,2,FALSE)) -> 0.5 | C122: =IF('Analítica Proyecto Planta Pilot'!H122="","",VLOOKUP('Analítica Proyecto Planta Pilot'!H122,Frecuencia!$BD$2:$BE$10,2,FALSE)) | D122: =IF('Analítica Proyecto Planta Pilot'!J122="","",VLOOKUP('Analítica Proyecto Planta Pilot'!J122,Frecuencia!$BD$2:$BE$10,2,FALSE)) | E122: =IF('Analítica Proyecto Planta Pilot'!L122="","",VLOOKUP('Analítica Proyecto Planta Pilot'!L122,Frecuencia!$BD$2:$BE$10,2,FALSE)) | F122: =IF('Analítica Proyecto Planta Pilot'!N122="","",VLOOKUP('Analítica Proyecto Planta Pilot'!N122,Frecuencia!$BD$2:$BE$10,2,FALSE)) | G122: =IF('Analítica Proyecto Planta Pilot'!P122="","",VLOOKUP('Analítica Proyecto Planta Pilot'!P122,Frecuencia!$BD$2:$BE$10,2,FALSE)) | H122: =IF('Analítica Proyecto Planta Pilot'!R122="","",VLOOKUP('Analítica Proyecto Planta Pilot'!R122,Frecuencia!$BD$2:$BE$10,2,FALSE)) | I122: =IF('Analítica Proyecto Planta Pilot'!T122="","",VLOOKUP('Analítica Proyecto Planta Pilot'!T122,Frecuencia!$BD$2:$BE$10,2,FALSE)) | J122: =IF('Analítica Proyecto Planta Pilot'!D122="On line","On line",SUM(B122:I122)) -> 0.5
A123: Plaguicidas organoclorados | B123: =IF('Analítica Proyecto Planta Pilot'!F123="","",VLOOKUP('Analítica Proyecto Planta Pilot'!F123,Frecuencia!$BD$2:$BE$10,2,FALSE)) | C123: =IF('Analítica Proyecto Planta Pilot'!H123="","",VLOOKUP('Analítica Proyecto Planta Pilot'!H123,Frecuencia!$BD$2:$BE$10,2,FALSE)) | D123: =IF('Analítica Proyecto Planta Pilot'!J123="","",VLOOKUP('Analítica Proyecto Planta Pilot'!J123,Frecuencia!$BD$2:$BE$10,2,FALSE)) | E123: =IF('Analítica Proyecto Planta Pilot'!L123="","",VLOOKUP('Analítica Proyecto Planta Pilot'!L123,Frecuencia!$BD$2:$BE$10,2,FALSE)) | F123: =IF('Analítica Proyecto Planta Pilot'!N123="","",VLOOKUP('Analítica Proyecto Planta Pilot'!N123,Frecuencia!$BD$2:$BE$10,2,FALSE)) | G123: =IF('Analítica Proyecto Planta Pilot'!P123="","",VLOOKUP('Analítica Proyecto Planta Pilot'!P123,Frecuencia!$BD$2:$BE$10,2,FALSE)) | H123: =IF('Analítica Proyecto Planta Pilot'!R123="","",VLOOKUP('Analítica Proyecto Planta Pilot'!R123,Frecuencia!$BD$2:$BE$10,2,FALSE)) | I123: =IF('Analítica Proyecto Planta Pilot'!T123="","",VLOOKUP('Analítica Proyecto Planta Pilot'!T123,Frecuencia!$BD$2:$BE$10,2,FALSE))
A124: Alacloro | B124: =IF('Analítica Proyecto Planta Pilot'!F124="","",VLOOKUP('Analítica Proyecto Planta Pilot'!F124,Frecuencia!$BD$2:$BE$10,2,FALSE)) -> 0.5 | C124: =IF('Analítica Proyecto Planta Pilot'!H124="","",VLOOKUP('Analítica Proyecto Planta Pilot'!H124,Frecuencia!$BD$2:$BE$10,2,FALSE)) | D124: =IF('Analítica Proyecto Planta Pilot'!J124="","",VLOOKUP('Analítica Proyecto Planta Pilot'!J124,Frecuencia!$BD$2:$BE$10,2,FALSE)) | E124: =IF('Analítica Proyecto Planta Pilot'!L124="","",VLOOKUP('Analítica Proyecto Planta Pilot'!L124,Frecuencia!$BD$2:$BE$10,2,FALSE)) | F124: =IF('Analítica Proyecto Planta Pilot'!N124="","",VLOOKUP('Analítica Proyecto Planta Pilot'!N124,Frecuencia!$BD$2:$BE$10,2,FALSE)) | G124: =IF('Analítica Proyecto Planta Pilot'!P124="","",VLOOKUP('Analítica Proyecto Planta Pilot'!P124,Frecuencia!$BD$2:$BE$10,2,FALSE)) | H124: =IF('Analítica Proyecto Planta Pilot'!R124="","",VLOOKUP('Analítica Proyecto Planta Pilot'!R124,Frecuencia!$BD$2:$BE$10,2,FALSE)) | I124: =IF('Analítica Proyecto Planta Pilot'!T124="","",VLOOKUP('Analítica Proyecto Planta Pilot'!T124,Frecuencia!$BD$2:$BE$10,2,FALSE)) | J124: =IF('Analítica Proyecto Planta Pilot'!D124="On line","On line",SUM(B124:I124)) -> 0.5
A125: Aldrín (SP) | B125: =IF('Analítica Proyecto Planta Pilot'!F125="","",VLOOKUP('Analítica Proyecto Planta Pilot'!F125,Frecuencia!$BD$2:$BE$10,2,FALSE)) -> 1 | C125: =IF('Analítica Proyecto Planta Pilot'!H125="","",VLOOKUP('Analítica Proyecto Planta Pilot'!H125,Frecuencia!$BD$2:$BE$10,2,FALSE)) | D125: =IF('Analítica Proyecto Planta Pilot'!J125="","",VLOOKUP('Analítica Proyecto Planta Pilot'!J125,Frecuencia!$BD$2:$BE$10,2,FALSE)) | E125: =IF('Analítica Proyecto Planta Pilot'!L125="","",VLOOKUP('Analítica Proyecto Planta Pilot'!L125,Frecuencia!$BD$2:$BE$10,2,FALSE)) | F125: =IF('Analítica Proyecto Planta Pilot'!N125="","",VLOOKUP('Analítica Proyecto Planta Pilot'!N125,Frecuencia!$BD$2:$BE$10,2,FALSE)) | G125: =IF('Analítica Proyecto Planta Pilot'!P125="","",VLOOKUP('Analítica Proyecto Planta Pilot'!P125,Frecuencia!$BD$2:$BE$10,2,FALSE)) | H125: =IF('Analítica Proyecto Planta Pilot'!R125="","",VLOOKUP('Analítica Proyecto Planta Pilot'!R125,Frecuencia!$BD$2:$BE$10,2,FALSE)) | I125: =IF('Analítica Proyecto Planta Pilot'!T125="","",VLOOKUP('Analítica Proyecto Planta Pilot'!T125,Frecuencia!$BD$2:$BE$10,2,FALSE)) -> 1 | J125: =IF('Analítica Proyecto Planta Pilot'!D125="On line","On line",SUM(B125:I125)) -> 2
A126: Dicofol | B126: =IF('Analítica Proyecto Planta Pilot'!F126="","",VLOOKUP('Analítica Proyecto Planta Pilot'!F126,Frecuencia!$BD$2:$BE$10,2,FALSE)) -> 0.5 | C126: =IF('Analítica Proyecto Planta Pilot'!H126="","",VLOOKUP('Analítica Proyecto Planta Pilot'!H126,Frecuencia!$BD$2:$BE$10,2,FALSE)) | D126: =IF('Analítica Proyecto Planta Pilot'!J126="","",VLOOKUP('Analítica Proyecto Planta Pilot'!J126,Frecuencia!$BD$2:$BE$10,2,FALSE)) | E126: =IF('Analítica Proyecto Planta Pilot'!L126="","",VLOOKUP('Analítica Proyecto Planta Pilot'!L126,Frecuencia!$BD$2:$BE$10,2,FALSE)) | F126: =IF('Analítica Proyecto Planta Pilot'!N126="","",VLOOKUP('Analítica Proyecto Planta Pilot'!N126,Frecuencia!$BD$2:$BE$10,2,FALSE)) | G126: =IF('Analítica Proyecto Planta Pilot'!P126="","",VLOOKUP('Analítica Proyecto Planta Pilot'!P126,Frecuencia!$BD$2:$BE$10,2,FALSE)) | H126: =IF('Analítica Proyecto Planta Pilot'!R126="","",VLOOKUP('Analítica Proyecto Planta Pilot'!R126,Frecuencia!$BD$2:$BE$10,2,FALSE)) | I126: =IF('Analítica Proyecto Planta Pilot'!T126="","",VLOOKUP('Analítica Proyecto Planta Pilot'!T126,Frecuencia!$BD$2:$BE$10,2,FALSE)) | J126: =IF('Analítica Proyecto Planta Pilot'!D126="On line","On line",SUM(B126:I126)) -> 0.5
A127: Dieldrín (SP) | B127: =IF('Analítica Proyecto Planta Pilot'!F127="","",VLOOKUP('Analítica Proyecto Planta Pilot'!F127,Frecuencia!$BD$2:$BE$10,2,FALSE)) -> 1 | C127: =IF('Analítica Proyecto Planta Pilot'!H127="","",VLOOKUP('Analítica Proyecto Planta Pilot'!H127,Frecuencia!$BD$2:$BE$10,2,FALSE)) | D127: =IF('Analítica Proyecto Planta Pilot'!J127="","",VLOOKUP('Analítica Proyecto Planta Pilot'!J127,Frecuencia!$BD$2:$BE$10,2,FALSE)) | E127: =IF('Analítica Proyecto Planta Pilot'!L127="","",VLOOKUP('Analítica Proyecto Planta Pilot'!L127,Frecuencia!$BD$2:$BE$10,2,FALSE)) | F127: =IF('Analítica Proyecto Planta Pilot'!N127="","",VLOOKUP('Analítica Proyecto Planta Pilot'!N127,Frecuencia!$BD$2:$BE$10,2,FALSE)) | G127: =IF('Analítica Proyecto Planta Pilot'!P127="","",VLOOKUP('Analítica Proyecto Planta Pilot'!P127,Frecuencia!$BD$2:$BE$10,2,FALSE)) | H127: =IF('Analítica Proyecto Planta Pilot'!R127="","",VLOOKUP('Analítica Proyecto Planta Pilot'!R127,Frecuencia!$BD$2:$BE$10,2,FALSE)) | I127: =IF('Analítica Proyecto Planta Pilot'!T127="","",VLOOKUP('Analítica Proyecto Planta Pilot'!T127,Frecuencia!$BD$2:$BE$10,2,FALSE)) -> 1 | J127: =IF('Analítica Proyecto Planta Pilot'!D127="On line","On line",SUM(B127:I127)) -> 2
A128: Endosulfan I | B128: =IF('Analítica Proyecto Planta Pilot'!F128="","",VLOOKUP('Analítica Proyecto Planta Pilot'!F128,Frecuencia!$BD$2:$BE$10,2,FALSE)) -> 1 | C128: =IF('Analítica Proyecto Planta Pilot'!H128="","",VLOOKUP('Analítica Proyecto Planta Pilot'!H128,Frecuencia!$BD$2:$BE$10,2,FALSE)) | D128: =IF('Analítica Proyecto Planta Pilot'!J128="","",VLOOKUP('Analítica Proyecto Planta Pilot'!J128,Frecuencia!$BD$2:$BE$10,2,FALSE)) | E128: =IF('Analítica Proyecto Planta Pilot'!L128="","",VLOOKUP('Analítica Proyecto Planta Pilot'!L128,Frecuencia!$BD$2:$BE$10,2,FALSE)) | F128: =IF('Analítica Proyecto Planta Pilot'!N128="","",VLOOKUP('Analítica Proyecto Planta Pilot'!N128,Frecuencia!$BD$2:$BE$10,2,FALSE)) | G128: =IF('Analítica Proyecto Planta Pilot'!P128="","",VLOOKUP('Analítica Proyecto Planta Pilot'!P128,Frecuencia!$BD$2:$BE$10,2,FALSE)) | H128: =IF('Analítica Proyecto Planta Pilot'!R128="","",VLOOKUP('Analítica Proyecto Planta Pilot'!R128,Frecuencia!$BD$2:$BE$10,2,FALSE)) | I128: =IF('Analítica Proyecto Planta Pilot'!T128="","",VLOOKUP('Analítica Proyecto Planta Pilot'!T128,Frecuencia!$BD$2:$BE$10,2,FALSE)) -> 1 | J128: =IF('Analítica Proyecto Planta Pilot'!D128="On line","On line",SUM(B128:I128)) -> 2
A129: Endosulfan II | B129: =IF('Analítica Proyecto Planta Pilot'!F129="","",VLOOKUP('Analítica Proyecto Planta Pilot'!F129,Frecuencia!$BD$2:$BE$10,2,FALSE)) -> 1 | C129: =IF('Analítica Proyecto Planta Pilot'!H129="","",VLOOKUP('Analítica Proyecto Planta Pilot'!H129,Frecuencia!$BD$2:$BE$10,2,FALSE)) | D129: =IF('Analítica Proyecto Planta Pilot'!J129="","",VLOOKUP('Analítica Proyecto Planta Pilot'!J129,Frecuencia!$BD$2:$BE$10,2,FALSE)) | E129: =IF('Analítica Proyecto Planta Pilot'!L129="","",VLOOKUP('Analítica Proyecto Planta Pilot'!L129,Frecuencia!$BD$2:$BE$10,2,FALSE)) | F129: =IF('Analítica Proyecto Planta Pilot'!N129="","",VLOOKUP('Analítica Proyecto Planta Pilot'!N129,Frecuencia!$BD$2:$BE$10,2,FALSE)) | G129: =IF('Analítica Proyecto Planta Pilot'!P129="","",VLOOKUP('Analítica Proyecto Planta Pilot'!P129,Frecuencia!$BD$2:$BE$10,2,FALSE)) | H129: =IF('Analítica Proyecto Planta Pilot'!R129="","",VLOOKUP('Analítica Proyecto Planta Pilot'!R129,Frecuencia!$BD$2:$BE$10,2,FALSE)) | I129: =IF('Analítica Proyecto Planta Pilot'!T129="","",VLOOKUP('Analítica Proyecto Planta Pilot'!T129,Frecuencia!$BD$2:$BE$10,2,FALSE)) -> 1 | J129: =IF('Analítica Proyecto Planta Pilot'!D129="On line","On line",SUM(B129:I129)) -> 2
A130: Endosulfan Sulfato | B130: =IF('Analítica Proyecto Planta Pilot'!F130="","",VLOOKUP('Analítica Proyecto Planta Pilot'!F130,Frecuencia!$BD$2:$BE$10,2,FALSE)) -> 1 | C130: =IF('Analítica Proyecto Planta Pilot'!H130="","",VLOOKUP('Analítica Proyecto Planta Pilot'!H130,Frecuencia!$BD$2:$BE$10,2,FALSE)) | D130: =IF('Analítica Proyecto Planta Pilot'!J130="","",VLOOKUP('Analítica Proyecto Planta Pilot'!J130,Frecuencia!$BD$2:$BE$10,2,FALSE)) | E130: =IF('Analítica Proyecto Planta Pilot'!L130="","",VLOOKUP('Analítica Proyecto Planta Pilot'!L130,Frecuencia!$BD$2:$BE$10,2,FALSE)) | F130: =IF('Analítica Proyecto Planta Pilot'!N130="","",VLOOKUP('Analítica Proyecto Planta Pilot'!N130,Frecuencia!$BD$2:$BE$10,2,FALSE)) | G130: =IF('Analítica Proyecto Planta Pilot'!P130="","",VLOOKUP('Analítica Proyecto Planta Pilot'!P130,Frecuencia!$BD$2:$BE$10,2,FALSE)) | H130: =IF('Analítica Proyecto Planta Pilot'!R130="","",VLOOKUP('Analítica Proyecto Planta Pilot'!R130,Frecuencia!$BD$2:$BE$10,2,FALSE)) | I130: =IF('Analítica Proyecto Planta Pilot'!T130="","",VLOOKUP('Analítica Proyecto Planta Pilot'!T130,Frecuencia!$BD$2:$BE$10,2,FALSE)) -> 1 | J130: =IF('Analítica Proyecto Planta Pilot'!D130="On line","On line",SUM(B130:I130)) -> 2
A131: Endrín cetona | B131: =IF('Analítica Proyecto Planta Pilot'!F131="","",VLOOKUP('Analítica Proyecto Planta Pilot'!F131,Frecuencia!$BD$2:$BE$10,2,FALSE)) -> 0.5 | C131: =IF('Analítica Proyecto Planta Pilot'!H131="","",VLOOKUP('Analítica Proyecto Planta Pilot'!H131,Frecuencia!$BD$2:$BE$10,2,FALSE)) | D131: =IF('Analítica Proyecto Planta Pilot'!J131="","",VLOOKUP('Analítica Proyecto Planta Pilot'!J131,Frecuencia!$BD$2:$BE$10,2,FALSE)) | E131: =IF('Analítica Proyecto Planta Pilot'!L131="","",VLOOKUP('Analítica Proyecto Planta Pilot'!L131,Frecuencia!$BD$2:$BE$10,2,FALSE)) | F131: =IF('Analítica Proyecto Planta Pilot'!N131="","",VLOOKUP('Analítica Proyecto Planta Pilot'!N131,Frecuencia!$BD$2:$BE$10,2,FALSE)) | G131: =IF('Analítica Proyecto Planta Pilot'!P131="","",VLOOKUP('Analítica Proyecto Planta Pilot'!P131,Frecuencia!$BD$2:$BE$10,2,FALSE)) | H131: =IF('Analítica Proyecto Planta Pilot'!R131="","",VLOOKUP('Analítica Proyecto Planta Pilot'!R131,Frecuencia!$BD$2:$BE$10,2,FALSE)) | I131: =IF('Analítica Proyecto Planta Pilot'!T131="","",VLOOKUP('Analítica Proyecto Planta Pilot'!T131,Frecuencia!$BD$2:$BE$10,2,FALSE)) | J131: =IF('Analítica Proyecto Planta Pilot'!D131="On line","On line",SUM(B131:I131)) -> 0.5
A132: Heptacloro (SP) | B132: =IF('Analítica Proyecto Planta Pilot'!F132="","",VLOOKUP('Analítica Proyecto Planta Pilot'!F132,Frecuencia!$BD$2:$BE$10,2,FALSE)) -> 1 | C132: =IF('Analítica Proyecto Planta Pilot'!H132="","",VLOOKUP('Analítica Proyecto Planta Pilot'!H132,Frecuencia!$BD$2:$BE$10,2,FALSE)) | D132: =IF('Analítica Proyecto Planta Pilot'!J132="","",VLOOKUP('Analítica Proyecto Planta Pilot'!J132,Frecuencia!$BD$2:$BE$10,2,FALSE)) | E132: =IF('Analítica Proyecto Planta Pilot'!L132="","",VLOOKUP('Analítica Proyecto Planta Pilot'!L132,Frecuencia!$BD$2:$BE$10,2,FALSE)) | F132: =IF('Analítica Proyecto Planta Pilot'!N132="","",VLOOKUP('Analítica Proyecto Planta Pilot'!N132,Frecuencia!$BD$2:$BE$10,2,FALSE)) | G132: =IF('Analítica Proyecto Planta Pilot'!P132="","",VLOOKUP('Analítica Proyecto Planta Pilot'!P132,Frecuencia!$BD$2:$BE$10,2,FALSE)) | H132: =IF('Analítica Proyecto Planta Pilot'!R132="","",VLOOKUP('Analítica Proyecto Planta Pilot'!R132,Frecuencia!$BD$2:$BE$10,2,FALSE)) | I132: =IF('Analítica Proyecto Planta Pilot'!T132="","",VLOOKUP('Analítica Proyecto Planta Pilot'!T132,Frecuencia!$BD$2:$BE$10,2,FALSE)) -> 1 | J132: =IF('Analítica Proyecto Planta Pilot'!D132="On line","On line",SUM(B132:I132)) -> 2
A133: Heptacloro Epóxido (SP) | B133: =IF('Analítica Proyecto Planta Pilot'!F133="","",VLOOKUP('Analítica Proyecto Planta Pilot'!F133,Frecuencia!$BD$2:$BE$10,2,FALSE)) -> 1 | C133: =IF('Analítica Proyecto Planta Pilot'!H133="","",VLOOKUP('Analítica Proyecto Planta Pilot'!H133,Frecuencia!$BD$2:$BE$10,2,FALSE)) | D133: =IF('Analítica Proyecto Planta Pilot'!J133="","",VLOOKUP('Analítica Proyecto Planta Pilot'!J133,Frecuencia!$BD$2:$BE$10,2,FALSE)) | E133: =IF('Analítica Proyecto Planta Pilot'!L133="","",VLOOKUP('Analítica Proyecto Planta Pilot'!L133,Frecuencia!$BD$2:$BE$10,2,FALSE)) | F133: =IF('Analítica Proyecto Planta Pilot'!N133="","",VLOOKUP('Analítica Proyecto Planta Pilot'!N133,Frecuencia!$BD$2:$BE$10,2,FALSE)) | G133: =IF('Analítica Proyecto Planta Pilot'!P133="","",VLOOKUP('Analítica Proyecto Planta Pilot'!P133,Frecuencia!$BD$2:$BE$10,2,FALSE)) | H133: =IF('Analítica Proyecto Planta Pilot'!R133="","",VLOOKUP('Analítica Proyecto Planta Pilot'!R133,Frecuencia!$BD$2:$BE$10,2,FALSE)) | I133: =IF('Analítica Proyecto Planta Pilot'!T133="","",VLOOKUP('Analítica Proyecto Planta Pilot'!T133,Frecuencia!$BD$2:$BE$10,2,FALSE)) -> 1 | J133: =IF('Analítica Proyecto Planta Pilot'!D133="On line","On line",SUM(B133:I133)) -> 2
A134: Hexaclorobenceno | B134: =IF('Analítica Proyecto Planta Pilot'!F134="","",VLOOKUP('Analítica Proyecto Planta Pilot'!F134,Frecuencia!$BD$2:$BE$10,2,FALSE)) -> 0.5 | C134: =IF('Analítica Proyecto Planta Pilot'!H134="","",VLOOKUP('Analítica Proyecto Planta Pilot'!H134,Frecuencia!$BD$2:$BE$10,2,FALSE)) | D134: =IF('Analítica Proyecto Planta Pilot'!J134="","",VLOOKUP('Analítica Proyecto Planta Pilot'!J134,Frecuencia!$BD$2:$BE$10,2,FALSE)) | E134: =IF('Analítica Proyecto Planta Pilot'!L134="","",VLOOKUP('Analítica Proyecto Planta Pilot'!L134,Frecuencia!$BD$2:$BE$10,2,FALSE)) | F134: =IF('Analítica Proyecto Planta Pilot'!N134="","",VLOOKUP('Analítica Proyecto Planta Pilot'!N134,Frecuencia!$BD$2:$BE$10,2,FALSE)) | G134: =IF('Analítica Proyecto Planta Pilot'!P134="","",VLOOKUP('Analítica Proyecto Planta Pilot'!P134,Frecuencia!$BD$2:$BE$10,2,FALSE)) | H134: =IF('Analítica Proyecto Planta Pilot'!R134="","",VLOOKUP('Analítica Proyecto Planta Pilot'!R134,Frecuencia!$BD$2:$BE$10,2,FALSE)) | I134: =IF('Analítica Proyecto Planta Pilot'!T134="","",VLOOKUP('Analítica Proyecto Planta Pilot'!T134,Frecuencia!$BD$2:$BE$10,2,FALSE)) | J134: =IF('Analítica Proyecto Planta Pilot'!D134="On line","On line",SUM(B134:I134)) -> 0.5
A135: Isodrín | B135: =IF('Analítica Proyecto Planta Pilot'!F135="","",VLOOKUP('Analítica Proyecto Planta Pilot'!F135,Frecuencia!$BD$2:$BE$10,2,FALSE)) -> 0.5 | C135: =IF('Analítica Proyecto Planta Pilot'!H135="","",VLOOKUP('Analítica Proyecto Planta Pilot'!H135,Frecuencia!$BD$2:$BE$10,2,FALSE)) | D135: =IF('Analítica Proyecto Planta Pilot'!J135="","",VLOOKUP('Analítica Proyecto Planta Pilot'!J135,Frecuencia!$BD$2:$BE$10,2,FALSE)) | E135: =IF('Analítica Proyecto Planta Pilot'!L135="","",VLOOKUP('Analítica Proyecto Planta Pilot'!L135,Frecuencia!$BD$2:$BE$10,2,FALSE)) | F135: =IF('Analítica Proyecto Planta Pilot'!N135="","",VLOOKUP('Analítica Proyecto Planta Pilot'!N135,Frecuencia!$BD$2:$BE$10,2,FALSE)) | G135: =IF('Analítica Proyecto Planta Pilot'!P135="","",VLOOKUP('Analítica Proyecto Planta Pilot'!P135,Frecuencia!$BD$2:$BE$10,2,FALSE)) | H135: =IF('Analítica Proyecto Planta Pilot'!R135="","",VLOOKUP('Analítica Proyecto Planta Pilot'!R135,Frecuencia!$BD$2:$BE$10,2,FALSE)) | I135: =IF('Analítica Proyecto Planta Pilot'!T135="","",VLOOKUP('Analítica Proyecto Planta Pilot'!T135,Frecuencia!$BD$2:$BE$10,2,FALSE)) | J135: =IF('Analítica Proyecto Planta Pilot'!D135="On line","On line",SUM(B135:I135)) -> 0.5
... A146: Plaguicidas totales | B146: =IF('Analítica Proyecto Planta Pilot'!F146="","",VLOOKUP('Analítica Proyecto Planta Pilot'!F146,Frecuencia!$BD$2:$BE$10,2,FALSE)) -> 1 | C146: =IF('Analítica Proyecto Planta Pilot'!H146="","",VLOOKUP('Analítica Proyecto Planta Pilot'!H146,Frecuencia!$BD$2:$BE$10,2,FALSE)) | D146: =IF('Analítica Proyecto Planta Pilot'!J146="","",VLOOKUP('Analítica Proyecto Planta Pilot'!J146,Frecuencia!$BD$2:$BE$10,2,FALSE)) | E146: =IF('Analítica Proyecto Planta Pilot'!L146="","",VLOOKUP('Analítica Proyecto Planta Pilot'!L146,Frecuencia!$BD$2:$BE$10,2,FALSE)) | F146: =IF('Analítica Proyecto Planta Pilot'!N146="","",VLOOKUP('Analítica Proyecto Planta Pilot'!N146,Frecuencia!$BD$2:$BE$10,2,FALSE)) | G146: =IF('Analítica Proyecto Planta Pilot'!P146="","",VLOOKUP('Analítica Proyecto Planta Pilot'!P146,Frecuencia!$BD$2:$BE$10,2,FALSE)) | H146: =IF('Analítica Proyecto Planta Pilot'!R146="","",VLOOKUP('Analítica Proyecto Planta Pilot'!R146,Frecuencia!$BD$2:$BE$10,2,FALSE)) | I146: =IF('Analítica Proyecto Planta Pilot'!T146="","",VLOOKUP('Analítica Proyecto Planta Pilot'!T146,Frecuencia!$BD$2:$BE$10,2,FALSE)) -> 1 | J146: =IF('Analítica Proyecto Planta Pilot'!D146="On line","On line",SUM(B146:I146)) -> 2
A147: Plagicidas Organonitrogenados | B147: =IF('Analítica Proyecto Planta Pilot'!F147="","",VLOOKUP('Analítica Proyecto Planta Pilot'!F147,Frecuencia!$BD$2:$BE$10,2,FALSE)) | C147: =IF('Analítica Proyecto Planta Pilot'!H147="","",VLOOKUP('Analítica Proyecto Planta Pilot'!H147,Frecuencia!$BD$2:$BE$10,2,FALSE)) | D147: =IF('Analítica Proyecto Planta Pilot'!J147="","",VLOOKUP('Analítica Proyecto Planta Pilot'!J147,Frecuencia!$BD$2:$BE$10,2,FALSE)) | E147: =IF('Analítica Proyecto Planta Pilot'!L147="","",VLOOKUP('Analítica Proyecto Planta Pilot'!L147,Frecuencia!$BD$2:$BE$10,2,FALSE)) | F147: =IF('Analítica Proyecto Planta Pilot'!N147="","",VLOOKUP('Analítica Proyecto Planta Pilot'!N147,Frecuencia!$BD$2:$BE$10,2,FALSE)) | G147: =IF('Analítica Proyecto Planta Pilot'!P147="","",VLOOKUP('Analítica Proyecto Planta Pilot'!P147,Frecuencia!$BD$2:$BE$10,2,FALSE)) | H147: =IF('Analítica Proyecto Planta Pilot'!R147="","",VLOOKUP('Analítica Proyecto Planta Pilot'!R147,Frecuencia!$BD$2:$BE$10,2,FALSE)) | I147: =IF('Analítica Proyecto Planta Pilot'!T147="","",VLOOKUP('Analítica Proyecto Planta Pilot'!T147,Frecuencia!$BD$2:$BE$10,2,FALSE))
A148: Atrazina | B148: =IF('Analítica Proyecto Planta Pilot'!F148="","",VLOOKUP('Analítica Proyecto Planta Pilot'!F148,Frecuencia!$BD$2:$BE$10,2,FALSE)) -> 0.5 | C148: =IF('Analítica Proyecto Planta Pilot'!H148="","",VLOOKUP('Analítica Proyecto Planta Pilot'!H148,Frecuencia!$BD$2:$BE$10,2,FALSE)) | D148: =IF('Analítica Proyecto Planta Pilot'!J148="","",VLOOKUP('Analítica Proyecto Planta Pilot'!J148,Frecuencia!$BD$2:$BE$10,2,FALSE)) | E148: =IF('Analítica Proyecto Planta Pilot'!L148="","",VLOOKUP('Analítica Proyecto Planta Pilot'!L148,Frecuencia!$BD$2:$BE$10,2,FALSE)) | F148: =IF('Analítica Proyecto Planta Pilot'!N148="","",VLOOKUP('Analítica Proyecto Planta Pilot'!N148,Frecuencia!$BD$2:$BE$10,2,FALSE)) | G148: =IF('Analítica Proyecto Planta Pilot'!P148="","",VLOOKUP('Analítica Proyecto Planta Pilot'!P148,Frecuencia!$BD$2:$BE$10,2,FALSE)) | H148: =IF('Analítica Proyecto Planta Pilot'!R148="","",VLOOKUP('Analítica Proyecto Planta Pilot'!R148,Frecuencia!$BD$2:$BE$10,2,FALSE)) | I148: =IF('Analítica Proyecto Planta Pilot'!T148="","",VLOOKUP('Analítica Proyecto Planta Pilot'!T148,Frecuencia!$BD$2:$BE$10,2,FALSE)) | J148: =IF('Analítica Proyecto Planta Pilot'!D148="On line","On line",SUM(B148:I148)) -> 0.5
A149: Simazina | B149: =IF('Analítica Proyecto Planta Pilot'!F149="","",VLOOKUP('Analítica Proyecto Planta Pilot'!F149,Frecuencia!$BD$2:$BE$10,2,FALSE)) -> 0.5 | C149: =IF('Analítica Proyecto Planta Pilot'!H149="","",VLOOKUP('Analítica Proyecto Planta Pilot'!H149,Frecuencia!$BD$2:$BE$10,2,FALSE)) | D149: =IF('Analítica Proyecto Planta Pilot'!J149="","",VLOOKUP('Analítica Proyecto Planta Pilot'!J149,Frecuencia!$BD$2:$BE$10,2,FALSE)) | E149: =IF('Analítica Proyecto Planta Pilot'!L149="","",VLOOKUP('Analítica Proyecto Planta Pilot'!L149,Frecuencia!$BD$2:$BE$10,2,FALSE)) | F149: =IF('Analítica Proyecto Planta Pilot'!N149="","",VLOOKUP('Analítica Proyecto Planta Pilot'!N149,Frecuencia!$BD$2:$BE$10,2,FALSE)) | G149: =IF('Analítica Proyecto Planta Pilot'!P149="","",VLOOKUP('Analítica Proyecto Planta Pilot'!P149,Frecuencia!$BD$2:$BE$10,2,FALSE)) | H149: =IF('Analítica Proyecto Planta Pilot'!R149="","",VLOOKUP('Analítica Proyecto Planta Pilot'!R149,Frecuencia!$BD$2:$BE$10,2,FALSE)) | I149: =IF('Analítica Proyecto Planta Pilot'!T149="","",VLOOKUP('Analítica Proyecto Planta Pilot'!T149,Frecuencia!$BD$2:$BE$10,2,FALSE)) | J149: =IF('Analítica Proyecto Planta Pilot'!D149="On line","On line",SUM(B149:I149)) -> 0.5
A150: Terbutilazina | B150: =IF('Analítica Proyecto Planta Pilot'!F150="","",VLOOKUP('Analítica Proyecto Planta Pilot'!F150,Frecuencia!$BD$2:$BE$10,2,FALSE)) -> 0.5 | C150: =IF('Analítica Proyecto Planta Pilot'!H150="","",VLOOKUP('Analítica Proyecto Planta Pilot'!H150,Frecuencia!$BD$2:$BE$10,2,FALSE)) | D150: =IF('Analítica Proyecto Planta Pilot'!J150="","",VLOOKUP('Analítica Proyecto Planta Pilot'!J150,Frecuencia!$BD$2:$BE$10,2,FALSE)) | E150: =IF('Analítica Proyecto Planta Pilot'!L150="","",VLOOKUP('Analítica Proyecto Planta Pilot'!L150,Frecuencia!$BD$2:$BE$10,2,FALSE)) | F150: =IF('Analítica Proyecto Planta Pilot'!N150="","",VLOOKUP('Analítica Proyecto Planta Pilot'!N150,Frecuencia!$BD$2:$BE$10,2,FALSE)) | G150: =IF('Analítica Proyecto Planta Pilot'!P150="","",VLOOKUP('Analítica Proyecto Planta Pilot'!P150,Frecuencia!$BD$2:$BE$10,2,FALSE)) | H150: =IF('Analítica Proyecto Planta Pilot'!R150="","",VLOOKUP('Analítica Proyecto Planta Pilot'!R150,Frecuencia!$BD$2:$BE$10,2,FALSE)) | I150: =IF('Analítica Proyecto Planta Pilot'!T150="","",VLOOKUP('Analítica Proyecto Planta Pilot'!T150,Frecuencia!$BD$2:$BE$10,2,FALSE)) | J150: =IF('Analítica Proyecto Planta Pilot'!D150="On line","On line",SUM(B150:I150)) -> 0.5
A151: Terbutrin | B151: =IF('Analítica Proyecto Planta Pilot'!F151="","",VLOOKUP('Analítica Proyecto Planta Pilot'!F151,Frecuencia!$BD$2:$BE$10,2,FALSE)) -> 0.5 | C151: =IF('Analítica Proyecto Planta Pilot'!H151="","",VLOOKUP('Analítica Proyecto Planta Pilot'!H151,Frecuencia!$BD$2:$BE$10,2,FALSE)) | D151: =IF('Analítica Proyecto Planta Pilot'!J151="","",VLOOKUP('Analítica Proyecto Planta Pilot'!J151,Frecuencia!$BD$2:$BE$10,2,FALSE)) | E151: =IF('Analítica Proyecto Planta Pilot'!L151="","",VLOOKUP('Analítica Proyecto Planta Pilot'!L151,Frecuencia!$BD$2:$BE$10,2,FALSE)) | F151: =IF('Analítica Proyecto Planta Pilot'!N151="","",VLOOKUP('Analítica Proyecto Planta Pilot'!N151,Frecuencia!$BD$2:$BE$10,2,FALSE)) | G151: =IF('Analítica Proyecto Planta Pilot'!P151="","",VLOOKUP('Analítica Proyecto Planta Pilot'!P151,Frecuencia!$BD$2:$BE$10,2,FALSE)) | H151: =IF('Analítica Proyecto Planta Pilot'!R151="","",VLOOKUP('Analítica Proyecto Planta Pilot'!R151,Frecuencia!$BD$2:$BE$10,2,FALSE)) | I151: =IF('Analítica Proyecto Planta Pilot'!T151="","",VLOOKUP('Analítica Proyecto Planta Pilot'!T151,Frecuencia!$BD$2:$BE$10,2,FALSE)) | J151: =IF('Analítica Proyecto Planta Pilot'!D151="On line","On line",SUM(B151:I151)) -> 0.5
A152: Trifluralina | B152: =IF('Analítica Proyecto Planta Pilot'!F152="","",VLOOKUP('Analítica Proyecto Planta Pilot'!F152,Frecuencia!$BD$2:$BE$10,2,FALSE)) -> 0.5 | C152: =IF('Analítica Proyecto Planta Pilot'!H152="","",VLOOKUP('Analítica Proyecto Planta Pilot'!H152,Frecuencia!$BD$2:$BE$10,2,FALSE)) | D152: =IF('Analítica Proyecto Planta Pilot'!J152="","",VLOOKUP('Analítica Proyecto Planta Pilot'!J152,Frecuencia!$BD$2:$BE$10,2,FALSE)) | E152: =IF('Analítica Proyecto Planta Pilot'!L152="","",VLOOKUP('Analítica Proyecto Planta Pilot'!L152,Frecuencia!$BD$2:$BE$10,2,FALSE)) | F152: =IF('Analítica Proyecto Planta Pilot'!N152="","",VLOOKUP('Analítica Proyecto Planta Pilot'!N152,Frecuencia!$BD$2:$BE$10,2,FALSE)) | G152: =IF('Analítica Proyecto Planta Pilot'!P152="","",VLOOKUP('Analítica Proyecto Planta Pilot'!P152,Frecuencia!$BD$2:$BE$10,2,FALSE)) | H152: =IF('Analítica Proyecto Planta Pilot'!R152="","",VLOOKUP('Analítica Proyecto Planta Pilot'!R152,Frecuencia!$BD$2:$BE$10,2,FALSE)) | I152: =IF('Analítica Proyecto Planta Pilot'!T152="","",VLOOKUP('Analítica Proyecto Planta Pilot'!T152,Frecuencia!$BD$2:$BE$10,2,FALSE)) | J152: =IF('Analítica Proyecto Planta Pilot'!D152="On line","On line",SUM(B152:I152)) -> 0.5
...

Sheet CABB-AGQ
A1: CABB (Informe) | B1: Laboratorios AGQ
A2: Sulfatos | B2: Heptacloro (SP) | C2: Pentaclorobenceno
A3: Endosulfan sulfato | B3: Tricloroeteno (1,1,2)
A4: Color | B4: Aclonifen
A5: Conductividad | B5: Cibutrina
A6: Cromo | B6: Cloroalcanos (C10-C13)
A7: Cloruro | B7: Hexabromociclododecano
A8: Dieldrín | B8: PFOS
A9: Dureza total | B9: PBDE 28
A10: Tricloroeteno+Tetracloroe | B10: Sílice
A11: Tricloroeteno | B11: Sólidos en Suspensión
A12: Heptaclor | B12: Bromatos
A13: Hidrocarburos aromáticos policíclicos (PAHs) | B13: Bromuros
A14: Benzo | B14: Sileno
... A79: Clorofila A | B79: p,p-DDD
B80: p,p-DDE

Sheet Configuraciones
A2: CONFIGURACIÓN 1
A8: CONFIGURACIÓN 2
A15: CONFIGURACIÓN 3
A21: CONFIGURACIÓN 4
