Workbook

Sheet Resumen Contratista
B2: RESUMEN
B3: GESTION DE RESIDUOS | E3: ='Partidas a rellenar'!G3 -> 0
B4: UNIDADES DEPOSITO | E4: ='Partidas a rellenar'!G16 -> 0
B5: DEMOLICIONES, DESBROCE Y TALAS | E5: ='Partidas a rellenar'!G67 -> 0
B6: MOVIMIENTO DE TIERRAS Y DEMOLICIONES | E6: ='Partidas a rellenar'!G74 -> 0
B7: RELLENOS Y OTROS | E7: ='Partidas a rellenar'!G83 -> 0
B8: BANDA DE SEÑALIZACION | E8: ='Partidas a rellenar'!G106 -> 0
B9: ESTRUCTURAS | E9: ='Partidas a rellenar'!G109 -> 0
B10: ARQUETAS, TAPAS, SUMIDEROS Y ELEMENTOS INT. | E10: ='Partidas a rellenar'!G134 -> 0
B11: GUNITADO | E11: ='Partidas a rellenar'!G171 -> 0
B12: SUB-BASES Y MBC Y UNIDADES DE URBANIZACION | E12: ='Partidas a rellenar'!G176 -> 0
B13: IMPERMEABILIZACIONES | E13: ='Partidas a rellenar'!G199 -> 0
B14: GALERIA PREFABRICADA | E14: ='Partidas a rellenar'!G214 -> 0
B15: TUBERÍA FUNDICIÓN DUCTIL | E15: ='Partidas a rellenar'!G217 -> 0
B16: PIECERÍO FUNDICION DUCTIL | E16: ='Partidas a rellenar'!G302 -> 0
B17: UNIONES CONTRATRACCION Y MANGAS POLIETILENO | E17: ='Partidas a rellenar'!G485 -> 0
B18: TUBERIA POLIETILENO A.D | E18: ='Partidas a rellenar'!G552 -> 0
B19: PIECERIO POLIETILENO A.D. | E19: ='Partidas a rellenar'!G593 -> 0
B20: TUBERÍA DE POLIETILENO REFORZADO | E20: ='Partidas a rellenar'!G664 -> 0
B21: CODO E-E F.D. PARA TUBO PEAD | E21: ='Partidas a rellenar'!G677 -> 0
B22: "T" F.D. E-E-E TUBERIAS PEAD | E22: ='Partidas a rellenar'!G686 -> 0
B23: T REDUCTOR F.D. E-B-E TUB. PEAD | E23: ='Partidas a rellenar'!G705 -> 0
B24: ENLACES ROSCA LATÓN | E24: ='Partidas a rellenar'!G724 -> 0
B25: CODOS LATÓN | E25: ='Partidas a rellenar'!G733 -> 0
B26: ACOMETIDAS DOMICILIARIAS | E26: ='Partidas a rellenar'!G740 -> 0
B27: VALVULAS DE COMPUERTA | E27: ='Partidas a rellenar'!G765 -> 0
B28: VALVULAS DE MARIPOSA | E28: ='Partidas a rellenar'!G784 -> 0
B29: VALVULAS DE RETENCIÓN | E29: ='Partidas a rellenar'!G803 -> 0
B30: VALVULAS DE RETENCION AXIAL | E30: ='Partidas a rellenar'!G820 -> 0
B31: VALVULAS DE FLOTADOR DE ALTITUD | E31: ='Partidas a rellenar'!G831 -> 0
B32: VALVULAS DE BOYA | E32: ='Partidas a rellenar'!G850 -> 0
B33: VALVULA REDUCTORA PRESION CON VALVULA PILOTO | E33: ='Partidas a rellenar'!G869 -> 0
B34: VALVULAS REDUCTORAS DE PRESION ACCION DIRECTA | E34: ='Partidas a rellenar'!G888 -> 0
B35: VENTOSA DOBLE BOLA SIN VÁLVULA | E35: ='Partidas a rellenar'!G901 -> 0
B36: VENTOSA DOBLE BOLA CON VÁLVULA ASIENTO | E36: ='Partidas a rellenar'!G916 -> 0
B37: CARRETES DE DESMONTAJE Y ADAPTADORES | E37: ='Partidas a rellenar'!G933 -> 0
B38: CONTADOR DE CHORRO MÚLTIPLE | E38: ='Partidas a rellenar'!G966 -> 0
B39: CONTADOR TIPO WOLTMAN | E39: ='Partidas a rellenar'!G973 -> 0
B40: CONTADOR ULTRASONICO | E40: ='Partidas a rellenar'!G986 -> 0
B41: CONTADOR ELECTROMAGNÉTICO | E41: ='Partidas a rellenar'!G999 -> 0
...

Sheet Partidas a rellenar
A1: Presupuesto
A2: Código | B2: Nat | C2: Ud | D2: Resumen | E2: CanPres | F2: Pres | G2: ImpPres
A3: A00-LER | B3: Capítulo | D3: GESTION DE RESIDUOS | G3: =SUM(G4:G14) -> 0
A4: 170504 | B4: Partida | C4: Tn | D4: RETIRADA TIERRAS Y ROCAS NO CONTAMINADAS | E4: 10 | G4: =ROUND(E4*F4*1,2) -> 0
D5: RETIRADA DE TIERRAS Y ROCAS NO CONTAMINADAS
A6: 170505 | B6: Partida | C6: Tn | D6: RETIRADA LODOS DE DRENAJE C/SUSTANCIAS PELIGROSAS | E6: 5 | G6: =ROUND(E6*F6*1,2) -> 0
D7: RETIRADA DE LODOS DE DRENAJE QUE CONTIENEN SUSTANCIAS PELIGROSAS
A8: 170506 | B8: Partida | C8: Tn | D8: RETIRADA LODOS DE DRENAJE DISTINTOS 170505 | E8: 2 | G8: =ROUND(E8*F8*1,2) -> 0
D9: RETIRADA DE LODOS DE DRENAJE DISTINTOS DE LOS ESPECIFICADOS EN EL CÓDIGO 17.05.05
A10: 170605 | B10: Partida | C10: Tn | D10: RETIRADA MATERIALES QUE CONTIENEN AMIANTO | E10: 1 | G10: =ROUND(E10*F10*1,2) -> 0
D11: RETIRADA DE MATERIALES DE CONSTRUCCIÓN QUE CONTIENEN AMIANTO
A12: 170904_1 | B12: Partida | C12: Tn | D12: RETIRADA DE OTROS RESIDUOS DE CONSTRUCCIÓN Y DEMOLICIÓN MÁX 10% | E12: 1 | G12: =ROUND(E12*F12*1,2) -> 0
D13: RETIRADA DE OTROS RESIDUOS MEZCLADOS DE CONSTRUCCIÓN Y DEMOLICIÓN DISTINTOS DE LOS ESPECIFICADOS EN LOS CÓDIGOS 17.09.02 Y 17.09.03 CON 10% MÁXIMO DE PLÁSTICO, MADERA, YESO
A14: P98 | B14: Partida | C14: UD | D14: CONTENEDOR | E14: 1 | G14: =ROUND(E14*F14*1,2) -> 0
D15: CONTENEDOR EN OBRA PARA LA RETIRADA DE RESIDUOS, DURANTE TODA LA DURACIÓN DE LA OBRA.
A16: U0100 | B16: Capítulo | D16: UNIDADES DEPOSITO | G16: =SUM(G17:G66) -> 0
A17: U010001 | B17: Partida | C17: M2 | D17: LIMPIEZA SUPERF. HORMIGÓN CHORRO AGUA INTERIOR DEPOSITO | E17: 75 | G17: =ROUND(E17*F17*1,2) -> 0
D18: LIMPIEZA DE LA SUPERFICIE DE HORMIGÓN MEDIANTE CHORRO DE AGUA A PRESIÓN Y JABONES NEUTROS NO ABRASIVOS, INCLUIDAS TODAS LAS OPERACIONES NECESARIAS, LIMPIEZA Y RETIRADA DE RESTOS, ASÍ COMO LA PARTE PROPORCIONAL DE ANDAMIOS Y ANDAMIOS COLGADOS, U OTROS ELEMENTOS NECESARIOS PARA SU COMPLETA EJECUCIÓN.
A19: U010005 | B19: Partida | C19: UD | D19: DESMONTAJE DE PATES | E19: 30 | G19: =ROUND(E19*F19*1,2) -> 0
D20: EMPALME BRIDA-LISO DE FUNDICION DUCTIL DN= 250 MM. PN-16
A21: U010006 | B21: Partida | C21: UD | D21: DESMONTAJE DE INSTALACIÓN EXISTENTE EN DEPÓSITO | E21: 1 | G21: =ROUND(E21*F21*1,2) -> 0
D22: DESMONTAJE DE INSTALACIÓN HIDRÁULICA Y / O ELÉCTRICA EXISTENTE EN DEPÓSITO (CUADROS ELECTRICOS, CABLEADO Y SOPORTES, CONDUCCIONES Y ACCESORIOS DE ACERO O PLÁSTICO, MECANISMOS., ETC.). INCLUSO CARGA Y TRANSPORTE A GESTOR AUTORIZADO. QUEDANDO SALA DE LLAVES COMPLETAMENTE DESPEJADA.
A23: U010010 | B23: Partida | C23: M2 | D23: RETIRADA DE TIERRA DE CUBIERTA | E23: 75 | G23: =ROUND(E23*F23*1,2) -> 0
D24: RETIRADA DE CAPA DE TIERRA DE CUBIERTA DE DEPÓSITOS CON MEDIOS MECÁNICOS Y/O MANUALES A PIE DE OBRA.
A25: U010015 | B25: Partida | C25: M2 | D25: REPARACIÓN DE ESTRUCTURA DE HORMIGÓN | E25: 30 | G25: =ROUND(E25*F25*1,2) -> 0
D26: REPARACIÓN DE ESTRUCTURA DE HORMIGÓN (PARTE ACCESIBLE) QUE INCLUYE: - SANEADO DEL HORMIGÓN: SANEADO DEL HORMIGÓN DETERIORADO, DEJANDO LA ARMADURA INTERNA AL DESCUBIERTO EN TODO SU PERÍMETRO, PICANDO CON MARTILLO NEUMÁTICO TODAS LAS ZONAS AFECTADAS HASTA LOCALIZAR LA PARTE SANA DEL MISMO. - LIMPIEZA: LIMPIEZA DE LA ARMADURA ELIMINANDO TOTALMENTE EL ÓXIDO HASTA UN GRADO SA 2 1/2, SEGÚN LA NORMA SUECA DE CALIDAD, POR MEDIOS MECÁNICOS. - PASIVADO DE ARMADURAS: PASIVADO DE LAS ARMADURAS CON LA APLICACIÓN DE DOS MANOS DE EPOXI RICO EN ZINC TIPO ZINCRICH O SIMILAR. PÉRDIDA DE SECCIÓN: CUANDO SE PRODUZCA POR OXIDACIÓN EN LA ARMADURA UNA PÉRDIDA DE SU SECCIÓN IGUAL O SUPERIOR AL 20%, SE SUSTITUIRÁ LA MISMA POR OTRA DEL MISMO DIÁMETRO Y CARACTERÍSTICAS (MÍNIMO ACERO CORRUGADO B500S). - REPOSICIÓN DE LA GEOMETRÍA ORIGINAL: SE EJECUTARÁ UNA CORRECTA REPOSICIÓN DE LA GEOMETRÍA ORIGINAL DE LA SECCIÓN DEL PILAR O VIGAS, MEDIANTE LA APLICACIÓN DE UN MORTERO TIXOTRÓPICO (RENDEROC SF DE FOSROC O SIMILAR) DE RETRACCIÓN COMPENSADA APTO PARA REPARACIONES EN ELEMENTOS VERTICALES Y HORIZONTALES. EL RECUBRIMIENTO MÍNIMO DE LAS ARMADURAS SERÁ DE 2 CM, CON UN ESPESOR MEDIO DE 3 CM ACABADO TALOCHADO A BUENA VISTA. - EN CASO DE QUE LA SECCIÓN A REPARAR SEA CONSIDERABLE SE PODRÁ ENCOFRAR Y VERTER MICROHORMIGÓN MATERIAL FLUIDO Y DE ALTA RESISTENCIA DE RETRACCIÓN COMPENSADA CON UNA RESISTENCIA DE 50 N/MM² A COMPRESIÓN
A27: U010016 | B27: Partida | C27: M2 | D27: FORMACION PENDIENTES EN CUBIERTA | E27: 10 | G27: =ROUND(E27*F27*1,2) -> 0
D28: FORMACIÓN DE PENDIENTES EN CUBIERTA PLANA CON MORTERO DE ALBAÑILERÍA M-7,5, ESPESOR MEDIO 10 CM INCLUSO PARTE PROPORCIONAL DE RASTRELES.
A29: U010017 | B29: Partida | C29: ML | D29: REPARACIÓN ALERO DEPÓSITO | E29: 10 | G29: =ROUND(E29*F29*1,2) -> 0
D30: REPARACIÓN DE ALERO PERIMETRAL DE DEPÓSITO MEDIANTE PICADO DE SUPERFICIE DE HORMIGÓN DETERIORADA, LIMPIEZA Y RELLENO CON MORTERO DE REPARACIÓN TIXOTRÓPICO.
A31: U010018 | B31: Partida | C31: M2 | D31: ENFOSCADO MORTERO IMPERMEABILIZANTE INTERIOR DEPOSITO | E31: 15 | G31: =ROUND(E31*F31*1,2) -> 0
D32: APLICACION DE MORTERO IMPERMEABILIZANTE ELÁSTICO Y FLEXIBLE APTO PARA AGUA POTABLE EN ESTRUCTURAS DE HORMIGÓN Y MORTERO, PREVIA LIMPIEZA DE LA SUPERFICIE.
A33: U010019 | B33: Partida | C33: M2 | D33: IMPERMEABILIZACIÓN Y PROTECCIÓN DE CUBIERTA | E33: 15 | G33: =ROUND(E33*F33*1,2) -> 0
D34: IMPERMEABILIZACIÓN Y PROTECCIÓN DE SUPERFICIE CON LA APLICACIÓN DE UNA PRIMERA CAPA DE MEMBRANA DE POLIURETANO MONOCOMPONENTE BETOPUR O SIMILAR, RESISTENTE A LA INTEMPERIE Y DE EXCELENTE ADHERENCIA, Y LA APLICACIÓN DE UNA SEGUNDA CAPA DE BETOPUR TRANS CON PASTA PIGMENTADA VERDE, CONTINUA, IMPERMEABLE Y ELÁSTICA, RESISTENTE A LA INTEMPERIE Y DE EXCELENTE ADHERENCIA, PERMITIENDO UN CORRECTO ACABADO TRANSITABLE. INCLUSO LIMPIEZA DE SUPERFICIE PREVIA Y APLICACIÓN DE PUENTE DE UNIÓN SOBRE SUPERFICIE DE HORMIGÓN BETOPUR PRIMER O SIMILAR.
A35: U010020 | B35: Partida | C35: ML | D35: TACÓN DE HORMIGÓN PARA VALLADO | E35: 20 | G35: =ROUND(E35*F35*1,2) -> 0
D36: EJECUCIÓN DE TACÓN DE HORMIGÓN HM-20 PARA COLOCACIÓN DE VALLADO DE 30CM DE ALTURA VISTA POR 20 CM DE ANCHO, I/ENCOFRADO Y DESENCOFRADO, VERTIDO DE HORMIGÓN, COLOCACIÓN DE BERENGENO EN AMBAS ARISTAS, ACERO DE PIEL EN ESQUINAS Y TODAS LAS OPERACIONES ECESARIAS PARA SU EJECUCIÓN.
A37: U010100 | B37: Partida | C37: UD | D37: PUNTO DE TOMA DE MUESTRAS E INDICADOR DE NIVEL | E37: 1 | G37: =ROUND(E37*F37*1,2) -> 0
D38: PUNTO DE TOMA DE MUESTRA DE AGUA CON CÁNULA DE COBRE E INDICADOR DE NIVEL FORMADO POR TUBO DE PVC TRANSPARENTE DN25 CON PANEL DE FONDO DE PLÁSTICO GRADUADO CON ALTURA Y CAPACIDAD DEL DEPÓSITO. LA UNIDAD INCLUYE PICAJE ROSCADO DE ACERO REALIZADO SOBRE CARRETE DE ACERO, INCLUSO SOLDADURA Y PROTECCIÓN GALVANIZADA O CON PINTURA DE ZINC, 2 VÁLVULAS DE BOLA ROSCADA Ø1/2" ROSCA GAS, 1 TE ROSCADA DE H.G. Ø1/2" ,2 CODO 90º DE H.G. Ø1/2" Y ENLACES ROSCADOS DE UNION, MONTAJE Y PRUEBAS.
A39: U010101 | B39: Partida | C39: UD | D39: PUNTO DE TOMA DE MUESTRAS CON MANÓMETRO | E39: 1 | G39: =ROUND(E39*F39*1,2) -> 0
D40: PUNTO DE TOMA DE MUESTRA DE AGUA CON MANOMETRO ESTANCO, GRADUADO SEGÚN NECESIDAD HASTA 40 KG/CM2 CON ESFERA DE 100 MM DE DIAMETRO LLENA DE GLICERINA O ACEITE DE VASELINA CLASE 1 DE EXACTITUD. LA UNIDAD INCLUYE PICAJE ROSCADO DE ACERO REALIZADO SOBRE CARRETE DE ACERO, INCLUSO SOLDADURA Y PROTECCIÓN GALVANIZADA O CON PINTURA DE ZINC, 2 VÁLVULAS DE BOLA ROSCADA Ø1/2" ROSCA GAS, 1 TE ROSCADA DE H.G. Ø1/2" ,1 CODO 90º DE H.G. Ø1/2" Y ENLACES ROSCADOS DE UNION, MONTAJE Y PRUEBAS.
...
