Workbook
Name _Toc508798278: 'LOTE 1'!$A$97
Name _Toc508798278: 'LOTE 2'!$A$97
Name _Toc508798280: 'LOTE 1'!#REF!
Name _Toc508798280: 'LOTE 2'!#REF!
Name _Toc508798281: 'LOTE 1'!#REF!
Name _Toc508798281: 'LOTE 2'!#REF!

Sheet LOTE 1
A1: PRESUPUESTOS PARCIALES. GRUPO I
A3: Renovación del Edificio de Reactivos de Venta Alta
A4: Descripción | B4: Importe
A5: 1. Redacción de Proyecto | B5: 275000
A6: 2. Redacción y actualización BEP | B6: 7500
A7: 3. Toma de datos, gestión, integración y modelado de las instalaciones existentes (incluye trabajos topográficos) | B7: 55000
A8: 4. Modelado de las obras a proyectar | B8: 61000
A9: 5. Integración de disciplinas y coordinación | B9: 21000
A10: 6. Diseño, creación y mantenimiento del modelo integrador | B10: 7500
A11: 7. Trabajo de reconocimiento geotécnico | B11: Según Precios Unitarios
A12: TOTAL PROYECTO | B12: =SUM(B5:B11) -> 427000
A15: PRESUPUESTOS PARCIALES. GRUPO II y III
A16: Descripción | B16: Ud. | C16: Precio | D16: Importe
A17: 1.- TRABAJOS TOPOGRÁFICOS
A18: 1. Ha. de levantamiento de plano taquimétrico del terreno a escala 1/500, incluyendo enlace a la red geodésica, bases de replanteo, coordenadas UTM, nivelación geométrica, obtención de datos de redes de servicios existentes y elementos que definan el plano parcelario. | B18: 10 | C18: 850 | D18: =+B18*C18 -> 8500
A19: 2. Ud. Media jornada de equipo de topografía con equipo laser digital para obtención de la nube de puntos con una resolución mínima establecida en este Pliego y fotografía 360º en calidad HDR, de todos los elementos, tanto interiores como exteriores, de infraestructuras hidráulicas, incluso el enlace con la red topográfica y la unión de nubes parciales realizadas desde los distintos estacionamientos (hasta 15 estacionamientos en el mismo emplazamiento) | B19: 5 | C19: 1900 | D19: =+B19*C19 -> 9500
A20: 3. Ud. Jornada de equipo de topografía con equipo laser digital para obtención de la nube de puntos con una resolución mínima establecida en este Pliego y fotografía 360º en calidad HDR, de todos los elementos, tanto interiores como exteriores, de infraestructuras hidráulicas, incluso el enlace con la red topográfica y la unión de nubes parciales realizadas desde los distintos estacionamientos (hasta 30 estacionamientos en el mismo emplazamiento) | B20: 3 | C20: 3100 | D20: =+B20*C20 -> 9300
A21: 4. Ud. de estacionamiento de laser digital para obtención de la nube de puntos con una resolución mínima establecida en este Pliego y fotografía 360º en calidad HDR, de todos los elementos, tanto interiores como exteriores, de infraestructuras hidráulicas, incluso el enlace con la red topográfica y la unión de nubes parciales realizadas desde los distintos estacionamientos (Emplazamientos que necesitan entre 90 y 250 estacionamientos) | B21: 200 | C21: 100 | D21: =+B21*C21 -> 20000
A22: 5. Ud. de estacionamiento de laser digital para obtención de la nube de puntos con una resolución mínima establecida en este Pliego y fotografía 360º en calidad HDR, de todos los elementos, tanto interiores como exteriores, de infraestructuras hidráulicas, incluso el enlace con la red topográfica y la unión de nubes parciales realizadas desde los distintos estacionamientos (Emplazamientos que necesitan entre 250 y 500 estacionamientos) | B22: 400 | C22: 85 | D22: =+B22*C22 -> 34000
A23: 6. Ud. de estacionamiento de laser digital para obtención de la nube de puntos con una resolución mínima establecida en este Pliego y fotografía 360º en calidad HDR, de todos los elementos, tanto interiores como exteriores, de infraestructuras hidráulicas, incluso el enlace con la red topográfica y la unión de nubes parciales realizadas desde los distintos estacionamientos (Emplazamientos que necesitan más de 500 estacionamientos) | B23: 600 | C23: 70 | D23: =+B23*C23 -> 42000
A24: 7. Hora de equipo de topografía (incluyendo todos los medios y equipos necesarios) | B24: 150 | C24: 60 | D24: =+B24*C24 -> 9000
A25: 8. Día de equipo de topografía (incluyendo todos los medios y equipos necesarios) | B25: 10 | C25: 400 | D25: =+B25*C25 -> 4000
A26: 9. Hora de topógrafo/a | B26: 100 | C26: 42 | D26: =+B26*C26 -> 4200
A27: 10. Hora de ayudante de topografía | B27: 50 | C27: 30 | D27: =+B27*C27 -> 1500
A28: TOTAL TRABAJOS TOPOGRÁFICOS | D28: =SUM(D18:D27) -> 142000
A30: 2.- RECONOCIMIENTO GEOLÓGICO-GEOTÉCNICO e INSPECCION DE ESTRUCTURAS
A31: 1. Ud. abono fijo por transporte de cada equipo de sondeos al área de trabajo. | B31: 1 | C31: 1100 | D31: =+B31*C31 -> 1100
A32: 2. Ud. emplazamiento de equipo en cada punto de sondeo que no precise preparación previa del terreno, con medios auxiliares. | B32: 3 | C32: 140 | D32: =+B32*C32 -> 420
A33: 3. MI. perforación a rotación en rellenos o suelos, con diámetros comerciales hasta ϕ<120 mm con extracción continua de testigo ϕ>70 mm. | B33: 50 | C33: 80 | D33: =+B33*C33 -> 4000
A34: 4. MI. perforación a rotación o rotopercusión, con diámetros comerciales ϕ<120 mm. En gravas-bolos. | B34: 12 | C34: 150 | D34: =+B34*C34 -> 1800
A35: 5. MI. perforación a rotación, con diámetros comerciales ϕ<120 mm. en roca de dureza media (perforación con widia), con extracción de testigo ϕ> 70 mm. | B35: 1 | C35: 150 | D35: =+B35*C35 -> 150
A36: 6. MI. perforación a rotación con diámetros comerciales ϕ<120 mm., en rocas de gran dureza (perforación con corona de diamantes), con extracción continua de testigo. | B36: 5 | C36: 200 | D36: =+B36*C36 -> 1000
A37: 7. MI. suplemento por perforación con extracción continua de testigo, en cualquier tipo de terreno, entre 25 y 50 m. de profundidad. | B37: 50 | C37: 18 | D37: =+B37*C37 -> 900
A38: 8. MI. suplemento por perforación con extracción continua de testigo, en cualquier tipo de terreno, entre 50 y 100 m. de profundidad. | B38: 1 | C38: 32 | D38: =+B38*C38 -> 32
A39: 9. MI. suplemento por perforación continua de testigo, en cualquier tipo de terreno, inclinada, para cualquier inclinación. | B39: 1 | C39: 27 | D39: =+B39*C39 -> 27
A40: 10 Ud. toma de muestra inalterada con tomamuestras de tipo abierto. | B40: 30 | C40: 52 | D40: =+B40*C40 -> 1560
A41: 11. Ud. ensayo SPT. | B41: 30 | C41: 52 | D41: =+B41*C41 -> 1560
A42: 12. Ud. testigo parafinado de más de 35 cm. de longitud y ϕ>70 mm. | B42: 3 | C42: 27 | D42: =+B42*C42 -> 81
... A95: 65. Ud. Informe de actividades realizadas, exponiendo la metodología llevada a cabo para la realización de las inspecciones y ensayos, el análisis de los resultados obtenidos y las conclusiones alcanzadas. El informe proporcionará la información necesaria en cuanto a calidades de los materiales, valor de la resistencia característica del homigón in situ (fck,is) y calidad del acero, así como los esquemas de armado de las secciones críticas de los elementos principales de la estructura, de cara al cálculo de las reformas previstas. | B95: 1 | C95: 4500 | D95: =+B95*C95 -> 4500
A96: TOTAL TRABAJOS GEOLÓGICOS-GEOTÉCNICOS | D96: =SUM(D31:D95) -> 69257
...

Sheet LOTE 2
A1: PRESUPUESTOS PARCIALES. GRUPO I
A3: Ampliación y mejora ETAP de Gorosika (Ondarroa)
A4: Descripción | B4: Importe
A5: 1. Redacción de Proyecto | B5: 235000
A6: 2. Redacción y actualización BEP | B6: 7500
A7: 3. Toma de datos, gestión, integración y modelado de las instalaciones existentes (incluye trabajos topográficos) | B7: 55000
A8: 4. Modelado de las obras a proyectar | B8: 41000
A9: 5. Integración de disciplinas y coordinación | B9: 21000
A10: 6. Diseño, creación y mantenimiento del modelo integrador | B10: 7500
A11: 7. Trabajo de reconocimiento geotécnico | B11: Según Precios Unitarios
A12: TOTAL PROYECTO | B12: =SUM(B5:B11) -> 367000
A15: PRESUPUESTOS PARCIALES. GRUPO II y III
A16: Descripción | B16: Ud. | C16: Precio | D16: Importe
A17: 1.- TRABAJOS TOPOGRÁFICOS
A18: 1. Ha. de levantamiento de plano taquimétrico del terreno a escala 1/500, incluyendo enlace a la red geodésica, bases de replanteo, coordenadas UTM, nivelación geométrica, obtención de datos de redes de servicios existentes y elementos que definan el plano parcelario. | B18: 10 | C18: 850 | D18: =+B18*C18 -> 8500
A19: 2. Ud. Media jornada de equipo de topografía con equipo laser digital para obtención de la nube de puntos con una resolución mínima establecida en este Pliego y fotografía 360º en calidad HDR, de todos los elementos, tanto interiores como exteriores, de infraestructuras hidráulicas, incluso el enlace con la red topográfica y la unión de nubes parciales realizadas desde los distintos estacionamientos (hasta 15 estacionamientos en el mismo emplazamiento) | B19: 5 | C19: 1900 | D19: =+B19*C19 -> 9500
A20: 3. Ud. Jornada de equipo de topografía con equipo laser digital para obtención de la nube de puntos con una resolución mínima establecida en este Pliego y fotografía 360º en calidad HDR, de todos los elementos, tanto interiores como exteriores, de infraestructuras hidráulicas, incluso el enlace con la red topográfica y la unión de nubes parciales realizadas desde los distintos estacionamientos (hasta 30 estacionamientos en el mismo emplazamiento) | B20: 3 | C20: 3100 | D20: =+B20*C20 -> 9300
A21: 4. Ud. de estacionamiento de laser digital para obtención de la nube de puntos con una resolución mínima establecida en este Pliego y fotografía 360º en calidad HDR, de todos los elementos, tanto interiores como exteriores, de infraestructuras hidráulicas, incluso el enlace con la red topográfica y la unión de nubes parciales realizadas desde los distintos estacionamientos (Emplazamientos que necesitan entre 90 y 250 estacionamientos) | B21: 200 | C21: 100 | D21: =+B21*C21 -> 20000
A22: 5. Ud. de estacionamiento de laser digital para obtención de la nube de puntos con una resolución mínima establecida en este Pliego y fotografía 360º en calidad HDR, de todos los elementos, tanto interiores como exteriores, de infraestructuras hidráulicas, incluso el enlace con la red topográfica y la unión de nubes parciales realizadas desde los distintos estacionamientos (Emplazamientos que necesitan entre 250 y 500 estacionamientos) | B22: 400 | C22: 85 | D22: =+B22*C22 -> 34000
A23: 6. Ud. de estacionamiento de laser digital para obtención de la nube de puntos con una resolución mínima establecida en este Pliego y fotografía 360º en calidad HDR, de todos los elementos, tanto interiores como exteriores, de infraestructuras hidráulicas, incluso el enlace con la red topográfica y la unión de nubes parciales realizadas desde los distintos estacionamientos (Emplazamientos que necesitan más de 500 estacionamientos) | B23: 600 | C23: 70 | D23: =+B23*C23 -> 42000
A24: 7. Hora de equipo de topografía (incluyendo todos los medios y equipos necesarios) | B24: 150 | C24: 60 | D24: =+B24*C24 -> 9000
A25: 8. Día de equipo de topografía (incluyendo todos los medios y equipos necesarios) | B25: 10 | C25: 400 | D25: =+B25*C25 -> 4000
A26: 9. Hora de topógrafo/a | B26: 100 | C26: 42 | D26: =+B26*C26 -> 4200
A27: 10. Hora de ayudante de topografía | B27: 50 | C27: 30 | D27: =+B27*C27 -> 1500
A28: TOTAL TRABAJOS TOPOGRÁFICOS | D28: =SUM(D18:D27) -> 142000
A30: 2.- RECONOCIMIENTO GEOLÓGICO-GEOTÉCNICO e INSPECCION DE ESTRUCTURAS
A31: 1. Ud. abono fijo por transporte de cada equipo de sondeos al área de trabajo. | B31: 1 | C31: 1100 | D31: =+B31*C31 -> 1100
A32: 2. Ud. emplazamiento de equipo en cada punto de sondeo que no precise preparación previa del terreno, con medios auxiliares. | B32: 3 | C32: 140 | D32: =+B32*C32 -> 420
A33: 3. MI. perforación a rotación en rellenos o suelos, con diámetros comerciales hasta ϕ<120 mm con extracción continua de testigo ϕ>70 mm. | B33: 50 | C33: 80 | D33: =+B33*C33 -> 4000
A34: 4. MI. perforación a rotación o rotopercusión, con diámetros comerciales ϕ<120 mm. En gravas-bolos. | B34: 12 | C34: 150 | D34: =+B34*C34 -> 1800
A35: 5. MI. perforación a rotación, con diámetros comerciales ϕ<120 mm. en roca de dureza media (perforación con widia), con extracción de testigo ϕ> 70 mm. | B35: 1 | C35: 150 | D35: =+B35*C35 -> 150
A36: 6. MI. perforación a rotación con diámetros comerciales ϕ<120 mm., en rocas de gran dureza (perforación con corona de diamantes), con extracción continua de testigo. | B36: 5 | C36: 200 | D36: =+B36*C36 -> 1000
A37: 7. MI. suplemento por perforación con extracción continua de testigo, en cualquier tipo de terreno, entre 25 y 50 m. de profundidad. | B37: 50 | C37: 18 | D37: =+B37*C37 -> 900
A38: 8. MI. suplemento por perforación con extracción continua de testigo, en cualquier tipo de terreno, entre 50 y 100 m. de profundidad. | B38: 1 | C38: 32 | D38: =+B38*C38 -> 32
A39: 9. MI. suplemento por perforación continua de testigo, en cualquier tipo de terreno, inclinada, para cualquier inclinación. | B39: 1 | C39: 27 | D39: =+B39*C39 -> 27
A40: 10 Ud. toma de muestra inalterada con tomamuestras de tipo abierto. | B40: 30 | C40: 52 | D40: =+B40*C40 -> 1560
A41: 11. Ud. ensayo SPT. | B41: 30 | C41: 52 | D41: =+B41*C41 -> 1560
A42: 12. Ud. testigo parafinado de más de 35 cm. de longitud y ϕ>70 mm. | B42: 3 | C42: 27 | D42: =+B42*C42 -> 81
... A95: 65. Ud. Informe de actividades realizadas, exponiendo la metodología llevada a cabo para la realización de las inspecciones y ensayos, el análisis de los resultados obtenidos y las conclusiones alcanzadas. El informe proporcionará la información necesaria en cuanto a calidades de los materiales, valor de la resistencia característica del homigón in situ (fck,is) y calidad del acero, así como los esquemas de armado de las secciones críticas de los elementos principales de la estructura, de cara al cálculo de las reformas previstas. | B95: 1 | C95: 4500 | D95: =+B95*C95 -> 4500
A96: TOTAL TRABAJOS GEOLÓGICOS-GEOTÉCNICOS | D96: =SUM(D31:D95) -> 69257
...

Sheet LOTES
A1: PRESUPUESTO BASE DE LICITACIÓN | B1: Importe
A2: LOTE 1. ZONA OESTE
A3: 0. Renovación del Edificio de Reactivos de Venta Alta | B3: =+'LOTE 1'!B12 -> 427000
A4: 1. TRABAJOS TOPOGRÁFICOS | B4: =+'LOTE 1'!D28 -> 142000
A5: 2. RECONOCIMIENTO GEOLÓGICO-GEOTÉCNICO e INSPECCION DE ESTRUCTURAS | B5: =+'LOTE 1'!D96 -> 69257
A6: 3. REDACCION DE ESTUDIOS Y PROYECTOS | B6: =+'LOTE 1'!D110 -> 684250
A7: 4. DIRECCION DE OBRA | B7: =+'LOTE 1'!D125 -> 355660
A8: 5. ENCUADERNACION Y EDICION | B8: =+'LOTE 1'!D133 -> 10920
A9: TOTAL LOTE 1 | B9: =SUM(B3:B8) -> 1689087
A10: LOTE 2. ZONA ESTE
A11: 0. Ampliación y mejora ETAP de Gorosika (Ondarroa) | B11: =+'LOTE 2'!B12 -> 367000
A12: 1. TRABAJOS TOPOGRÁFICOS | B12: =+'LOTE 2'!D28 -> 142000
A13: 2. RECONOCIMIENTO GEOLÓGICO-GEOTÉCNICO e INSPECCION DE ESTRUCTURAS | B13: =+'LOTE 2'!D96 -> 69257
A14: 3. REDACCION DE ESTUDIOS Y PROYECTOS | B14: =+'LOTE 2'!D110 -> 684250
A15: 4. DIRECCION DE OBRA | B15: =+'LOTE 2'!D125 -> 355660
A16: 5. ENCUADERNACION Y EDICION | B16: =+'LOTE 2'!D133 -> 10920
A17: TOTAL LOTE 2 | B17: =SUM(B11:B16) -> 1629087
A20: TOTAL PRESUPUESTO BASE DE LICITACIÓN (IVA EXCLUIDO) | B20: Importe
A21: LOTE 1. ZONA OESTE | B21: =+B9 -> 1689087
A22: LOTE 2. ZONA ESTE | B22: =+B17 -> 1629087
A23: TOTAL PRESUPUESTO BASE DE LICITACIÓN (IVA EXCLUIDO) | B23: =+B22+B21 -> 3318174
