Workbook

Sheet Resumen Contratista
B2: RESUMEN
B4: ='Partidas a rellenar'!D3 -> GESTION DE RESIDUOS | E4: ='Partidas a rellenar'!G3 -> 0
B5: ='Partidas a rellenar'!D16 -> DEMOLICIONES, DESBROCE Y TALAS | E5: ='Partidas a rellenar'!G16 -> 0
B6: ='Partidas a rellenar'!D19 -> MOVIMIENTO DE TIERRAS Y DEMOLICIONES | E6: ='Partidas a rellenar'!G19 -> 0
B7: ='Partidas a rellenar'!D30 -> RELLENOS Y OTROS | E7: ='Partidas a rellenar'!G30 -> 0
B8: ='Partidas a rellenar'!D53 -> BANDA DE SEÑALIZACION | E8: ='Partidas a rellenar'!G53 -> 0
B9: ='Partidas a rellenar'!D56 -> ESTRUCTURAS | E9: ='Partidas a rellenar'!G56 -> 0
B10: ='Partidas a rellenar'!D79 -> ARQUETAS, TAPAS, SUMIDEROS Y ELEMENTOS INT. | E10: ='Partidas a rellenar'!G79 -> 0
B11: ='Partidas a rellenar'!D112 -> SUB-BASES Y MBC Y UNIDADES DE URBANIZACION | E11: ='Partidas a rellenar'!G112 -> 0
B12: ='Partidas a rellenar'!D135 -> IMPERMEABILIZACIONES | E12: ='Partidas a rellenar'!G135 -> 0
B13: ='Partidas a rellenar'!D150 -> TUBERÍA FUNDICIÓN DUCTIL | E13: ='Partidas a rellenar'!G150 -> 0
B14: ='Partidas a rellenar'!D235 -> PIECERÍO FUNDICION DUCTIL | E14: ='Partidas a rellenar'!G235 -> 0
B15: ='Partidas a rellenar'!D418 -> UNIONES CONTRATRACCION Y MANGAS POLIETILENO | E15: ='Partidas a rellenar'!G418 -> 0
B16: ='Partidas a rellenar'!D485 -> TUBERIA POLIETILENO A.D | E16: ='Partidas a rellenar'!G485 -> 0
B17: ='Partidas a rellenar'!D518 -> PIECERIO POLIETILENO A.D. | E17: ='Partidas a rellenar'!G518 -> 0
B18: ='Partidas a rellenar'!D589 -> TUBERÍA DE POLIETILENO REFORZADO | E18: ='Partidas a rellenar'!G589 -> 0
B19: ='Partidas a rellenar'!D602 -> CODO E-E F.D. PARA TUBO PEAD | E19: ='Partidas a rellenar'!G602 -> 0
B20: ='Partidas a rellenar'!D611 -> "T" F.D. E-E-E TUBERIAS PEAD | E20: ='Partidas a rellenar'!G611 -> 0
B21: ='Partidas a rellenar'!D630 -> T REDUCTOR F.D. E-B-E TUB. PEAD | E21: ='Partidas a rellenar'!G630 -> 0
B22: ='Partidas a rellenar'!D649 -> ENLACES ROSCA LATÓN | E22: ='Partidas a rellenar'!G649 -> 0
B23: ='Partidas a rellenar'!D658 -> CODOS LATÓN | E23: ='Partidas a rellenar'!G658 -> 0
B24: ='Partidas a rellenar'!D665 -> ACOMETIDAS DOMICILIARIAS | E24: ='Partidas a rellenar'!G665 -> 0
B25: ='Partidas a rellenar'!D690 -> VALVULAS DE COMPUERTA | E25: ='Partidas a rellenar'!G690 -> 0
B26: ='Partidas a rellenar'!D709 -> VALVULAS DE MARIPOSA | E26: ='Partidas a rellenar'!G709 -> 0
B27: ='Partidas a rellenar'!D728 -> VALVULAS DE RETENCIÓN | E27: ='Partidas a rellenar'!G728 -> 0
B28: ='Partidas a rellenar'!D745 -> VALVULAS DE RETENCION AXIAL | E28: ='Partidas a rellenar'!G745 -> 0
B29: ='Partidas a rellenar'!D756 -> VALVULAS DE FLOTADOR DE ALTITUD | E29: ='Partidas a rellenar'!G756 -> 0
B30: ='Partidas a rellenar'!D759 -> VALVULAS DE BOYA | E30: ='Partidas a rellenar'!G759 -> 0
B31: ='Partidas a rellenar'!D762 -> VALVULA REDUCTORA PRESION CON VALVULA PILOTO | E31: ='Partidas a rellenar'!G762 -> 0
B32: ='Partidas a rellenar'!D781 -> VALVULAS REDUCTORAS DE PRESION ACCION DIRECTA | E32: ='Partidas a rellenar'!G781 -> 0
B33: ='Partidas a rellenar'!D794 -> VENTOSA DOBLE BOLA SIN VÁLVULA | E33: ='Partidas a rellenar'!G794 -> 0
B34: ='Partidas a rellenar'!D809 -> VENTOSA DOBLE BOLA CON VÁLVULA ASIENTO | E34: ='Partidas a rellenar'!G809 -> 0
B35: ='Partidas a rellenar'!D826 -> CARRETES DE DESMONTAJE Y ADAPTADORES | E35: ='Partidas a rellenar'!G826 -> 0
B36: ='Partidas a rellenar'!D859 -> CONTADOR DE CHORRO MÚLTIPLE | E36: ='Partidas a rellenar'!G859 -> 0
B37: ='Partidas a rellenar'!D866 -> CONTADOR TIPO WOLTMAN | E37: ='Partidas a rellenar'!G866 -> 0
B38: ='Partidas a rellenar'!D879 -> CONTADOR ULTRASONICO | E38: ='Partidas a rellenar'!G879 -> 0
B39: ='Partidas a rellenar'!D892 -> CONTADOR ELECTROMAGNÉTICO | E39: ='Partidas a rellenar'!G892 -> 0
B40: ='Partidas a rellenar'!D905 -> VÁLVULAS DE ESFERA CUADRADILLO | E40: ='Partidas a rellenar'!G905 -> 0
B41: ='Partidas a rellenar'!D914 -> JUNTA ANTIVIBRATORIAS | E41: ='Partidas a rellenar'!G914 -> 0
B42: ='Partidas a rellenar'!D923 -> MANOMETROS ESTANCOS | E42: ='Partidas a rellenar'!G923 -> 0
...

Sheet Partidas a rellenar
A1: Presupuesto
A2: Código | B2: Nat | C2: Ud | D2: Resumen | E2: CanPres | F2: Pres | G2: ImpPres
A3: A00-LER | B3: Capítulo | D3: GESTION DE RESIDUOS | G3: =SUM(G4:G14) -> 0
A4: 170504 | B4: Partida | C4: Tn | D4: RETIRADA TIERRAS Y ROCAS NO CONTAMINADAS | E4: 40 | G4: =ROUND(E4*F4*1,2) -> 0
D5: RETIRADA DE TIERRAS Y ROCAS NO CONTAMINADAS
A6: 170505 | B6: Partida | C6: Tn | D6: RETIRADA LODOS DE DRENAJE C/SUSTANCIAS PELIGROSAS | E6: 10 | G6: =ROUND(E6*F6*1,2) -> 0
D7: RETIRADA DE LODOS DE DRENAJE QUE CONTIENEN SUSTANCIAS PELIGROSAS
A8: 170506 | B8: Partida | C8: Tn | D8: RETIRADA LODOS DE DRENAJE DISTINTOS 170505 | E8: 2 | G8: =ROUND(E8*F8*1,2) -> 0
D9: RETIRADA DE LODOS DE DRENAJE DISTINTOS DE LOS ESPECIFICADOS EN EL CÓDIGO 17.05.05
A10: 170605 | B10: Partida | C10: Tn | D10: RETIRADA MATERIALES QUE CONTIENEN AMIANTO | E10: 2 | G10: =ROUND(E10*F10*1,2) -> 0
D11: RETIRADA DE MATERIALES DE CONSTRUCCIÓN QUE CONTIENEN AMIANTO
A12: 170904_1 | B12: Partida | C12: Tn | D12: RETIRADA DE OTROS RESIDUOS DE CONSTRUCCIÓN Y DEMOLICIÓN MÁX 10% | E12: 2 | G12: =ROUND(E12*F12*1,2) -> 0
D13: RETIRADA DE OTROS RESIDUOS MEZCLADOS DE CONSTRUCCIÓN Y DEMOLICIÓN DISTINTOS DE LOS ESPECIFICADOS EN LOS CÓDIGOS 17.09.02 Y 17.09.03 CON 10% MÁXIMO DE PLÁSTICO, MADERA, YESO
A14: P98 | B14: Partida | C14: UD | D14: CONTENEDOR | E14: 2 | G14: =ROUND(E14*F14*1,2) -> 0
D15: CONTENEDOR EN OBRA PARA LA RETIRADA DE RESIDUOS, DURANTE TODA LA DURACIÓN DE LA OBRA.
A16: U0200 | B16: Capítulo | D16: DEMOLICIONES, DESBROCE Y TALAS | G16: =SUM(G17) -> 0
A17: U020000 | B17: Partida | C17: M2 | D17: DESPEJE Y DESBROCE | E17: 12000 | G17: =ROUND(E17*F17*1,2) -> 0
D18: DESPEJE Y DESBROCE POR MEDIOS MECANICOS Y/O MANUALES INCLUSO CARGA, TRANSPORTE Y VERTIDO EN OBRA.
A19: U0400 | B19: Capítulo | D19: MOVIMIENTO DE TIERRAS Y DEMOLICIONES | G19: =SUM(G20:G28) -> 0
A20: U040000 | B20: Partida | C20: M3 | D20: EXCAVACION DE TIERRA VEGETAL | E20: 11000 | G20: =ROUND(E20*F20*1,2) -> 0
D21: EXCAVACION DE TIERRA VEGETAL CON ACOPIO EN OBRA, INCLUYENDO CARGA, TRANSPORTE DENTRO DE LA OBRA Y DESCARGA.
A22: U040100 | B22: Partida | C22: M3 | D22: EXCAVACION CIELO ABIERTO SUELTO | E22: 11000 | G22: =ROUND(E22*F22*1,2) -> 0
D23: EXCAVACION A CIELO ABIERTO EN TERRENO SUELTO, INCLUSO AGOTAMIENTO, .
A24: U0XXXXX | B24: Partida | C24: M2 | D24: DEMOLICIÓN DE PAVIMENTO DE HORMIGÓN Y/O ASFALTADO | E24: 2000 | G24: =ROUND(E24*F24*1,2) -> 0
D25: DEMOLICIÓN DE PAVIMENTO DE HORMIGÓN Y/O ASFALTO HASTA 15 CMS DE ESPESOR, TRANSPORTE DENTRO DE LA OBRA Y DESCARGA
A26: U041100 | B26: Partida | C26: UD | D26: CATA LOCALIZACION DE SERVICIOS | E26: 50 | G26: =ROUND(E26*F26*1,2) -> 0
D27: CATA PARA LA LOCALIZACION DE SERVICIOS, ESTRUCTURAS E INSTALACIONES EXISTENTES EN CUALQUIER LUGAR Y ZONA DE LA OBRA HASTA UNA PROFUNDIDAD DE 2 M. POR MEDIOS MECANICOS Y MANUALES, INCLUSO POSTERIOR RELLENO.
A28: U041301 | B28: Partida | C28: M3 | D28: CARGA Y TRANSPORTE A VERTEDERO | E28: 24000 | G28: =ROUND(E28*F28*1,2) -> 0
D29: CARGA Y TRANSPORTE A VERTEDERO DE PRODUCTOS PROCEDENTES DE EXCAVACIONES Y/O DEMOLICIONES .
A30: U0500 | B30: Capítulo | D30: RELLENOS Y OTROS | G30: =SUM(G31:G51) -> 0
A31: U090001 | B31: Partida | C31: M3 | D31: RELLENO DE ZANJA CON MATERIAL EXCAVACION | E31: 3000 | G31: =ROUND(E31*F31*1,2) -> 0
D32: RELLENO DE ZANJA CON MATERIAL ADECUADO PROCEDENTE DE LA EXCAVACION, INCLUSO EXTENDIDO Y COMPACTACION MECANICA AL 95 % PROCTOR MODIFICADO.
A33: U090002 | B33: Partida | C33: M3 | D33: RELLENO DE ZANJA CON MATERIAL ZAHORRA | E33: 3000 | G33: =ROUND(E33*F33*1,2) -> 0
D34: RELLENO DE ZANJA CON MATERIAL DE PRESTAMO CALIDAD TIPO ZAHORRA, INCLUSO EXTENDIDO Y COMPACTACION.
A35: U090003 | B35: Partida | C35: M3 | D35: RELLENO DE ZANJA CON ARENA | E35: 1000 | G35: =ROUND(E35*F35*1,2) -> 0
D36: RELLENO DE ZANJA CON ARENA CALIZA TIPO A-5 SEGUN EL PLIEGO PARA ASIENTO Y/O PROTECCION DE TUBERIAS, INCLUSO EXTENDIDO Y COMPACTACION.
A37: U090004 | B37: Partida | C37: M3 | D37: RELLENO DE ZANJA CON GRAVA | E37: 1000 | G37: =ROUND(E37*F37*1,2) -> 0
D38: RELLENO DE ZANJA CON GRAVA TIPO A-20 S/PLIEGO PARA ASIENTO Y/O PROTECCION DE TUBERIAS INCLUSO EXTENDIDO Y COMPACTACION.
A39: U090005 | B39: Partida | C39: M2 | D39: RELLENO DE ZANJA TIERRA VEGETAL | E39: 1000 | G39: =ROUND(E39*F39*1,2) -> 0
D40: RELLENO DE ZANJA CON TIERRA VEGETAL PROCEDENTE DE LA OBRA, EXTENDIDA EN CAPA DE 0.30 M, QUE INCLUYE EXTENDIDO, REFINO, ARADO CON MOTOCULTOR, LABOREO Y RASTRILLADO.
...
