Workbook

Sheet Resumen Contratista
B2: ='Partidas Contratista'!D3 -> GESTION DE RESIDUOS | E2: ='Partidas Contratista'!G3 -> 0
B3: ='Partidas Contratista'!D16 -> DEMOLICIONES, DESBROCE Y TALAS | E3: ='Partidas Contratista'!G16 -> 0
B4: ='Partidas Contratista'!D19 -> MOVIMIENTO DE TIERRAS Y DEMOLICIONES | E4: ='Partidas Contratista'!G19 -> 0
B5: ='Partidas Contratista'!D30 -> RELLENOS Y OTROS | E5: ='Partidas Contratista'!G30 -> 0
B6: ='Partidas Contratista'!D43 -> ESTRUCTURAS | E6: ='Partidas Contratista'!G43 -> 0
B7: ='Partidas Contratista'!D56 -> ARQUETAS, TAPAS, SUMIDEROS Y ELEMENTOS INT. | E7: ='Partidas Contratista'!G56 -> 0
B8: ='Partidas Contratista'!D89 -> SUB-BASES Y MBC Y UNIDADES DE URBANIZACION | E8: ='Partidas Contratista'!G89 -> 0
B9: ='Partidas Contratista'!D104 -> IMPERMEABILIZACIONES | E9: ='Partidas Contratista'!G104 -> 0
B10: ='Partidas Contratista'!D113 -> TUBERÍA FUNDICIÓN DUCTIL | E10: ='Partidas Contratista'!G113 -> 0
B11: ='Partidas Contratista'!D130 -> PIECERÍO FUNDICION DUCTIL | E11: ='Partidas Contratista'!G130 -> 0
B12: ='Partidas Contratista'!D205 -> TUBERIA POLIETILENO A.D | E12: ='Partidas Contratista'!G205 -> 0
B13: ='Partidas Contratista'!D224 -> VALVULAS DE COMPUERTA | E13: ='Partidas Contratista'!G224 -> 0
B14: ='Partidas Contratista'!D245 -> VALVULAS DE RETENCIÓN | E14: ='Partidas Contratista'!G245 -> 0
B15: ='Partidas Contratista'!D264 -> VALVULA REDUCTORA PRESION CON VALVULA PILOTO | E15: ='Partidas Contratista'!G264 -> 0
B16: ='Partidas Contratista'!D280 -> VALVULAS REDUCTORAS DE PRESION ACCION DIRECTA | E16: ='Partidas Contratista'!G280 -> 0
B17: ='Partidas Contratista'!D293 -> VALVULAS SOSTENEDORA DE PRESIÓN | E17: ='Partidas Contratista'!G293 -> 0
B18: ='Partidas Contratista'!D300 -> VALVULAS LIMITADORAS DE CAUDAL | E18: ='Partidas Contratista'!G300 -> 0
B19: ='Partidas Contratista'!D307 -> VENTOSA DOBLE BOLA SIN VÁLVULA | E19: ='Partidas Contratista'!G307 -> 0
B20: ='Partidas Contratista'!D322 -> VENTOSA DOBLE BOLA CON VÁLVULA ASIENTO | E20: ='Partidas Contratista'!G322 -> 0
B21: ='Partidas Contratista'!D339 -> VÁLVULA DE ALIVIO RÁPIDO | E21: ='Partidas Contratista'!G339 -> 0
B22: ='Partidas Contratista'!D352 -> VÁLVULA ANTICIPADORA DE ONDA | E22: ='Partidas Contratista'!G352 -> 0
B23: ='Partidas Contratista'!D365 -> CARRETES DE DESMONTAJE Y ADAPTADORES | E23: ='Partidas Contratista'!G365 -> 0
B24: ='Partidas Contratista'!D382 -> CONTADOR DE CHORRO MÚLTIPLE | E24: ='Partidas Contratista'!G382 -> 0
B25: ='Partidas Contratista'!D389 -> CONTADOR TIPO WOLTMAN | E25: ='Partidas Contratista'!G389 -> 0
B26: ='Partidas Contratista'!D402 -> CONTADOR ELECTROMAGNÉTICO | E26: ='Partidas Contratista'!G402 -> 0
B27: ='Partidas Contratista'!D409 -> FILTROS | E27: ='Partidas Contratista'!G409 -> 0
B28: ='Partidas Contratista'!D432 -> MANOMETROS ESTANCOS | E28: ='Partidas Contratista'!G432 -> 0
B29: ='Partidas Contratista'!D435 -> SIEMBRA Y PLANTACIONES | E29: ='Partidas Contratista'!G435 -> 0
B30: ='Partidas Contratista'!D440 -> DESMONTAJE VALVULAS REGULADORAS ACTUALES | E30: ='Partidas Contratista'!G440 -> 0
B31: ='Partidas Contratista'!D443 -> INGENIERIA | E31: ='Partidas Contratista'!G443 -> 0
B33: PRESUPUESTO DE EJECUCIÓN MATERIAL | E33: =SUM(E2:E31) -> 0
B35: Gastos generales | C35: 0.06 | E35: =E33*0.06 -> 0
B36: Beneficio industrial | C36: 0.13 | E36: =E33*0.13 -> 0
B38: PRESUPUESTO BASE DE LICITACIÓN SIN IVA | E38: =E33+E35+E36 -> 0
B40: IVA | C40: 0.21 | E40: =E38*0.21 -> 0
B42: PRESUPUESTO BASE DE LICITACIÓN
E43: =E38+E40 -> 0

Sheet Partidas Contratista
A1: Presupuesto
A2: Código | B2: Nat | C2: Ud | D2: Resumen | E2: CanPres | F2: Pres | G2: ImpPres
A3: A00-LER | B3: Capítulo | D3: GESTION DE RESIDUOS | G3: =SUM(G4:G14) -> 0
A4: 170504 | B4: Partida | C4: Tn | D4: RETIRADA TIERRAS Y ROCAS NO CONTAMINADAS | E4: 2000 | G4: =ROUND(E4*F4*1,2) -> 0
D5: RETIRADA DE TIERRAS Y ROCAS NO CONTAMINADAS
A6: 170505 | B6: Partida | C6: Tn | D6: RETIRADA LODOS DE DRENAJE C/SUSTANCIAS PELIGROSAS | E6: 6 | G6: =ROUND(E6*F6*1,2) -> 0
D7: RETIRADA DE LODOS DE DRENAJE QUE CONTIENEN SUSTANCIAS PELIGROSAS
A8: 170506 | B8: Partida | C8: Tn | D8: RETIRADA LODOS DE DRENAJE DISTINTOS 170505 | E8: 6 | G8: =ROUND(E8*F8*1,2) -> 0
D9: RETIRADA DE LODOS DE DRENAJE DISTINTOS DE LOS ESPECIFICADOS EN EL CÓDIGO 17.05.05
A10: 170605 | B10: Partida | C10: Tn | D10: RETIRADA MATERIALES QUE CONTIENEN AMIANTO | E10: 6 | G10: =ROUND(E10*F10*1,2) -> 0
D11: RETIRADA DE MATERIALES DE CONSTRUCCIÓN QUE CONTIENEN AMIANTO
A12: 170904_1 | B12: Partida | C12: Tn | D12: RETIRADA DE OTROS RESIDUOS DE CONSTRUCCIÓN Y DEMOLICIÓN MÁX 10% | E12: 15 | G12: =ROUND(E12*F12*1,2) -> 0
D13: RETIRADA DE OTROS RESIDUOS MEZCLADOS DE CONSTRUCCIÓN Y DEMOLICIÓN DISTINTOS DE LOS ESPECIFICADOS EN LOS CÓDIGOS 17.09.02 Y 17.09.03 CON 10% MÁXIMO DE PLÁSTICO, MADERA, YESO
A14: P98 | B14: Partida | C14: UD | D14: CONTENEDOR | E14: 85 | G14: =ROUND(E14*F14*1,2) -> 0
D15: CONTENEDOR EN OBRA PARA LA RETIRADA DE RESIDUOS, DURANTE TODA LA DURACIÓN DE LA OBRA.
A16: U0200 | B16: Capítulo | D16: DEMOLICIONES, DESBROCE Y TALAS | G16: =SUM(G17:G18) -> 0
A17: U020000 | B17: Partida | C17: M2 | D17: DESPEJE Y DESBROCE | E17: 806.99 | G17: =ROUND(E17*F17*1,2) -> 0
D18: DESPEJE Y DESBROCE POR MEDIOS MECANICOS Y/O MANUALES INCLUSO CARGA, TRANSPORTE Y VERTIDO EN OBRA.
A19: U0400 | B19: Capítulo | D19: MOVIMIENTO DE TIERRAS Y DEMOLICIONES | G19: =SUM(G20:G28) -> 0
A20: U040000 | B20: Partida | C20: M3 | D20: EXCAVACION DE TIERRA VEGETAL | E20: 2400 | G20: =ROUND(E20*F20*1,2) -> 0
D21: EXCAVACION DE TIERRA VEGETAL CON ACOPIO EN OBRA, INCLUYENDO CARGA, TRANSPORTE DENTRO DE LA OBRA Y DESCARGA.
A22: U040100 | B22: Partida | C22: M3 | D22: EXCAVACION CIELO ABIERTO SUELTO | E22: 2400 | G22: =ROUND(E22*F22*1,2) -> 0
D23: EXCAVACION A CIELO ABIERTO EN TERRENO SUELTO, INCLUSO AGOTAMIENTO, .
A24: U0XXXXX | B24: Partida | C24: M2 | D24: DEMOLICIÓN DE PAVIMENTO DE HORMIGÓN Y/O ASFALTADO | E24: 2000 | G24: =ROUND(E24*F24*1,2) -> 0
D25: DEMOLICIÓN DE PAVIMENTO DE HORMIGÓN Y/O ASFALTO HASTA 15 CMS DE ESPESOR, TRANSPORTE DENTRO DE LA OBRA Y DESCARGA
A26: U041100 | B26: Partida | C26: UD | D26: CATA LOCALIZACION DE SERVICIOS | E26: 230 | G26: =ROUND(E26*F26*1,2) -> 0
D27: CATA PARA LA LOCALIZACION DE SERVICIOS, ESTRUCTURAS E INSTALACIONES EXISTENTES EN CUALQUIER LUGAR Y ZONA DE LA OBRA HASTA UNA PROFUNDIDAD DE 2 M. POR MEDIOS MECANICOS Y MANUALES, INCLUSO POSTERIOR RELLENO.
A28: U041301 | B28: Partida | C28: M3 | D28: CARGA Y TRANSPORTE A VERTEDERO | E28: 2980 | G28: =ROUND(E28*F28*1,2) -> 0
D29: CARGA Y TRANSPORTE A VERTEDERO DE PRODUCTOS PROCEDENTES DE EXCAVACIONES Y/O DEMOLICIONES .
A30: U0500 | B30: Capítulo | D30: RELLENOS Y OTROS | G30: =SUM(G31:G42) -> 0
A31: U090001 | B31: Partida | C31: M3 | D31: RELLENO DE ZANJA CON MATERIAL EXCAVACION | E31: 2400 | G31: =ROUND(E31*F31*1,2) -> 0
D32: RELLENO DE ZANJA CON MATERIAL ADECUADO PROCEDENTE DE LA EXCAVACION, INCLUSO EXTENDIDO Y COMPACTACION MECANICA AL 95 % PROCTOR MODIFICADO.
A33: U090002 | B33: Partida | C33: M3 | D33: RELLENO DE ZANJA CON MATERIAL ZAHORRA | E33: 240 | G33: =ROUND(E33*F33*1,2) -> 0
D34: RELLENO DE ZANJA CON MATERIAL DE PRESTAMO CALIDAD TIPO ZAHORRA, INCLUSO EXTENDIDO Y COMPACTACION.
A35: U090003 | B35: Partida | C35: M3 | D35: RELLENO DE ZANJA CON ARENA | E35: 75 | G35: =ROUND(E35*F35*1,2) -> 0
D36: RELLENO DE ZANJA CON ARENA CALIZA TIPO A-5 SEGUN EL PLIEGO PARA ASIENTO Y/O PROTECCION DE TUBERIAS, INCLUSO EXTENDIDO Y COMPACTACION.
A37: U090004 | B37: Partida | C37: M3 | D37: RELLENO DE ZANJA CON GRAVA | E37: 75 | G37: =ROUND(E37*F37*1,2) -> 0
D38: RELLENO DE ZANJA CON GRAVA TIPO A-20 S/PLIEGO PARA ASIENTO Y/O PROTECCION DE TUBERIAS INCLUSO EXTENDIDO Y COMPACTACION.
A39: U090005 | B39: Partida | C39: M2 | D39: RELLENO DE ZANJA TIERRA VEGETAL | E39: 75 | G39: =ROUND(E39*F39*1,2) -> 0
D40: RELLENO DE ZANJA CON TIERRA VEGETAL PROCEDENTE DE LA OBRA, EXTENDIDA EN CAPA DE 0.30 M, QUE INCLUYE EXTENDIDO, REFINO, ARADO CON MOTOCULTOR, LABOREO Y RASTRILLADO.
...
