Workbook

Sheet Resumen Contratista
B2: RESUMEN
B4: ='Partidas a rellenar'!D3 -> INSPECCIONES Y MANTENIMIENTOS PREVENTIVOS | E4: ='Partidas a rellenar'!G3 -> 374400
B5: ='Partidas a rellenar'!D6 -> REACTIVOS | E5: ='Partidas a rellenar'!G6 -> 24250
B6: ='Partidas a rellenar'!D9 -> SUSTITUCIÓN DE EQUIPOS | E6: ='Partidas a rellenar'!G9 -> 64134.2
B7: ='Partidas a rellenar'!D28 -> TRABAJO DOCUMENTAL | E7: ='Partidas a rellenar'!G28 -> 2000
B9: PRESUPUESTO DE EJECUCIÓN MATERIAL | E9: =SUM(E4:E7) -> 464784.2
B11: Gastos generales | E11: =E9*0.06 -> 27887.05
B12: Beneficio industrial | E12: =E9*0.13 -> 60421.95
B14: PRESUPUESTO BASE DE LICITACIÓN SIN IVA | E14: =E9+E11+E12 -> 553093.2
B16: IVA | E16: =E14*0.21 -> 116149.57
B18: PRESUPUESTO BASE DE LICITACIÓN
E19: =E14+E16 -> 669242.77

Sheet Partidas a rellenar
A1: Presupuesto
A2: Código | B2: Nat | C2: Ud | D2: Resumen | E2: CanPres | F2: Pres | G2: ImpPres
A3: INS | B3: Capítulo | D3: INSPECCIONES Y MANTENIMIENTOS PREVENTIVOS | G3: =SUM(G4:G5) -> 374400
A4: INS1 | B4: Partida | C4: UD | D4: INSPECCIÓN CLORADOR | E4: 10400 | F4: 36 | G4: =ROUND(E4*F4*1,2) -> 374400 | I4: =F4*1.19 -> 42.84
D5: Inspección clorador incluyendo calibración y todos los trabajos preventivos requeridos
A6: REA | B6: Capítulo | D6: REACTIVOS | G6: =SUM(G7) -> 24250
A7: REA1 | B7: Partida | C7: m3 | D7: HIPOCLORITO | E7: 50 | F7: 485 | G7: =ROUND(E7*F7*1,2) -> 24250 | I7: =F7*1.19 -> 577.15
D8: SUMINISTRO HIPOCLORITO (18%)
A9: SUS | B9: Capítulo | D9: SUSTITUCIÓN DE EQUIPOS | G9: =SUM(G10:G17) -> 64134.2
A10: SUS1 | B10: Partida | C10: UD | D10: EQUIPO MEDIDOR DE CLORO | E10: 8 | F10: 4695 | G10: =ROUND(E10*F10*1,2) -> 37560 | I10: =F10*1.19 -> 5587.05
D11: Suministro, montaje y pueta en marcha de un conjunto de medición de cloro libre residual con sonda amperométrica cge 2 ms (o equivalente), rango 0-2ppm, señal salida 4-20ma, controlador dulcometer dacb en pared ip 65, con posibilidad de telecontrol de bomba dosifiacodra (control proporcional), panel modular con rotámetro, válvula toma muestras, panel de medición, incluyendo instalación eléctrica completa, tuberías y elementos de sujeción y montaje del fabricante y conexión y programación del plc
A12: SUS2 | B12: Partida | C12: UD | D12: BOMBA TOMAMUESTRAS | E12: 10 | F12: 500 | G12: =ROUND(E12*F12*1,2) -> 5000 | I12: =F12*1.19 -> 595
D13: Suministro , montaje y puesta en marcha de una bomba tomamuestrs en recirculación de 1m3/h, 0,5CV, 230V, incluyendo instalación electrica completa, tuberias y elementos de sujección y montaje y conexión y programación de PLC
A14: SUS3 | B14: Partida | C14: UD | D14: BOMBA DOSIFIACORA | E14: 10 | F14: 1215 | G14: =ROUND(E14*F14*1,2) -> 12150 | I14: =F14*1.19 -> 1445.85
D15: Bomba dosifiacidora de hipoclorito de desplazamiento positivo 220V, 16bar con entrada de potencia 15,2W, ajuste de velocidad y ajuste de longitud de reocrrido con ajuste 0-100%
A16: SUS4 | B16: Partida | C16: UD | D16: THAMUT | E16: 10 | F16: 942.42 | G16: =ROUND(E16*F16*1,2) -> 9424.2 | I16: =F16*1.19 -> 1121.48
D17: Suministro, montaje y puesta en marcha de un equipo Thaumat (o equivalente) AC o DC, DCM500 gprs, antena exterior con cable de 5m, magnetotermico 2 polos 6A, caja estanca Legrand con tapa transpearente, bateria backup `plomo acido 12V 1850mAh, circuito de carga y conmutación e instalación lectrica completa
A18: COR | B18: Capítulo | D18: CORRECTIVOS | G18: =SUM(G19:G24) -> 20850
A19: COR1 | B19: Partida | C19: UD | D19: UNIDAD DE PEQUEÑO MATERIAL A JUSTIFICAR | E19: 10000 | F19: 1 | G19: =ROUND(E19*F19*1,2) -> 10000 | I19: =F19*1.19 -> 1.19
D20: Todas las unidades de pequeño material neesarias para la reparaciones de los equippos se certificaran mediante esta partida previa justifiación.
A21: COR2 | B21: Partida | C21: H | D21: HORA DE OPERADOR | E21: 150 | F21: 55 | G21: =ROUND(E21*F21*1,2) -> 8250 | I21: =F21*1.19 -> 65.45
D22: Hora de operador GP 2A
A23: COR3 | B23: Partida | C23: H | D23: HORA EXTRA DE OPERADOR | E23: 40 | F23: 65 | G23: =ROUND(E23*F23*1,2) -> 2600 | I23: =F23*1.19 -> 77.35
D24: Hora extra de operador GP 2A
A25: SUS | B25: Capítulo | D25: SUSTITUCIÓN DE EQUIPO CETOLAR | G25: =SUM(G26:G27) -> 12820
A26: SUS1 | B26: Partida | C26: UD | D26: SUSTITUCIÓN DE EQUIPO CETOLAR POR DOSIFIACIÓN DE HIPOCLORITO | E26: 2 | F26: 6410 | G26: =ROUND(E26*F26*1,2) -> 12820 | I26: =F26*1.19 -> 7627.9
D27: Suministro, montaje y puesta en marcha de un equipo de dosifiación de hipoclorito sustituyend un equipo cetolar
A28: DOC | B28: Capítulo | D28: TRABAJO DOCUMENTAL | G28: =SUM(G29:G31) -> 2000
A29: DOC1 | B29: Partida | C29: UD | D29: ELABORACIÓN PLANES DE CONTROL Y GESTION | E29: 2 | F29: 500 | G29: =ROUND(E29*F29*1,2) -> 1000 | I29: =F29*1.19 -> 595
D30: Elaboración anual de la parte correspondiente a cloradores de los Planes de Control y Gestion relativos a las Zonas de Abastecimiento incluidas en este PPTP, de acuerdo a los requerimientos de la legislación vigente del Departametno de Sanidad del Gobierno Vasco y el CABB
A31: DOC2 | B31: Partida | C31: UD | D31: ELABORACIÓN PLANES SANITARIOS DEL AGUA (PSA) | E31: 2 | F31: 500 | G31: =ROUND(E31*F31*1,2) -> 1000 | I31: =F31*1.19 -> 595
D32: Elaboración anual de la parte correspondiente a cloradores de los Planes Sanitarios del Agua (PSA) relativos a las Zonas de Abastecimiento incluidas en este PPTP, de acuerdo a los requerimientos de la legislación vigente del Departametno de Sanidad del Gobierno Vasco y el CABB
D34: PRESUPUESTO DE EJECUCIÓN MATERIAL | G34: =G3+G6+G9++G18+G25+G28 -> 498454.2
D36: % Gastos generales | E36: 6 | G36: =G34*0.06 -> 29907.25
D37: % Beneficio industrial | E37: 13 | G37: =G34*0.13 -> 64799.05
D39: TOTAL | G39: =G34+G36+G37 -> 593160.5 | H39: 1.1 | I39: =G39*1.1 -> 652476.55
G41: =G39/4 -> 148290.13 | H41: =G41*2 -> 296580.26

Sheet Hoja1
J6: AD | K6: 10000
J7: EX | K7: 20000
J8: EM | K8: =48000*2 -> 96000
J9: CO | K9: =12*300*2 -> 7200
J10: GAS | K10: =50*4*12*2 -> 4800
J11: TE | K11: 1000
J12: OT | K12: 10000
J13: RE | K13: 20000
K14: =SUM(K6:K13) -> 169000
K15: =+K14*2 -> 338000
K16: =+K15*1.19 -> 402220

Sheet Hoja2
A1: Presupuesto
A2: Código | B2: Nat | C2: Ud | D2: Resumen | E2: CanPres | F2: Pres | G2: ImpPres
A3: INS | B3: Capítulo | D3: INSPECCIONES Y MANTENIMIENTOS PREVENTIVOS | G3: =SUM(G4:G5) -> 445536
A4: INS1 | B4: Partida | C4: UD | D4: INSPECCIÓN CLORADOR | E4: 10400 | F4: 42.84 | G4: =ROUND(E4*F4*1,2) -> 445536
D5: Inspección clorador incluyendo calibración y todos los trabajos preventivos requeridos
A6: REA | B6: Capítulo | D6: REACTIVOS | G6: =SUM(G7) -> 28857.5
A7: REA1 | B7: Partida | C7: m3 | D7: HIPOCLORITO | E7: 50 | F7: 577.15 | G7: =ROUND(E7*F7*1,2) -> 28857.5
D8: SUMINISTRO HIPOCLORITO (18%)
A9: SUS | B9: Capítulo | D9: SUSTITUCIÓN DE EQUIPOS | G9: =SUM(G10:G17) -> 76319.7
A10: SUS1 | B10: Partida | C10: UD | D10: EQUIPO MEDIDOR DE CLORO | E10: 8 | F10: 5587.05 | G10: =ROUND(E10*F10*1,2) -> 44696.4
D11: Suministro, montaje y pueta en marcha de un conjunto de medición de cloro libre residual con sonda amperométrica cge 2 ms (o equivalente), rango 0-2ppm, señal salida 4-20ma, controlador dulcometer dacb en pared ip 65, con posibilidad de telecontrol de bomba dosifiacodra (control proporcional), panel modular con rotámetro, válvula toma muestras, panel de medición, incluyendo instalación eléctrica completa, tuberías y elementos de sujeción y montaje del fabricante y conexión y programación del plc
A12: SUS2 | B12: Partida | C12: UD | D12: BOMBA TOMAMUESTRAS | E12: 10 | F12: 595 | G12: =ROUND(E12*F12*1,2) -> 5950
D13: Suministro , montaje y puesta en marcha de una bomba tomamuestrs en recirculación de 1m3/h, 0,5CV, 230V, incluyendo instalación electrica completa, tuberias y elementos de sujección y montaje y conexión y programación de PLC
A14: SUS3 | B14: Partida | C14: UD | D14: BOMBA DOSIFIACORA | E14: 10 | F14: 1445.85 | G14: =ROUND(E14*F14*1,2) -> 14458.5
D15: Bomba dosifiacidora de hipoclorito de desplazamiento positivo 220V, 16bar con entrada de potencia 15,2W, ajuste de velocidad y ajuste de longitud de reocrrido con ajuste 0-100%
A16: SUS4 | B16: Partida | C16: UD | D16: THAMUT | E16: 10 | F16: 1121.48 | G16: =ROUND(E16*F16*1,2) -> 11214.8
D17: Suministro, montaje y puesta en marcha de un equipo Thaumat (o equivalente) AC o DC, DCM500 gprs, antena exterior con cable de 5m, magnetotermico 2 polos 6A, caja estanca Legrand con tapa transpearente, bateria backup `plomo acido 12V 1850mAh, circuito de carga y conmutación e instalación lectrica completa
A18: COR | B18: Capítulo | D18: CORRECTIVOS | G18: =SUM(G19:G24) -> 24811.5
A19: COR1 | B19: Partida | C19: UD | D19: UNIDAD DE PEQUEÑO MATERIAL A JUSTIFICAR | E19: 10000 | F19: 1.19 | G19: =ROUND(E19*F19*1,2) -> 11900
D20: Todas las unidades de pequeño material neesarias para la reparaciones de los equippos se certificaran mediante esta partida previa justifiación.
A21: COR2 | B21: Partida | C21: H | D21: HORA DE OPERADOR | E21: 150 | F21: 65.45 | G21: =ROUND(E21*F21*1,2) -> 9817.5
D22: Hora de operador GP 2A
A23: COR3 | B23: Partida | C23: H | D23: HORA EXTRA DE OPERADOR | E23: 40 | F23: 77.35 | G23: =ROUND(E23*F23*1,2) -> 3094
D24: Hora extra de operador GP 2A
A25: SUS | B25: Capítulo | D25: SUSTITUCIÓN DE EQUIPO CETOLAR | G25: =SUM(G26:G27) -> 15255.8
A26: SUS1 | B26: Partida | C26: UD | D26: SUSTITUCIÓN DE EQUIPO CETOLAR POR DOSIFIACIÓN DE HIPOCLORITO | E26: 2 | F26: 7627.9 | G26: =ROUND(E26*F26*1,2) -> 15255.8
D27: Suministro, montaje y puesta en marcha de un equipo de dosifiación de hipoclorito sustituyend un equipo cetolar
A28: DOC | B28: Capítulo | D28: TRABAJO DOCUMENTAL | G28: =SUM(G29:G31) -> 2380
A29: DOC1 | B29: Partida | C29: UD | D29: ELABORACIÓN PLANES DE CONTROL Y GESTION | E29: 2 | F29: 595 | G29: =ROUND(E29*F29*1,2) -> 1190
D30: Elaboración anual de la parte correspondiente a cloradores de los Planes de Control y Gestion relativos a las Zonas de Abastecimiento incluidas en este PPTP, de acuerdo a los requerimientos de la legislación vigente del Departametno de Sanidad del Gobierno Vasco y el CABB
A31: DOC2 | B31: Partida | C31: UD | D31: ELABORACIÓN PLANES SANITARIOS DEL AGUA (PSA) | E31: 2 | F31: 595 | G31: =ROUND(E31*F31*1,2) -> 1190
D32: Elaboración anual de la parte correspondiente a cloradores de los Planes Sanitarios del Agua (PSA) relativos a las Zonas de Abastecimiento incluidas en este PPTP, de acuerdo a los requerimientos de la legislación vigente del Departametno de Sanidad del Gobierno Vasco y el CABB
D34: PRESUPUESTO | G34: =G3+G6+G9++G18+G25+G28 -> 593160.5
