Workbook

Sheet Lote 1
A1: LOTE 1
A2: Típo de envío | B2: CORREOS 2026 | C2: Descuento ofertado en % | D2: Precio resultante sin IVA | E2: Envíos anuales 01042025 - 31032026 | F2: Envíos anuales 01012025 - 31122026 | G2: Envíos licitación 2021 | H2: Factor precio
A3: CARTAS ORDINARIAS
A4: Local
A5: Hasta 20g. Normalizada | B5: 0.96 | C5: 0.7167 | D5: =B5-(B5*C5) -> 0.272 | E5: 667217 | F5: 670746 | G5: ='Lote 1 2021'!B5 -> 706343 | H5: 1
A6: Hasta 50g. | B6: 1.15 | C6: 0.6419 | D6: =B6-(B6*C6) -> 0.4118 | E6: 4194 | F6: 4312 | G6: ='Lote 1 2021'!B6 -> 3985 | H6: 1
A7: Hasta 100g. | B7: 1.75 | C7: 0.6474 | D7: =B7-(B7*C7) -> 0.6171 | F7: 6 | G7: ='Lote 1 2021'!B7 -> 39 | H7: 1
A8: Hasta 500g. | B8: 3.7 | C8: 0.5636 | D8: =B8-(B8*C8) -> 1.6147 | F8: 8 | G8: ='Lote 1 2021'!B8 -> 34 | H8: 1
A9: Hasta 1kg. | B9: 6.9 | C9: 0.5186 | D9: =B9-(B9*C9) -> 3.3217 | E9: 9 | G9: ='Lote 1 2021'!B9 -> 1 | H9: 1
A10: Hasta 2Kg. | B10: 7.45 | C10: 0.4844 | D10: =B10-(B10*C10) -> 3.8412 | G10: ='Lote 1 2021'!B10 -> 1 | H10: 1
A12: Interurbano 1
A13: Hasta 20g. Normalizada | B13: 0.96 | C13: 0.6221 | D13: =B13-(B13*C13) -> 0.3628 | E13: 333496 | F13: 331931 | G13: ='Lote 1 2021'!B13 -> 345815 | H13: 1
A14: Hasta 50g. | B14: 1.15 | C14: 0.5454 | D14: =B14-(B14*C14) -> 0.5228 | E14: 2395 | F14: 2400 | G14: ='Lote 1 2021'!B14 -> 2391 | H14: 1
A15: Hasta 100g. | B15: 1.75 | C15: 0.5327 | D15: =B15-(B15*C15) -> 0.8178 | G15: ='Lote 1 2021'!B15 -> 21 | H15: 1
A16: Hasta 500g. | B16: 3.7 | C16: 0.4358 | D16: =B16-(B16*C16) -> 2.0875 | G16: ='Lote 1 2021'!B16 -> 14 | H16: 1
A17: Hasta 1kg. | B17: 6.9 | C17: 0.3816 | D17: =B17-(B17*C17) -> 4.267 | G17: ='Lote 1 2021'!B17 -> 1 | H17: 1
A18: Hasta 2Kg. | B18: 7.45 | C18: 0.3368 | D18: =B18-(B18*C18) -> 4.9408 | G18: ='Lote 1 2021'!B18 -> 1 | H18: 1
A20: Interurbano 2
A21: Hasta 20g. Normalizada | B21: 0.96 | C21: 0.5907 | D21: =B21-(B21*C21) -> 0.3929 | E21: 1188323 | F21: 1211315 | G21: ='Lote 1 2021'!B21 -> 1195839 | H21: 1
A22: Hasta 50g. | B22: 1.15 | C22: 0.504 | D22: =B22-(B22*C22) -> 0.5704 | E22: 8079 | F22: 8199 | G22: ='Lote 1 2021'!B22 -> 7881 | H22: 1
A23: Hasta 100g. | B23: 1.75 | C23: 0.4886 | D23: =B23-(B23*C23) -> 0.895 | E23: 10 | F23: 10 | G23: ='Lote 1 2021'!B23 -> 90 | H23: 1
A24: Hasta 500g. | B24: 3.7 | C24: 0.3697 | D24: =B24-(B24*C24) -> 2.3321 | E24: 9 | F24: 10 | G24: ='Lote 1 2021'!B24 -> 34 | H24: 1
A25: Hasta 1kg. | B25: 6.9 | C25: 0.3131 | D25: =B25-(B25*C25) -> 4.7396 | G25: ='Lote 1 2021'!B25 -> 4 | H25: 1
A26: Hasta 2Kg. | B26: 7.45 | C26: 0.266 | D26: =B26-(B26*C26) -> 5.4683 | G26: ='Lote 1 2021'!B26 -> 1 | H26: 1
A29: INTERNACIONALES
A31: ZONA 1 - Europa incluido Groenlandia
A32: Hasta 20g. Normalizada | B32: 2 | C32: 0 | D32: 2 | E32: 8 | H32: 1
A33: Hasta 50g. | B33: 2.3 | C33: 0 | D33: 2.3 | H33: 1
A34: Hasta 100g. | B34: 3.1 | C34: 0 | D34: 3.1 | E34: 6 | H34: 1
A35: Hasta 500g. | B35: 7.4 | C35: 0 | D35: 7.4 | E35: 1 | H35: 1
A36: Hasta 1kg. | B36: 14 | C36: 0 | D36: 14 | H36: 1
A37: Hasta 2Kg. | B37: 22.1 | C37: 0 | D37: 22.1 | H37: 1
A39: ZONA 2 - Resto de países, excepto destinos de la Zona 3
A40: Hasta 20g. Normalizada | B40: 2.1 | C40: 0 | D40: 2.1 | E40: 1 | H40: 1
A41: Hasta 50g. | B41: 2.6 | C41: 0 | D41: 2.6 | H41: 1
A42: Hasta 100g. | B42: 4.3 | C42: 0 | D42: 4.3 | H42: 1
A43: Hasta 500g. | B43: 11.08 | C43: 0 | D43: 11.08 | H43: 1
A44: Hasta 1kg. | B44: 22.3 | C44: 0 | D44: 22.3 | H44: 1
A45: Hasta 2Kg. | B45: 38.4 | C45: 0 | D45: 38.4 | H45: 1
A47: ZONA 3 - EEUU, Canadá, Japón, Australia y Nueva Zelanda
...

Sheet Lote 1 2021
A1: LOTE 1
A2: Típo de envío | B2: Número de envíos | C2: Precio máximo sin IVA | D2: Descuento ofertado en % | E2: Precio resultante sin IVA | F2: Total (envíos x precio resultante)
A3: CARTAS ORDINARIAS
A4: Local
A5: Hasta 20g. Normalizada | B5: 706343 | C5: 0.7
A6: Hasta 50g. | B6: 3985 | C6: 0.8
A7: Hasta 100g. | B7: 39 | C7: 1.25
A8: Hasta 500g. | B8: 34 | C8: 2.5
A9: Hasta 1kg. | B9: 1 | C9: 5.15
A10: Hasta 2Kg. | B10: 1 | C10: 5.6
A12: Interurbano 1
A13: Hasta 20g. Normalizada | B13: 345815 | C13: 0.7
A14: Hasta 50g. | B14: 2391 | C14: 0.8
A15: Hasta 100g. | B15: 21 | C15: 1.25
A16: Hasta 500g. | B16: 14 | C16: 2.5
A17: Hasta 1kg. | B17: 1 | C17: 5.15
A18: Hasta 2Kg. | B18: 1 | C18: 5.6
A20: Interurbano 2
A21: Hasta 20g. Normalizada | B21: 1195839 | C21: 0.7
A22: Hasta 50g. | B22: 7881 | C22: 0.8
A23: Hasta 100g. | B23: 90 | C23: 1.25
A24: Hasta 500g. | B24: 34 | C24: 2.5
A25: Hasta 1kg. | B25: 4 | C25: 5.15
A26: Hasta 2Kg. | B26: 1 | C26: 5.6
A29: INTERNACIONALES
A31: ZONA 1 - Europa incluido Groenlandia
A32: Hasta 20g. Normalizada | B32: 31 | C32: 1.5
A33: Hasta 50g. | B33: 1 | C33: 1.8
A34: Hasta 100g. | B34: 1 | C34: 2.6
A35: Hasta 500g. | B35: 1 | C35: 6.8
A36: Hasta 1kg. | B36: 1 | C36: 13.2
A37: Hasta 2Kg. | B37: 1 | C37: 21.1
A39: ZONA 2 - Resto de países, excepto destinos de la Zona 3
A40: Hasta 20g. Normalizada | B40: 3 | C40: 1.6
A41: Hasta 50g. | B41: 1 | C41: 2.1
A42: Hasta 100g. | B42: 1 | C42: 3.6
A43: Hasta 500g. | B43: 1 | C43: 10.45
A44: Hasta 1kg. | B44: 1 | C44: 21.55
A45: Hasta 2Kg. | B45: 1 | C45: 37.6
A47: ZONA 3 - EEUU, Canadá, Japón, Australia y Nueva Zelanda
...

Sheet Lote 1 2026
A1: LOTE 1 | G1: 1.055
A2: Típo de envío | B2: Número de envíos | C2: Precio máximo sin IVA | D2: Descuento ofertado en % | E2: Precio resultante sin IVA | F2: Total (envíos x precio resultante) | G2: Precios para oferta máxima | H2: oferta máx
A3: CARTAS ORDINARIAS
A4: Local
A5: Hasta 20g. Normalizada | B5: ='Lote 1'!F5 -> 670746 | C5: ='Lote 1'!B5 -> 0.96 | E5: =C5*(1-D5) -> 0.96 | F5: =E5*B5 -> 643916.16 | G5: ='Lote 1'!D5*'Lote 1 2026'!$G$1 -> 0.29 | H5: =B5*G5 -> 194516.34
A6: Hasta 50g. | B6: ='Lote 1'!F6 -> 4312 | C6: ='Lote 1'!B6 -> 1.15 | E6: =C6*(1-D6) -> 1.15 | F6: =E6*B6 -> 4958.8 | G6: ='Lote 1'!D6*'Lote 1 2026'!$G$1 -> 0.43 | H6: =B6*G6 -> 1854.16
A7: Hasta 100g. | B7: ='Lote 1'!F7 -> 6 | C7: ='Lote 1'!B7 -> 1.75 | E7: =C7*(1-D7) -> 1.75 | F7: =E7*B7 -> 10.5 | G7: ='Lote 1'!D7*'Lote 1 2026'!$G$1 -> 0.65 | H7: =B7*G7 -> 3.9
A8: Hasta 500g. | B8: ='Lote 1'!F8 -> 8 | C8: ='Lote 1'!B8 -> 3.7 | E8: =C8*(1-D8) -> 3.7 | F8: =E8*B8 -> 29.6 | G8: ='Lote 1'!D8*'Lote 1 2026'!$G$1 -> 1.7 | H8: =B8*G8 -> 13.6
A9: Hasta 1kg. | B9: 1 | C9: ='Lote 1'!B9 -> 6.9 | E9: =C9*(1-D9) -> 6.9 | F9: =E9*B9 -> 6.9 | G9: ='Lote 1'!D9*'Lote 1 2026'!$G$1 -> 3.5 | H9: =B9*G9 -> 3.5
A10: Hasta 2Kg. | B10: 1 | C10: ='Lote 1'!B10 -> 7.45 | E10: =C10*(1-D10) -> 7.45 | F10: =E10*B10 -> 7.45 | G10: ='Lote 1'!D10*'Lote 1 2026'!$G$1 -> 4.05 | H10: =B10*G10 -> 4.05
G11: ='Lote 1'!D11*'Lote 1 2026'!$G$1 -> 0 | H11: =B11*G11 -> 0
A12: Interurbano 1 | G12: ='Lote 1'!D12*'Lote 1 2026'!$G$1 -> 0 | H12: =B12*G12 -> 0
A13: Hasta 20g. Normalizada | B13: ='Lote 1'!F13 -> 331931 | C13: ='Lote 1'!B13 -> 0.96 | E13: =C13*(1-D13) -> 0.96 | F13: =E13*B13 -> 318653.76 | G13: ='Lote 1'!D13*'Lote 1 2026'!$G$1 -> 0.38 | H13: =B13*G13 -> 126133.78
A14: Hasta 50g. | B14: ='Lote 1'!F14 -> 2400 | C14: ='Lote 1'!B14 -> 1.15 | E14: =C14*(1-D14) -> 1.15 | F14: =E14*B14 -> 2760 | G14: ='Lote 1'!D14*'Lote 1 2026'!$G$1 -> 0.55 | H14: =B14*G14 -> 1320
A15: Hasta 100g. | B15: 1 | C15: ='Lote 1'!B15 -> 1.75 | E15: =C15*(1-D15) -> 1.75 | F15: =E15*B15 -> 1.75 | G15: ='Lote 1'!D15*'Lote 1 2026'!$G$1 -> 0.86 | H15: =B15*G15 -> 0.86
A16: Hasta 500g. | B16: 1 | C16: ='Lote 1'!B16 -> 3.7 | E16: =C16*(1-D16) -> 3.7 | F16: =E16*B16 -> 3.7 | G16: ='Lote 1'!D16*'Lote 1 2026'!$G$1 -> 2.2 | H16: =B16*G16 -> 2.2
A17: Hasta 1kg. | B17: 1 | C17: ='Lote 1'!B17 -> 6.9 | E17: =C17*(1-D17) -> 6.9 | F17: =E17*B17 -> 6.9 | G17: ='Lote 1'!D17*'Lote 1 2026'!$G$1 -> 4.5 | H17: =B17*G17 -> 4.5
A18: Hasta 2Kg. | B18: 1 | C18: ='Lote 1'!B18 -> 7.45 | E18: =C18*(1-D18) -> 7.45 | F18: =E18*B18 -> 7.45 | G18: ='Lote 1'!D18*'Lote 1 2026'!$G$1 -> 5.21 | H18: =B18*G18 -> 5.21
G19: ='Lote 1'!D19*'Lote 1 2026'!$G$1 -> 0 | H19: =B19*G19 -> 0
A20: Interurbano 2 | G20: ='Lote 1'!D20*'Lote 1 2026'!$G$1 -> 0 | H20: =B20*G20 -> 0
A21: Hasta 20g. Normalizada | B21: ='Lote 1'!F21 -> 1211315 | C21: ='Lote 1'!B21 -> 0.96 | E21: =C21*(1-D21) -> 0.96 | F21: =E21*B21 -> 1162862.4 | G21: ='Lote 1'!D21*'Lote 1 2026'!$G$1 -> 0.41 | H21: =B21*G21 -> 496639.15
A22: Hasta 50g. | B22: ='Lote 1'!F22 -> 8199 | C22: ='Lote 1'!B22 -> 1.15 | E22: =C22*(1-D22) -> 1.15 | F22: =E22*B22 -> 9428.85 | G22: ='Lote 1'!D22*'Lote 1 2026'!$G$1 -> 0.6 | H22: =B22*G22 -> 4919.4
A23: Hasta 100g. | B23: 90 | C23: ='Lote 1'!B23 -> 1.75 | E23: =C23*(1-D23) -> 1.75 | F23: =E23*B23 -> 157.5 | G23: ='Lote 1'!D23*'Lote 1 2026'!$G$1 -> 0.94 | H23: =B23*G23 -> 84.6
A24: Hasta 500g. | B24: 34 | C24: ='Lote 1'!B24 -> 3.7 | E24: =C24*(1-D24) -> 3.7 | F24: =E24*B24 -> 125.8 | G24: ='Lote 1'!D24*'Lote 1 2026'!$G$1 -> 2.46 | H24: =B24*G24 -> 83.64
A25: Hasta 1kg. | B25: 4 | C25: ='Lote 1'!B25 -> 6.9 | E25: =C25*(1-D25) -> 6.9 | F25: =E25*B25 -> 27.6 | G25: ='Lote 1'!D25*'Lote 1 2026'!$G$1 -> 5 | H25: =B25*G25 -> 20
A26: Hasta 2Kg. | B26: 1 | C26: ='Lote 1'!B26 -> 7.45 | E26: =C26*(1-D26) -> 7.45 | F26: =E26*B26 -> 7.45 | G26: ='Lote 1'!D26*'Lote 1 2026'!$G$1 -> 5.77 | H26: =B26*G26 -> 5.77
G27: ='Lote 1'!D27*'Lote 1 2026'!$G$1 -> 0 | H27: =B27*G27 -> 0
G28: ='Lote 1'!D28*'Lote 1 2026'!$G$1 -> 0 | H28: =B28*G28 -> 0
A29: INTERNACIONALES | G29: ='Lote 1'!D29*'Lote 1 2026'!$G$1 -> 0 | H29: =B29*G29 -> 0
G30: ='Lote 1'!D30*'Lote 1 2026'!$G$1 -> 0 | H30: =B30*G30 -> 0
A31: ZONA 1 - Europa incluido Groenlandia | G31: ='Lote 1'!D31*'Lote 1 2026'!$G$1 -> 0 | H31: =B31*G31 -> 0
A32: Hasta 20g. Normalizada | B32: 31 | C32: ='Lote 1'!B32 -> 2 | E32: =C32*(1-D32) -> 2 | F32: =E32*B32 -> 62 | G32: ='Lote 1'!D32*'Lote 1 2026'!$G$1 -> 2.11 | H32: =B32*G32 -> 65.41
A33: Hasta 50g. | B33: 1 | C33: ='Lote 1'!B33 -> 2.3 | E33: =C33*(1-D33) -> 2.3 | F33: =E33*B33 -> 2.3 | G33: ='Lote 1'!D33*'Lote 1 2026'!$G$1 -> 2.43 | H33: =B33*G33 -> 2.43
A34: Hasta 100g. | B34: 1 | C34: ='Lote 1'!B34 -> 3.1 | E34: =C34*(1-D34) -> 3.1 | F34: =E34*B34 -> 3.1 | G34: ='Lote 1'!D34*'Lote 1 2026'!$G$1 -> 3.27 | H34: =B34*G34 -> 3.27
A35: Hasta 500g. | B35: 1 | C35: ='Lote 1'!B35 -> 7.4 | E35: =C35*(1-D35) -> 7.4 | F35: =E35*B35 -> 7.4 | G35: ='Lote 1'!D35*'Lote 1 2026'!$G$1 -> 7.81 | H35: =B35*G35 -> 7.81
A36: Hasta 1kg. | B36: 1 | C36: ='Lote 1'!B36 -> 14 | E36: =C36*(1-D36) -> 14 | F36: =E36*B36 -> 14 | G36: ='Lote 1'!D36*'Lote 1 2026'!$G$1 -> 14.77 | H36: =B36*G36 -> 14.77
A37: Hasta 2Kg. | B37: 1 | C37: ='Lote 1'!B37 -> 22.1 | E37: =C37*(1-D37) -> 22.1 | F37: =E37*B37 -> 22.1 | G37: ='Lote 1'!D37*'Lote 1 2026'!$G$1 -> 23.32 | H37: =B37*G37 -> 23.32
G38: ='Lote 1'!D38*'Lote 1 2026'!$G$1 -> 0 | H38: =B38*G38 -> 0
A39: ZONA 2 - Resto de países, excepto destinos de la Zona 3 | G39: ='Lote 1'!D39*'Lote 1 2026'!$G$1 -> 0 | H39: =B39*G39 -> 0
A40: Hasta 20g. Normalizada | B40: 3 | C40: ='Lote 1'!B40 -> 2.1 | E40: =C40*(1-D40) -> 2.1 | F40: =E40*B40 -> 6.3 | G40: ='Lote 1'!D40*'Lote 1 2026'!$G$1 -> 2.22 | H40: =B40*G40 -> 6.66
...

Sheet resumen lotes
C5: lote | D5: anualidad | E5: 3 años | F5: con prórrogas
C6: 1 | D6: ='Lote 1 2026'!F133 -> 1059500 | E6: =D6*3 -> 3178500 | F6: =D6*5 -> 5297500
C7: 2 | D7: ='[1]Lote 2'!$I$96 -> 144900 | E7: =D7*3 -> 434700 | F7: =D7*5 -> 724500
C8: total | D8: =SUM(D6:D7) -> 1204400 | E8: =SUM(E6:E7) -> 3613200 | F8: =SUM(F6:F7) -> 6022000
D11: 2026 | E11: 2027 | F11: 2028 | G11: 2029 | H11: 2030
C12: lote
C13: 1 | D13: 150000 | E13: =D6 -> 1059500 | F13: =D6 -> 1059500 | G13: =D6-D13 -> 909500
C14: 2 | E14: =D7-H14 -> 139900 | F14: =D7 -> 144900 | G14: =D7 -> 144900 | H14: 5000
C15: total | D15: =SUM(D13:D14) -> 150000 | E15: =SUM(E13:E14) -> 1199400 | F15: =SUM(F13:F14) -> 1204400 | G15: =SUM(G13:G14) -> 1054400 | H15: =SUM(H13:H14) -> 5000
C18: Solvencia | D18: 0.7
C19: 1 | D19: =D6*D18 -> 741650
C20: 2 | D20: =D7*D18 -> 101430

Sheet Hoja1
H2: Lote 1 Evolución del tipo de licitación
H3: 2021 | I3: 2026 | J3: Incr | N3: 2021 | O3: 2026
H4: 790000 | I4: 1059500 | J4: =(I4-H4)/H4 -> 0.3411 | M4: Número total de clientes | N4: 537195 | O4: 574420 | P4: =O4-N4 -> 37225
M5: Clientes con factura en papel | N5: =N4-N6 -> 503849 | O5: =O4-O6 -> 510295 | P5: =O5-N5 -> 6446
M6: Clientes con factura en factura electr | N6: 33346 | O6: 64125 | P6: =O6-N6 -> 30779
D7: 2021 | E7: 2025 | F7: 2026 | G7: Incr 2026/2025 | M7: Fact electrónica/total de clientes | N7: =N6/N4 -> 0.0621 | O7: =O6/O4 -> 0.1116 | P7: =O7-N7 -> 0.0495
C8: Ordinaria hasta 20g. Normalizada | D8: 0.7 | E8: 0.89 | F8: 0.96 | G8: =(F8-E8)/D8 -> 0.1
C9: Cerificada hasta 20g. Normalizada | D9: 4.15 | E9: 5.29 | F9: 5.74 | G9: =(F9-E9)/D9 -> 0.1084
H12: Lote 2 Evolución del tipo de licitación
H13: 2025 | I13: 2026 | J13: Incr
H14: 130100 | I14: ='resumen lotes'!D7 -> 144900 | J14: =(I14-H14)/H14 -> 0.1138

Sheet anexo lote 1 modelo oferta
A1: LOTE 1
A2: Típo de envío | B2: Número de envíos | C2: Precio máximo sin IVA | D2: Descuento ofertado en % | E2: Precio resultante sin IVA | F2: Total (envíos x precio resultante)
A3: CARTAS ORDINARIAS
A4: Local
A5: Hasta 20g. Normalizada | B5: 670746 | C5: 0.96
A6: Hasta 50g. | B6: 4312 | C6: 1.15
A7: Hasta 100g. | B7: 6 | C7: 1.75
A8: Hasta 500g. | B8: 8 | C8: 3.7
A9: Hasta 1kg. | B9: 1 | C9: 6.9
A10: Hasta 2Kg. | B10: 1 | C10: 7.45
A12: Interurbano 1
A13: Hasta 20g. Normalizada | B13: 331931 | C13: 0.96
A14: Hasta 50g. | B14: 2400 | C14: 1.15
A15: Hasta 100g. | B15: 1 | C15: 1.75
A16: Hasta 500g. | B16: 1 | C16: 3.7
A17: Hasta 1kg. | B17: 1 | C17: 6.9
A18: Hasta 2Kg. | B18: 1 | C18: 7.45
A20: Interurbano 2
A21: Hasta 20g. Normalizada | B21: 1211315 | C21: 0.96
A22: Hasta 50g. | B22: 8199 | C22: 1.15
A23: Hasta 100g. | B23: 90 | C23: 1.75
A24: Hasta 500g. | B24: 34 | C24: 3.7
A25: Hasta 1kg. | B25: 4 | C25: 6.9
A26: Hasta 2Kg. | B26: 1 | C26: 7.45
A29: INTERNACIONALES
A31: ZONA 1 - Europa incluido Groenlandia
A32: Hasta 20g. Normalizada | B32: 31 | C32: 2
A33: Hasta 50g. | B33: 1 | C33: 2.3
A34: Hasta 100g. | B34: 1 | C34: 3.1
A35: Hasta 500g. | B35: 1 | C35: 7.4
A36: Hasta 1kg. | B36: 1 | C36: 14
A37: Hasta 2Kg. | B37: 1 | C37: 22.1
A39: ZONA 2 - Resto de países, excepto destinos de la Zona 3
A40: Hasta 20g. Normalizada | B40: 3 | C40: 2.1
A41: Hasta 50g. | B41: 1 | C41: 2.6
A42: Hasta 100g. | B42: 1 | C42: 4.3
A43: Hasta 500g. | B43: 1 | C43: 11.08
A44: Hasta 1kg. | B44: 1 | C44: 22.3
A45: Hasta 2Kg. | B45: 1 | C45: 38.4
A47: ZONA 3 - EEUU, Canadá, Japón, Australia y Nueva Zelanda
...
